Workbook

Sheet Procédure
A1: Procédures | J1: Nombre de parties gagnantes | K1: 3
A3: Seules les zones en jaune sont à éditer manuellement | J3: Nombre Terrains | K3: 15
B4: Feuille Équipe → nom des équipes
B5: Feuille Stats → nombre de mènes
B6: Feuilles Mènes → Opposition géré par la feuille Tirage au sort → Résultat des matchs
A8: Une exception peut avoir lieu sur la page Classement si 2 équipes finissent à égalité. Dans ce cas, en fonction des valeurs dans la page Classement, il peut être nécessaire d’éditer manuellement pour établir le classement final
A12: Création d’un tournoi
A14: 1 | B14: On renseigne le nom des équipes sur la feuille Équipe
A15: 2 | B15: On renseigne le nombre de mènes du tournoi sur la feuille Stats
A16: 3 | B16: On génère un tirage au sort sur la feuille Tirage au sort
A17: 4 | B17: On copie le tirage généré sur la feuille Mène correspondante En cas de doublon, le match apparait en rouge. Dans ce cas, on regénère un tirage ou on adapte manuellement
A18: 5 | B18: On rentre les scores des matchs, les tableaux se remplissent automatiquement
A19: 6 | B19: A la fin des mènes, on a le classement du tournoi sur la feuille Classement. En cas d’égalité, la ligne inférieure n’est pas remplie. On recherche sur la feuille Stats les équipes dont le classement correspond à la ligne au-dessus de celle vide L’équipe ayant marqué le plus de points passe devant. On corrige manuellement le tableau de la feuille Classement En cas d’égalité parfaite, les 2 équipes sont au même niveau
A20: 7 | B20: Si on veut faire des finales, les tableaux sont générés automatiquement sur la feuille Finales en fonction du classement

Sheet Équipe
A1: Équipe | C1: Partie 1 | H1: Partie 2 | M1: Partie 3 | R1: Partie 4 | W1: Partie 5 | AB1: Partie 6 | AG1: Partie 7
A2: N° | B2: Nom | C2: Part. | D2: Adv. 1 | E2: Adv. 2 | F2: Score | G2: Score Adv. | H2: Part. | I2: Adv. 1 | J2: Adv. 2 | K2: Score | L2: Score Adv. | M2: Part. | N2: Adv. 1 | O2: Adv. 2 | P2: Score | Q2: Score Adv. | R2: Part. | S2: Adv. 1 | T2: Adv. 2 | U2: Score | V2: Score Adv. | W2: Part. | X2: Adv. 1 | Y2: Adv. 2 | Z2: Score. | AA2: Score Ad. | AB2: Part. | AC2: Adv. 1 | AD2: Adv. 2 | AE2: Score. | AF2: Score Ad. | AG2: Part. | AH2: Adv. 1 | AI2: Adv. 2 | AJ2: Score. | AK2: Score Ad.
A3: 1 | C3: =SUM(_xlfn.IFNA(INDEX('Partie 1'!$C$5:$C$28,MATCH($A3,'Partie 1'!$B$5:$B$28,0),1),0) , _xlfn.IFNA(INDEX('Partie 1'!$B$5:$B$28,MATCH($A3,'Partie 1'!$C$5:$C$28,0),1),0),_xlfn.IFNA(INDEX('Partie 1'!$F$5:$F$28,MATCH($A3,'Partie 1'!$G$5:$G$28,0),1),0),_xlfn.IFNA(INDEX('Partie 1'!$G$5:$G$28,MATCH($A3,'Partie 1'!$F$5:$F$28,0),1),0)) -> 0 | D3: =SUM(_xlfn.IFNA(INDEX('Partie 1'!$F$5:$F$28,MATCH($A3,'Partie 1'!$B$5:$B$28,0),1),0) ,_xlfn.IFNA(INDEX('Partie 1'!$F$5:$F$28,MATCH($A3,'Partie 1'!$C$5:$C$28,0),1),0) , _xlfn.IFNA(INDEX('Partie 1'!$B$5:$B$28,MATCH($A3,'Partie 1'!$F$5:$F$28,0),1),0),_xlfn.IFNA(INDEX('Partie 1'!$B$5:$B$28,MATCH($A3,'Partie 1'!$G$5:$G$28,0),1),0)) -> 0 | E3: =SUM(_xlfn.IFNA(INDEX('Partie 1'!$G$5:$G$28,MATCH($A3,'Partie 1'!$B$5:$B$28,0),1),0) ,_xlfn.IFNA(INDEX('Partie 1'!$G$5:$G$28,MATCH($A3,'Partie 1'!$C$5:$C$28,0),1),0) , _xlfn.IFNA(INDEX('Partie 1'!$C$5:$C$28,MATCH($A3,'Partie 1'!$F$5:$F$28,0),1),0),_xlfn.IFNA(INDEX('Partie 1'!$C$5:$C$28,MATCH($A3,'Partie 1'!$G$5:$G$28,0),1),0)) -> 0 | F3: =SUM(_xlfn.IFNA(INDEX('Partie 1'!$J$5:$J$28,MATCH($A3,'Partie 1'!$B$5:$B$28,0),1),0) ,_xlfn.IFNA(INDEX('Partie 1'!$J$5:$J$28,MATCH($A3,'Partie 1'!$C$5:$C$28,0),1),0) , _xlfn.IFNA(INDEX('Partie 1'!$K$5:$K$28,MATCH($A3,'Partie 1'!$F$5:$F$28,0),1),0), _xlfn.IFNA(INDEX('Partie 1'!$K$5:$K$28,MATCH($A3,'Partie 1'!$G$5:$G$28,0),1),0)) -> 0 | G3: =SUM(_xlfn.IFNA(INDEX('Partie 1'!$K$5:$K$28,MATCH($A3,'Partie 1'!$B$5:$B$28,0),1),0) ,_xlfn.IFNA(INDEX('Partie 1'!$K$5:$K$28,MATCH($A3,'Partie 1'!$C$5:$C$28,0),1),0) , _xlfn.IFNA(INDEX('Partie 1'!$J$5:$J$28,MATCH($A3,'Partie 1'!$F$5:$F$28,0),1),0), _xlfn.IFNA(INDEX('Partie 1'!$J$5:$J$28,MATCH($A3,'Partie 1'!$G$5:$G$28,0),1),0)) -> 0 | H3: =SUM(_xlfn.IFNA(INDEX('Partie 2'!$C$5:$C$28,MATCH($A3,'Partie 2'!$B$5:$B$28,0),1),0) , _xlfn.IFNA(INDEX('Partie 2'!$B$5:$B$28,MATCH($A3,'Partie 2'!$C$5:$C$28,0),1),0),_xlfn.IFNA(INDEX('Partie 2'!$F$5:$F$28,MATCH($A3,'Partie 2'!$G$5:$G$28,0),1),0),_xlfn.IFNA(INDEX('Partie 2'!$G$5:$G$28,MATCH($A3,'Partie 2'!$F$5:$F$28,0),1),0)) -> 0 | I3: =SUM(_xlfn.IFNA(INDEX('Partie 2'!$F$5:$F$28,MATCH($A3,'Partie 2'!$B$5:$B$28,0),1),0) ,_xlfn.IFNA(INDEX('Partie 2'!$F$5:$F$28,MATCH($A3,'Partie 2'!$C$5:$C$28,0),1),0) , _xlfn.IFNA(INDEX('Partie 2'!$B$5:$B$28,MATCH($A3,'Partie 2'!$F$5:$F$28,0),1),0),_xlfn.IFNA(INDEX('Partie 2'!$B$5:$B$28,MATCH($A3,'Partie 2'!$G$5:$G$28,0),1),0)) -> 0 | J3: =SUM(_xlfn.IFNA(INDEX('Partie 2'!$G$5:$G$28,MATCH($A3,'Partie 2'!$B$5:$B$28,0),1),0) ,_xlfn.IFNA(INDEX('Partie 2'!$G$5:$G$28,MATCH($A3,'Partie 2'!$C$5:$C$28,0),1),0) , _xlfn.IFNA(INDEX('Partie 2'!$C$5:$C$28,MATCH($A3,'Partie 2'!$F$5:$F$28,0),1),0),_xlfn.IFNA(INDEX('Partie 2'!$C$5:$C$28,MATCH($A3,'Partie 2'!$G$5:$G$28,0),1),0)) -> 0 | K3: =SUM(_xlfn.IFNA(INDEX('Partie 2'!$J$5:$J$28,MATCH($A3,'Partie 2'!$B$5:$B$28,0),1),0) ,_xlfn.IFNA(INDEX('Partie 2'!$J$5:$J$28,MATCH($A3,'Partie 2'!$C$5:$C$28,0),1),0) , _xlfn.IFNA(INDEX('Partie 2'!$K$5:$K$28,MATCH($A3,'Partie 2'!$F$5:$F$28,0),1),0), _xlfn.IFNA(INDEX('Partie 2'!$K$5:$K$28,MATCH($A3,'Partie 2'!$G$5:$G$28,0),1),0)) -> 0 | L3: =SUM(_xlfn.IFNA(INDEX('Partie 2'!$K$5:$K$28,MATCH($A3,'Partie 2'!$B$5:$B$28,0),1),0) ,_xlfn.IFNA(INDEX('Partie 2'!$K$5:$K$28,MATCH($A3,'Partie 2'!$C$5:$C$28,0),1),0) , _xlfn.IFNA(INDEX('Partie 2'!$J$5:$J$28,MATCH($A3,'Partie 2'!$F$5:$F$28,0),1),0), _xlfn.IFNA(INDEX('Partie 2'!$J$5:$J$28,MATCH($A3,'Partie 2'!$G$5:$G$28,0),1),0)) -> 0 | M3: =SUM(_xlfn.IFNA(INDEX('Partie 3'!$C$5:$C$28,MATCH($A3,'Partie 3'!$B$5:$B$28,0),1),0) , _xlfn.IFNA(INDEX('Partie 3'!$B$5:$B$28,MATCH($A3,'Partie 3'!$C$5:$C$28,0),1),0),_xlfn.IFNA(INDEX('Partie 3'!$F$5:$F$28,MATCH($A3,'Partie 3'!$G$5:$G$28,0),1),0),_xlfn.IFNA(INDEX('Partie 3'!$G$5:$G$28,MATCH($A3,'Partie 3'!$F$5:$F$28,0),1),0)) -> 0 | N3: =SUM(_xlfn.IFNA(INDEX('Partie 3'!$F$5:$F$28,MATCH($A3,'Partie 3'!$B$5:$B$28,0),1),0) ,_xlfn.IFNA(INDEX('Partie 3'!$F$5:$F$28,MATCH($A3,'Partie 3'!$C$5:$C$28,0),1),0) , _xlfn.IFNA(INDEX('Partie 3'!$B$5:$B$28,MATCH($A3,'Partie 3'!$F$5:$F$28,0),1),0),_xlfn.IFNA(INDEX('Partie 3'!$B$5:$B$28,MATCH($A3,'Partie 3'!$G$5:$G$28,0),1),0)) -> 0 | O3: =SUM(_xlfn.IFNA(INDEX('Partie 3'!$G$5:$G$28,MATCH($A3,'Partie 3'!$B$5:$B$28,0),1),0) ,_xlfn.IFNA(INDEX('Partie 3'!$G$5:$G$28,MATCH($A3,'Partie 3'!$C$5:$C$28,0),1),0) , _xlfn.IFNA(INDEX('Partie 3'!$C$5:$C$28,MATCH($A3,'Partie 3'!$F$5:$F$28,0),1),0),_xlfn.IFNA(INDEX('Partie 3'!$C$5:$C$28,MATCH($A3,'Partie 3'!$G$5:$G$28,0),1),0)) -> 0 | P3: =SUM(_xlfn.IFNA(INDEX('Partie 3'!$J$5:$J$28,MATCH($A3,'Partie 3'!$B$5:$B$28,0),1),0) ,_xlfn.IFNA(INDEX('Partie 3'!$J$5:$J$28,MATCH($A3,'Partie 3'!$C$5:$C$28,0),1),0) , _xlfn.IFNA(INDEX('Partie 3'!$K$5:$K$28,MATCH($A3,'Partie 3'!$F$5:$F$28,0),1),0), _xlfn.IFNA(INDEX('Partie 3'!$K$5:$K$28,MATCH($A3,'Partie 3'!$G$5:$G$28,0),1),0)) -> 0 | Q3: =SUM(_xlfn.IFNA(INDEX('Partie 3'!$K$5:$K$28,MATCH($A3,'Partie 3'!$B$5:$B$28,0),1),0) ,_xlfn.IFNA(INDEX('Partie 3'!$K$5:$K$28,MATCH($A3,'Partie 3'!$C$5:$C$28,0),1),0) , _xlfn.IFNA(INDEX('Partie 3'!$J$5:$J$28,MATCH($A3,'Partie 3'!$F$5:$F$28,0),1),0), _xlfn.IFNA(INDEX('Partie 3'!$J$5:$J$28,MATCH($A3,'Partie 3'!$G$5:$G$28,0),1),0)) -> 0 | R3: =SUM(_xlfn.IFNA(INDEX('Partie 4'!$C$5:$C$28,MATCH($A3,'Partie 4'!$B$5:$B$28,0),1),0) , _xlfn.IFNA(INDEX('Partie 4'!$B$5:$B$28,MATCH($A3,'Partie 4'!$C$5:$C$28,0),1),0),_xlfn.IFNA(INDEX('Partie 4'!$F$5:$F$28,MATCH($A3,'Partie 4'!$G$5:$G$28,0),1),0),_xlfn.IFNA(INDEX('Partie 4'!$G$5:$G$28,MATCH($A3,'Partie 4'!$F$5:$F$28,0),1),0)) -> 0 | S3: =SUM(_xlfn.IFNA(INDEX('Partie 4'!$F$5:$F$28,MATCH($A3,'Partie 4'!$B$5:$B$28,0),1),0) ,_xlfn.IFNA(INDEX('Partie 4'!$F$5:$F$28,MATCH($A3,'Partie 4'!$C$5:$C$28,0),1),0) , _xlfn.IFNA(INDEX('Partie 4'!$B$5:$B$28,MATCH($A3,'Partie 4'!$F$5:$F$28,0),1),0),_xlfn.IFNA(INDEX('Partie 4'!$B$5:$B$28,MATCH($A3,'Partie 4'!$G$5:$G$28,0),1),0)) -> 0 | T3: =SUM(_xlfn.IFNA(INDEX('Partie 4'!$G$5:$G$28,MATCH($A3,'Partie 4'!$B$5:$B$28,0),1),0) ,_xlfn.IFNA(INDEX('Partie 4'!$G$5:$G$28,MATCH($A3,'Partie 4'!$C$5:$C$28,0),1),0) , _xlfn.IFNA(INDEX('Partie 4'!$C$5:$C$28,MATCH($A3,'Partie 4'!$F$5:$F$28,0),1),0),_xlfn.IFNA(INDEX('Partie 4'!$C$5:$C$28,MATCH($A3,'Partie 4'!$G$5:$G$28,0),1),0)) -> 0 | U3: =SUM(_xlfn.IFNA(INDEX('Partie 4'!$J$5:$J$28,MATCH($A3,'Partie 4'!$B$5:$B$28,0),1),0) ,_xlfn.IFNA(INDEX('Partie 4'!$J$5:$J$28,MATCH($A3,'Partie 4'!$C$5:$C$28,0),1),0) , _xlfn.IFNA(INDEX('Partie 4'!$K$5:$K$28,MATCH($A3,'Partie 4'!$F$5:$F$28,0),1),0), _xlfn.IFNA(INDEX('Partie 4'!$K$5:$K$28,MATCH($A3,'Partie 4'!$G$5:$G$28,0),1),0)) -> 0 | V3: =SUM(_xlfn.IFNA(INDEX('Partie 4'!$K$5:$K$28,MATCH($A3,'Partie 4'!$B$5:$B$28,0),1),0) ,_xlfn.IFNA(INDEX('Partie 4'!$K$5:$K$28,MATCH($A3,'Partie 4'!$C$5:$C$28,0),1),0) , _xlfn.IFNA(INDEX('Partie 4'!$J$5:$J$28,MATCH($A3,'Partie 4'!$F$5:$F$28,0),1),0), _xlfn.IFNA(INDEX('Partie 4'!$J$5:$J$28,MATCH($A3,'Partie 4'!$G$5:$G$28,0),1),0)) -> 0 | W3: =SUM(_xlfn.IFNA(INDEX('Partie 5'!$C$5:$C$28,MATCH($A3,'Partie 5'!$B$5:$B$28,0),1),0) , _xlfn.IFNA(INDEX('Partie 5'!$B$5:$B$28,MATCH($A3,'Partie 5'!$C$5:$C$28,0),1),0),_xlfn.IFNA(INDEX('Partie 5'!$F$5:$F$28,MATCH($A3,'Partie 5'!$G$5:$G$28,0),1),0),_xlfn.IFNA(INDEX('Partie 5'!$G$5:$G$28,MATCH($A3,'Partie 5'!$F$5:$F$28,0),1),0)) -> 0 | X3: =SUM(_xlfn.IFNA(INDEX('Partie 5'!$F$5:$F$28,MATCH($A3,'Partie 5'!$B$5:$B$28,0),1),0) ,_xlfn.IFNA(INDEX('Partie 5'!$F$5:$F$28,MATCH($A3,'Partie 5'!$C$5:$C$28,0),1),0) , _xlfn.IFNA(INDEX('Partie 5'!$B$5:$B$28,MATCH($A3,'Partie 5'!$F$5:$F$28,0),1),0),_xlfn.IFNA(INDEX('Partie 5'!$B$5:$B$28,MATCH($A3,'Partie 5'!$G$5:$G$28,0),1),0)) -> 0 | Y3: =SUM(_xlfn.IFNA(INDEX('Partie 5'!$G$5:$G$28,MATCH($A3,'Partie 5'!$B$5:$B$28,0),1),0) ,_xlfn.IFNA(INDEX('Partie 5'!$G$5:$G$28,MATCH($A3,'Partie 5'!$C$5:$C$28,0),1),0) , _xlfn.IFNA(INDEX('Partie 5'!$C$5:$C$28,MATCH($A3,'Partie 5'!$F$5:$F$28,0),1),0),_xlfn.IFNA(INDEX('Partie 5'!$C$5:$C$28,MATCH($A3,'Partie 5'!$G$5:$G$28,0),1),0)) -> 0 | Z3: =SUM(_xlfn.IFNA(INDEX('Partie 5'!$J$5:$J$28,MATCH($A3,'Partie 5'!$B$5:$B$28,0),1),0) ,_xlfn.IFNA(INDEX('Partie 5'!$J$5:$J$28,MATCH($A3,'Partie 5'!$C$5:$C$28,0),1),0) , _xlfn.IFNA(INDEX('Partie 5'!$K$5:$K$28,MATCH($A3,'Partie 5'!$F$5:$F$28,0),1),0), _xlfn.IFNA(INDEX('Partie 5'!$K$5:$K$28,MATCH($A3,'Partie 5'!$G$5:$G$28,0),1),0)) -> 0 | AA3: =SUM(_xlfn.IFNA(INDEX('Partie 5'!$K$5:$K$28,MATCH($A3,'Partie 5'!$B$5:$B$28,0),1),0) ,_xlfn.IFNA(INDEX('Partie 5'!$K$5:$K$28,MATCH($A3,'Partie 5'!$C$5:$C$28,0),1),0) , _xlfn.IFNA(INDEX('Partie 5'!$J$5:$J$28,MATCH($A3,'Partie 5'!$F$5:$F$28,0),1),0), _xlfn.IFNA(INDEX('Partie 5'!$J$5:$J$28,MATCH($A3,'Partie 5'!$G$5:$G$28,0),1),0)) -> 0 | AB3: =SUM(_xlfn.IFNA(INDEX('Partie 6'!$C$5:$C$28,MATCH($A3,'Partie 6'!$B$5:$B$28,0),1),0) , _xlfn.IFNA(INDEX('Partie 6'!$B$5:$B$28,MATCH($A3,'Partie 6'!$C$5:$C$28,0),1),0),_xlfn.IFNA(INDEX('Partie 6'!$F$5:$F$28,MATCH($A3,'Partie 6'!$G$5:$G$28,0),1),0),_xlfn.IFNA(INDEX('Partie 6'!$G$5:$G$28,MATCH($A3,'Partie 6'!$F$5:$F$28,0),1),0)) -> 0 | AC3: =SUM(_xlfn.IFNA(INDEX('Partie 6'!$F$5:$F$28,MATCH($A3,'Partie 6'!$B$5:$B$28,0),1),0) ,_xlfn.IFNA(INDEX('Partie 6'!$F$5:$F$28,MATCH($A3,'Partie 6'!$C$5:$C$28,0),1),0) , _xlfn.IFNA(INDEX('Partie 6'!$B$5:$B$28,MATCH($A3,'Partie 6'!$F$5:$F$28,0),1),0),_xlfn.IFNA(INDEX('Partie 6'!$B$5:$B$28,MATCH($A3,'Partie 6'!$G$5:$G$28,0),1),0)) -> 0 | AD3: =SUM(_xlfn.IFNA(INDEX('Partie 6'!$G$5:$G$28,MATCH($A3,'Partie 6'!$B$5:$B$28,0),1),0) ,_xlfn.IFNA(INDEX('Partie 6'!$G$5:$G$28,MATCH($A3,'Partie 6'!$C$5:$C$28,0),1),0) , _xlfn.IFNA(INDEX('Partie 6'!$C$5:$C$28,MATCH($A3,'Partie 6'!$F$5:$F$28,0),1),0),_xlfn.IFNA(INDEX('Partie 6'!$C$5:$C$28,MATCH($A3,'Partie 6'!$G$5:$G$28,0),1),0)) -> 0 | AE3: =SUM(_xlfn.IFNA(INDEX('Partie 6'!$J$5:$J$28,MATCH($A3,'Partie 6'!$B$5:$B$28,0),1),0) ,_xlfn.IFNA(INDEX('Partie 6'!$J$5:$J$28,MATCH($A3,'Partie 6'!$C$5:$C$28,0),1),0) , _xlfn.IFNA(INDEX('Partie 6'!$K$5:$K$28,MATCH($A3,'Partie 6'!$F$5:$F$28,0),1),0), _xlfn.IFNA(INDEX('Partie 6'!$K$5:$K$28,MATCH($A3,'Partie 6'!$G$5:$G$28,0),1),0)) -> 0 | AF3: =SUM(_xlfn.IFNA(INDEX('Partie 6'!$K$5:$K$28,MATCH($A3,'Partie 6'!$B$5:$B$28,0),1),0) ,_xlfn.IFNA(INDEX('Partie 6'!$K$5:$K$28,MATCH($A3,'Partie 6'!$C$5:$C$28,0),1),0) , _xlfn.IFNA(INDEX('Partie 6'!$J$5:$J$28,MATCH($A3,'Partie 6'!$F$5:$F$28,0),1),0), _xlfn.IFNA(INDEX('Partie 6'!$J$5:$J$28,MATCH($A3,'Partie 6'!$G$5:$G$28,0),1),0)) -> 0 | AG3: =SUM(_xlfn.IFNA(INDEX('Partie 7'!$C$5:$C$28,MATCH($A3,'Partie 7'!$B$5:$B$28,0),1),0) , _xlfn.IFNA(INDEX('Partie 7'!$B$5:$B$28,MATCH($A3,'Partie 7'!$C$5:$C$28,0),1),0),_xlfn.IFNA(INDEX('Partie 7'!$F$5:$F$28,MATCH($A3,'Partie 7'!$G$5:$G$28,0),1),0),_xlfn.IFNA(INDEX('Partie 7'!$G$5:$G$28,MATCH($A3,'Partie 7'!$F$5:$F$28,0),1),0)) -> 0 | AH3: =SUM(_xlfn.IFNA(INDEX('Partie 7'!$F$5:$F$28,MATCH($A3,'Partie 7'!$B$5:$B$28,0),1),0) ,_xlfn.IFNA(INDEX('Partie 7'!$F$5:$F$28,MATCH($A3,'Partie 7'!$C$5:$C$28,0),1),0) , _xlfn.IFNA(INDEX('Partie 7'!$B$5:$B$28,MATCH($A3,'Partie 7'!$F$5:$F$28,0),1),0),_xlfn.IFNA(INDEX('Partie 7'!$B$5:$B$28,MATCH($A3,'Partie 7'!$G$5:$G$28,0),1),0)) -> 0 | AI3: =SUM(_xlfn.IFNA(INDEX('Partie 7'!$G$5:$G$28,MATCH($A3,'Partie 7'!$B$5:$B$28,0),1),0) ,_xlfn.IFNA(INDEX('Partie 7'!$G$5:$G$28,MATCH($A3,'Partie 7'!$C$5:$C$28,0),1),0) , _xlfn.IFNA(INDEX('Partie 7'!$C$5:$C$28,MATCH($A3,'Partie 7'!$F$5:$F$28,0),1),0),_xlfn.IFNA(INDEX('Partie 7'!$C$5:$C$28,MATCH($A3,'Partie 7'!$G$5:$G$28,0),1),0)) -> 0 | AJ3: =SUM(_xlfn.IFNA(INDEX('Partie 7'!$J$5:$J$28,MATCH($A3,'Partie 7'!$B$5:$B$28,0),1),0) ,_xlfn.IFNA(INDEX('Partie 7'!$J$5:$J$28,MATCH($A3,'Partie 7'!$C$5:$C$28,0),1),0) , _xlfn.IFNA(INDEX('Partie 7'!$K$5:$K$28,MATCH($A3,'Partie 7'!$F$5:$F$28,0),1),0), _xlfn.IFNA(INDEX('Partie 7'!$K$5:$K$28,MATCH($A3,'Partie 7'!$G$5:$G$28,0),1),0)) -> 0 | AK3: =SUM(_xlfn.IFNA(INDEX('Partie 7'!$K$5:$K$28,MATCH($A3,'Partie 7'!$B$5:$B$28,0),1),0) ,_xlfn.IFNA(INDEX('Partie 7'!$K$5:$K$28,MATCH($A3,'Partie 7'!$C$5:$C$28,0),1),0) , _xlfn.IFNA(INDEX('Partie 7'!$J$5:$J$28,MATCH($A3,'Partie 7'!$F$5:$F$28,0),1),0), _xlfn.IFNA(INDEX('Partie 7'!$J$5:$J$28,MATCH($A3,'Partie 7'!$G$5:$G$28,0),1),0)) -> 0
A4: 2 | C4: =SUM(_xlfn.IFNA(INDEX('Partie 1'!$C$5:$C$28,MATCH($A4,'Partie 1'!$B$5:$B$28,0),1),0) , _xlfn.IFNA(INDEX('Partie 1'!$B$5:$B$28,MATCH($A4,'Partie 1'!$C$5:$C$28,0),1),0),_xlfn.IFNA(INDEX('Partie 1'!$F$5:$F$28,MATCH($A4,'Partie 1'!$G$5:$G$28,0),1),0),_xlfn.IFNA(INDEX('Partie 1'!$G$5:$G$28,MATCH($A4,'Partie 1'!$F$5:$F$28,0),1),0)) -> 0 | D4: =SUM(_xlfn.IFNA(INDEX('Partie 1'!$F$5:$F$28,MATCH($A4,'Partie 1'!$B$5:$B$28,0),1),0) ,_xlfn.IFNA(INDEX('Partie 1'!$F$5:$F$28,MATCH($A4,'Partie 1'!$C$5:$C$28,0),1),0) , _xlfn.IFNA(INDEX('Partie 1'!$B$5:$B$28,MATCH($A4,'Partie 1'!$F$5:$F$28,0),1),0),_xlfn.IFNA(INDEX('Partie 1'!$B$5:$B$28,MATCH($A4,'Partie 1'!$G$5:$G$28,0),1),0)) -> 0 | E4: =SUM(_xlfn.IFNA(INDEX('Partie 1'!$G$5:$G$28,MATCH($A4,'Partie 1'!$B$5:$B$28,0),1),0) ,_xlfn.IFNA(INDEX('Partie 1'!$G$5:$G$28,MATCH($A4,'Partie 1'!$C$5:$C$28,0),1),0) , _xlfn.IFNA(INDEX('Partie 1'!$C$5:$C$28,MATCH($A4,'Partie 1'!$F$5:$F$28,0),1),0),_xlfn.IFNA(INDEX('Partie 1'!$C$5:$C$28,MATCH($A4,'Partie 1'!$G$5:$G$28,0),1),0)) -> 0 | F4: =SUM(_xlfn.IFNA(INDEX('Partie 1'!$J$5:$J$28,MATCH($A4,'Partie 1'!$B$5:$B$28,0),1),0) ,_xlfn.IFNA(INDEX('Partie 1'!$J$5:$J$28,MATCH($A4,'Partie 1'!$C$5:$C$28,0),1),0) , _xlfn.IFNA(INDEX('Partie 1'!$K$5:$K$28,MATCH($A4,'Partie 1'!$F$5:$F$28,0),1),0), _xlfn.IFNA(INDEX('Partie 1'!$K$5:$K$28,MATCH($A4,'Partie 1'!$G$5:$G$28,0),1),0)) -> 0 | G4: =SUM(_xlfn.IFNA(INDEX('Partie 1'!$K$5:$K$28,MATCH($A4,'Partie 1'!$B$5:$B$28,0),1),0) ,_xlfn.IFNA(INDEX('Partie 1'!$K$5:$K$28,MATCH($A4,'Partie 1'!$C$5:$C$28,0),1),0) , _xlfn.IFNA(INDEX('Partie 1'!$J$5:$J$28,MATCH($A4,'Partie 1'!$F$5:$F$28,0),1),0), _xlfn.IFNA(INDEX('Partie 1'!$J$5:$J$28,MATCH($A4,'Partie 1'!$G$5:$G$28,0),1),0)) -> 0 | H4: =SUM(_xlfn.IFNA(INDEX('Partie 2'!$C$5:$C$28,MATCH($A4,'Partie 2'!$B$5:$B$28,0),1),0) , _xlfn.IFNA(INDEX('Partie 2'!$B$5:$B$28,MATCH($A4,'Partie 2'!$C$5:$C$28,0),1),0),_xlfn.IFNA(INDEX('Partie 2'!$F$5:$F$28,MATCH($A4,'Partie 2'!$G$5:$G$28,0),1),0),_xlfn.IFNA(INDEX('Partie 2'!$G$5:$G$28,MATCH($A4,'Partie 2'!$F$5:$F$28,0),1),0)) -> 0 | I4: =SUM(_xlfn.IFNA(INDEX('Partie 2'!$F$5:$F$28,MATCH($A4,'Partie 2'!$B$5:$B$28,0),1),0) ,_xlfn.IFNA(INDEX('Partie 2'!$F$5:$F$28,MATCH($A4,'Partie 2'!$C$5:$C$28,0),1),0) , _xlfn.IFNA(INDEX('Partie 2'!$B$5:$B$28,MATCH($A4,'Partie 2'!$F$5:$F$28,0),1),0),_xlfn.IFNA(INDEX('Partie 2'!$B$5:$B$28,MATCH($A4,'Partie 2'!$G$5:$G$28,0),1),0)) -> 0 | J4: =SUM(_xlfn.IFNA(INDEX('Partie 2'!$G$5:$G$28,MATCH($A4,'Partie 2'!$B$5:$B$28,0),1),0) ,_xlfn.IFNA(INDEX('Partie 2'!$G$5:$G$28,MATCH($A4,'Partie 2'!$C$5:$C$28,0),1),0) , _xlfn.IFNA(INDEX('Partie 2'!$C$5:$C$28,MATCH($A4,'Partie 2'!$F$5:$F$28,0),1),0),_xlfn.IFNA(INDEX('Partie 2'!$C$5:$C$28,MATCH($A4,'Partie 2'!$G$5:$G$28,0),1),0)) -> 0 | K4: =SUM(_xlfn.IFNA(INDEX('Partie 2'!$J$5:$J$28,MATCH($A4,'Partie 2'!$B$5:$B$28,0),1),0) ,_xlfn.IFNA(INDEX('Partie 2'!$J$5:$J$28,MATCH($A4,'Partie 2'!$C$5:$C$28,0),1),0) , _xlfn.IFNA(INDEX('Partie 2'!$K$5:$K$28,MATCH($A4,'Partie 2'!$F$5:$F$28,0),1),0), _xlfn.IFNA(INDEX('Partie 2'!$K$5:$K$28,MATCH($A4,'Partie 2'!$G$5:$G$28,0),1),0)) -> 0 | L4: =SUM(_xlfn.IFNA(INDEX('Partie 2'!$K$5:$K$28,MATCH($A4,'Partie 2'!$B$5:$B$28,0),1),0) ,_xlfn.IFNA(INDEX('Partie 2'!$K$5:$K$28,MATCH($A4,'Partie 2'!$C$5:$C$28,0),1),0) , _xlfn.IFNA(INDEX('Partie 2'!$J$5:$J$28,MATCH($A4,'Partie 2'!$F$5:$F$28,0),1),0), _xlfn.IFNA(INDEX('Partie 2'!$J$5:$J$28,MATCH($A4,'Partie 2'!$G$5:$G$28,0),1),0)) -> 0 | M4: =SUM(_xlfn.IFNA(INDEX('Partie 3'!$C$5:$C$28,MATCH($A4,'Partie 3'!$B$5:$B$28,0),1),0) , _xlfn.IFNA(INDEX('Partie 3'!$B$5:$B$28,MATCH($A4,'Partie 3'!$C$5:$C$28,0),1),0),_xlfn.IFNA(INDEX('Partie 3'!$F$5:$F$28,MATCH($A4,'Partie 3'!$G$5:$G$28,0),1),0),_xlfn.IFNA(INDEX('Partie 3'!$G$5:$G$28,MATCH($A4,'Partie 3'!$F$5:$F$28,0),1),0)) -> 0 | N4: =SUM(_xlfn.IFNA(INDEX('Partie 3'!$F$5:$F$28,MATCH($A4,'Partie 3'!$B$5:$B$28,0),1),0) ,_xlfn.IFNA(INDEX('Partie 3'!$F$5:$F$28,MATCH($A4,'Partie 3'!$C$5:$C$28,0),1),0) , _xlfn.IFNA(INDEX('Partie 3'!$B$5:$B$28,MATCH($A4,'Partie 3'!$F$5:$F$28,0),1),0),_xlfn.IFNA(INDEX('Partie 3'!$B$5:$B$28,MATCH($A4,'Partie 3'!$G$5:$G$28,0),1),0)) -> 0 | O4: =SUM(_xlfn.IFNA(INDEX('Partie 3'!$G$5:$G$28,MATCH($A4,'Partie 3'!$B$5:$B$28,0),1),0) ,_xlfn.IFNA(INDEX('Partie 3'!$G$5:$G$28,MATCH($A4,'Partie 3'!$C$5:$C$28,0),1),0) , _xlfn.IFNA(INDEX('Partie 3'!$C$5:$C$28,MATCH($A4,'Partie 3'!$F$5:$F$28,0),1),0),_xlfn.IFNA(INDEX('Partie 3'!$C$5:$C$28,MATCH($A4,'Partie 3'!$G$5:$G$28,0),1),0)) -> 0 | P4: =SUM(_xlfn.IFNA(INDEX('Partie 3'!$J$5:$J$28,MATCH($A4,'Partie 3'!$B$5:$B$28,0),1),0) ,_xlfn.IFNA(INDEX('Partie 3'!$J$5:$J$28,MATCH($A4,'Partie 3'!$C$5:$C$28,0),1),0) , _xlfn.IFNA(INDEX('Partie 3'!$K$5:$K$28,MATCH($A4,'Partie 3'!$F$5:$F$28,0),1),0), _xlfn.IFNA(INDEX('Partie 3'!$K$5:$K$28,MATCH($A4,'Partie 3'!$G$5:$G$28,0),1),0)) -> 0 | Q4: =SUM(_xlfn.IFNA(INDEX('Partie 3'!$K$5:$K$28,MATCH($A4,'Partie 3'!$B$5:$B$28,0),1),0) ,_xlfn.IFNA(INDEX('Partie 3'!$K$5:$K$28,MATCH($A4,'Partie 3'!$C$5:$C$28,0),1),0) , _xlfn.IFNA(INDEX('Partie 3'!$J$5:$J$28,MATCH($A4,'Partie 3'!$F$5:$F$28,0),1),0), _xlfn.IFNA(INDEX('Partie 3'!$J$5:$J$28,MATCH($A4,'Partie 3'!$G$5:$G$28,0),1),0)) -> 0 | R4: =SUM(_xlfn.IFNA(INDEX('Partie 4'!$C$5:$C$28,MATCH($A4,'Partie 4'!$B$5:$B$28,0),1),0) , _xlfn.IFNA(INDEX('Partie 4'!$B$5:$B$28,MATCH($A4,'Partie 4'!$C$5:$C$28,0),1),0),_xlfn.IFNA(INDEX('Partie 4'!$F$5:$F$28,MATCH($A4,'Partie 4'!$G$5:$G$28,0),1),0),_xlfn.IFNA(INDEX('Partie 4'!$G$5:$G$28,MATCH($A4,'Partie 4'!$F$5:$F$28,0),1),0)) -> 0 | S4: =SUM(_xlfn.IFNA(INDEX('Partie 4'!$F$5:$F$28,MATCH($A4,'Partie 4'!$B$5:$B$28,0),1),0) ,_xlfn.IFNA(INDEX('Partie 4'!$F$5:$F$28,MATCH($A4,'Partie 4'!$C$5:$C$28,0),1),0) , _xlfn.IFNA(INDEX('Partie 4'!$B$5:$B$28,MATCH($A4,'Partie 4'!$F$5:$F$28,0),1),0),_xlfn.IFNA(INDEX('Partie 4'!$B$5:$B$28,MATCH($A4,'Partie 4'!$G$5:$G$28,0),1),0)) -> 0 | T4: =SUM(_xlfn.IFNA(INDEX('Partie 4'!$G$5:$G$28,MATCH($A4,'Partie 4'!$B$5:$B$28,0),1),0) ,_xlfn.IFNA(INDEX('Partie 4'!$G$5:$G$28,MATCH($A4,'Partie 4'!$C$5:$C$28,0),1),0) , _xlfn.IFNA(INDEX('Partie 4'!$C$5:$C$28,MATCH($A4,'Partie 4'!$F$5:$F$28,0),1),0),_xlfn.IFNA(INDEX('Partie 4'!$C$5:$C$28,MATCH($A4,'Partie 4'!$G$5:$G$28,0),1),0)) -> 0 | U4: =SUM(_xlfn.IFNA(INDEX('Partie 4'!$J$5:$J$28,MATCH($A4,'Partie 4'!$B$5:$B$28,0),1),0) ,_xlfn.IFNA(INDEX('Partie 4'!$J$5:$J$28,MATCH($A4,'Partie 4'!$C$5:$C$28,0),1),0) , _xlfn.IFNA(INDEX('Partie 4'!$K$5:$K$28,MATCH($A4,'Partie 4'!$F$5:$F$28,0),1),0), _xlfn.IFNA(INDEX('Partie 4'!$K$5:$K$28,MATCH($A4,'Partie 4'!$G$5:$G$28,0),1),0)) -> 0 | V4: =SUM(_xlfn.IFNA(INDEX('Partie 4'!$K$5:$K$28,MATCH($A4,'Partie 4'!$B$5:$B$28,0),1),0) ,_xlfn.IFNA(INDEX('Partie 4'!$K$5:$K$28,MATCH($A4,'Partie 4'!$C$5:$C$28,0),1),0) , _xlfn.IFNA(INDEX('Partie 4'!$J$5:$J$28,MATCH($A4,'Partie 4'!$F$5:$F$28,0),1),0), _xlfn.IFNA(INDEX('Partie 4'!$J$5:$J$28,MATCH($A4,'Partie 4'!$G$5:$G$28,0),1),0)) -> 0 | W4: =SUM(_xlfn.IFNA(INDEX('Partie 5'!$C$5:$C$28,MATCH($A4,'Partie 5'!$B$5:$B$28,0),1),0) , _xlfn.IFNA(INDEX('Partie 5'!$B$5:$B$28,MATCH($A4,'Partie 5'!$C$5:$C$28,0),1),0),_xlfn.IFNA(INDEX('Partie 5'!$F$5:$F$28,MATCH($A4,'Partie 5'!$G$5:$G$28,0),1),0),_xlfn.IFNA(INDEX('Partie 5'!$G$5:$G$28,MATCH($A4,'Partie 5'!$F$5:$F$28,0),1),0)) -> 0 | X4: =SUM(_xlfn.IFNA(INDEX('Partie 5'!$F$5:$F$28,MATCH($A4,'Partie 5'!$B$5:$B$28,0),1),0) ,_xlfn.IFNA(INDEX('Partie 5'!$F$5:$F$28,MATCH($A4,'Partie 5'!$C$5:$C$28,0),1),0) , _xlfn.IFNA(INDEX('Partie 5'!$B$5:$B$28,MATCH($A4,'Partie 5'!$F$5:$F$28,0),1),0),_xlfn.IFNA(INDEX('Partie 5'!$B$5:$B$28,MATCH($A4,'Partie 5'!$G$5:$G$28,0),1),0)) -> 0 | Y4: =SUM(_xlfn.IFNA(INDEX('Partie 5'!$G$5:$G$28,MATCH($A4,'Partie 5'!$B$5:$B$28,0),1),0) ,_xlfn.IFNA(INDEX('Partie 5'!$G$5:$G$28,MATCH($A4,'Partie 5'!$C$5:$C$28,0),1),0) , _xlfn.IFNA(INDEX('Partie 5'!$C$5:$C$28,MATCH($A4,'Partie 5'!$F$5:$F$28,0),1),0),_xlfn.IFNA(INDEX('Partie 5'!$C$5:$C$28,MATCH($A4,'Partie 5'!$G$5:$G$28,0),1),0)) -> 0 | Z4: =SUM(_xlfn.IFNA(INDEX('Partie 5'!$J$5:$J$28,MATCH($A4,'Partie 5'!$B$5:$B$28,0),1),0) ,_xlfn.IFNA(INDEX('Partie 5'!$J$5:$J$28,MATCH($A4,'Partie 5'!$C$5:$C$28,0),1),0) , _xlfn.IFNA(INDEX('Partie 5'!$K$5:$K$28,MATCH($A4,'Partie 5'!$F$5:$F$28,0),1),0), _xlfn.IFNA(INDEX('Partie 5'!$K$5:$K$28,MATCH($A4,'Partie 5'!$G$5:$G$28,0),1),0)) -> 0 | AA4: =SUM(_xlfn.IFNA(INDEX('Partie 5'!$K$5:$K$28,MATCH($A4,'Partie 5'!$B$5:$B$28,0),1),0) ,_xlfn.IFNA(INDEX('Partie 5'!$K$5:$K$28,MATCH($A4,'Partie 5'!$C$5:$C$28,0),1),0) , _xlfn.IFNA(INDEX('Partie 5'!$J$5:$J$28,MATCH($A4,'Partie 5'!$F$5:$F$28,0),1),0), _xlfn.IFNA(INDEX('Partie 5'!$J$5:$J$28,MATCH($A4,'Partie 5'!$G$5:$G$28,0),1),0)) -> 0 | AB4: =SUM(_xlfn.IFNA(INDEX('Partie 6'!$C$5:$C$28,MATCH($A4,'Partie 6'!$B$5:$B$28,0),1),0) , _xlfn.IFNA(INDEX('Partie 6'!$B$5:$B$28,MATCH($A4,'Partie 6'!$C$5:$C$28,0),1),0),_xlfn.IFNA(INDEX('Partie 6'!$F$5:$F$28,MATCH($A4,'Partie 6'!$G$5:$G$28,0),1),0),_xlfn.IFNA(INDEX('Partie 6'!$G$5:$G$28,MATCH($A4,'Partie 6'!$F$5:$F$28,0),1),0)) -> 0 | AC4: =SUM(_xlfn.IFNA(INDEX('Partie 6'!$F$5:$F$28,MATCH($A4,'Partie 6'!$B$5:$B$28,0),1),0) ,_xlfn.IFNA(INDEX('Partie 6'!$F$5:$F$28,MATCH($A4,'Partie 6'!$C$5:$C$28,0),1),0) , _xlfn.IFNA(INDEX('Partie 6'!$B$5:$B$28,MATCH($A4,'Partie 6'!$F$5:$F$28,0),1),0),_xlfn.IFNA(INDEX('Partie 6'!$B$5:$B$28,MATCH($A4,'Partie 6'!$G$5:$G$28,0),1),0)) -> 0 | AD4: =SUM(_xlfn.IFNA(INDEX('Partie 6'!$G$5:$G$28,MATCH($A4,'Partie 6'!$B$5:$B$28,0),1),0) ,_xlfn.IFNA(INDEX('Partie 6'!$G$5:$G$28,MATCH($A4,'Partie 6'!$C$5:$C$28,0),1),0) , _xlfn.IFNA(INDEX('Partie 6'!$C$5:$C$28,MATCH($A4,'Partie 6'!$F$5:$F$28,0),1),0),_xlfn.IFNA(INDEX('Partie 6'!$C$5:$C$28,MATCH($A4,'Partie 6'!$G$5:$G$28,0),1),0)) -> 0 | AE4: =SUM(_xlfn.IFNA(INDEX('Partie 6'!$J$5:$J$28,MATCH($A4,'Partie 6'!$B$5:$B$28,0),1),0) ,_xlfn.IFNA(INDEX('Partie 6'!$J$5:$J$28,MATCH($A4,'Partie 6'!$C$5:$C$28,0),1),0) , _xlfn.IFNA(INDEX('Partie 6'!$K$5:$K$28,MATCH($A4,'Partie 6'!$F$5:$F$28,0),1),0), _xlfn.IFNA(INDEX('Partie 6'!$K$5:$K$28,MATCH($A4,'Partie 6'!$G$5:$G$28,0),1),0)) -> 0 | AF4: =SUM(_xlfn.IFNA(INDEX('Partie 6'!$K$5:$K$28,MATCH($A4,'Partie 6'!$B$5:$B$28,0),1),0) ,_xlfn.IFNA(INDEX('Partie 6'!$K$5:$K$28,MATCH($A4,'Partie 6'!$C$5:$C$28,0),1),0) , _xlfn.IFNA(INDEX('Partie 6'!$J$5:$J$28,MATCH($A4,'Partie 6'!$F$5:$F$28,0),1),0), _xlfn.IFNA(INDEX('Partie 6'!$J$5:$J$28,MATCH($A4,'Partie 6'!$G$5:$G$28,0),1),0)) -> 0 | AG4: =SUM(_xlfn.IFNA(INDEX('Partie 7'!$C$5:$C$28,MATCH($A4,'Partie 7'!$B$5:$B$28,0),1),0) , _xlfn.IFNA(INDEX('Partie 7'!$B$5:$B$28,MATCH($A4,'Partie 7'!$C$5:$C$28,0),1),0),_xlfn.IFNA(INDEX('Partie 7'!$F$5:$F$28,MATCH($A4,'Partie 7'!$G$5:$G$28,0),1),0),_xlfn.IFNA(INDEX('Partie 7'!$G$5:$G$28,MATCH($A4,'Partie 7'!$F$5:$F$28,0),1),0)) -> 0 | AH4: =SUM(_xlfn.IFNA(INDEX('Partie 7'!$F$5:$F$28,MATCH($A4,'Partie 7'!$B$5:$B$28,0),1),0) ,_xlfn.IFNA(INDEX('Partie 7'!$F$5:$F$28,MATCH($A4,'Partie 7'!$C$5:$C$28,0),1),0) , _xlfn.IFNA(INDEX('Partie 7'!$B$5:$B$28,MATCH($A4,'Partie 7'!$F$5:$F$28,0),1),0),_xlfn.IFNA(INDEX('Partie 7'!$B$5:$B$28,MATCH($A4,'Partie 7'!$G$5:$G$28,0),1),0)) -> 0 | AI4: =SUM(_xlfn.IFNA(INDEX('Partie 7'!$G$5:$G$28,MATCH($A4,'Partie 7'!$B$5:$B$28,0),1),0) ,_xlfn.IFNA(INDEX('Partie 7'!$G$5:$G$28,MATCH($A4,'Partie 7'!$C$5:$C$28,0),1),0) , _xlfn.IFNA(INDEX('Partie 7'!$C$5:$C$28,MATCH($A4,'Partie 7'!$F$5:$F$28,0),1),0),_xlfn.IFNA(INDEX('Partie 7'!$C$5:$C$28,MATCH($A4,'Partie 7'!$G$5:$G$28,0),1),0)) -> 0 | AJ4: =SUM(_xlfn.IFNA(INDEX('Partie 7'!$J$5:$J$28,MATCH($A4,'Partie 7'!$B$5:$B$28,0),1),0) ,_xlfn.IFNA(INDEX('Partie 7'!$J$5:$J$28,MATCH($A4,'Partie 7'!$C$5:$C$28,0),1),0) , _xlfn.IFNA(INDEX('Partie 7'!$K$5:$K$28,MATCH($A4,'Partie 7'!$F$5:$F$28,0),1),0), _xlfn.IFNA(INDEX('Partie 7'!$K$5:$K$28,MATCH($A4,'Partie 7'!$G$5:$G$28,0),1),0)) -> 0 | AK4: =SUM(_xlfn.IFNA(INDEX('Partie 7'!$K$5:$K$28,MATCH($A4,'Partie 7'!$B$5:$B$28,0),1),0) ,_xlfn.IFNA(INDEX('Partie 7'!$K$5:$K$28,MATCH($A4,'Partie 7'!$C$5:$C$28,0),1),0) , _xlfn.IFNA(INDEX('Partie 7'!$J$5:$J$28,MATCH($A4,'Partie 7'!$F$5:$F$28,0),1),0), _xlfn.IFNA(INDEX('Partie 7'!$J$5:$J$28,MATCH($A4,'Partie 7'!$G$5:$G$28,0),1),0)) -> 0
A5: 3 | C5: =SUM(_xlfn.IFNA(INDEX('Partie 1'!$C$5:$C$28,MATCH($A5,'Partie 1'!$B$5:$B$28,0),1),0) , _xlfn.IFNA(INDEX('Partie 1'!$B$5:$B$28,MATCH($A5,'Partie 1'!$C$5:$C$28,0),1),0),_xlfn.IFNA(INDEX('Partie 1'!$F$5:$F$28,MATCH($A5,'Partie 1'!$G$5:$G$28,0),1),0),_xlfn.IFNA(INDEX('Partie 1'!$G$5:$G$28,MATCH($A5,'Partie 1'!$F$5:$F$28,0),1),0)) -> 0 | D5: =SUM(_xlfn.IFNA(INDEX('Partie 1'!$F$5:$F$28,MATCH($A5,'Partie 1'!$B$5:$B$28,0),1),0) ,_xlfn.IFNA(INDEX('Partie 1'!$F$5:$F$28,MATCH($A5,'Partie 1'!$C$5:$C$28,0),1),0) , _xlfn.IFNA(INDEX('Partie 1'!$B$5:$B$28,MATCH($A5,'Partie 1'!$F$5:$F$28,0),1),0),_xlfn.IFNA(INDEX('Partie 1'!$B$5:$B$28,MATCH($A5,'Partie 1'!$G$5:$G$28,0),1),0)) -> 0 | E5: =SUM(_xlfn.IFNA(INDEX('Partie 1'!$G$5:$G$28,MATCH($A5,'Partie 1'!$B$5:$B$28,0),1),0) ,_xlfn.IFNA(INDEX('Partie 1'!$G$5:$G$28,MATCH($A5,'Partie 1'!$C$5:$C$28,0),1),0) , _xlfn.IFNA(INDEX('Partie 1'!$C$5:$C$28,MATCH($A5,'Partie 1'!$F$5:$F$28,0),1),0),_xlfn.IFNA(INDEX('Partie 1'!$C$5:$C$28,MATCH($A5,'Partie 1'!$G$5:$G$28,0),1),0)) -> 0 | F5: =SUM(_xlfn.IFNA(INDEX('Partie 1'!$J$5:$J$28,MATCH($A5,'Partie 1'!$B$5:$B$28,0),1),0) ,_xlfn.IFNA(INDEX('Partie 1'!$J$5:$J$28,MATCH($A5,'Partie 1'!$C$5:$C$28,0),1),0) , _xlfn.IFNA(INDEX('Partie 1'!$K$5:$K$28,MATCH($A5,'Partie 1'!$F$5:$F$28,0),1),0), _xlfn.IFNA(INDEX('Partie 1'!$K$5:$K$28,MATCH($A5,'Partie 1'!$G$5:$G$28,0),1),0)) -> 0 | G5: =SUM(_xlfn.IFNA(INDEX('Partie 1'!$K$5:$K$28,MATCH($A5,'Partie 1'!$B$5:$B$28,0),1),0) ,_xlfn.IFNA(INDEX('Partie 1'!$K$5:$K$28,MATCH($A5,'Partie 1'!$C$5:$C$28,0),1),0) , _xlfn.IFNA(INDEX('Partie 1'!$J$5:$J$28,MATCH($A5,'Partie 1'!$F$5:$F$28,0),1),0), _xlfn.IFNA(INDEX('Partie 1'!$J$5:$J$28,MATCH($A5,'Partie 1'!$G$5:$G$28,0),1),0)) -> 0 | H5: =SUM(_xlfn.IFNA(INDEX('Partie 2'!$C$5:$C$28,MATCH($A5,'Partie 2'!$B$5:$B$28,0),1),0) , _xlfn.IFNA(INDEX('Partie 2'!$B$5:$B$28,MATCH($A5,'Partie 2'!$C$5:$C$28,0),1),0),_xlfn.IFNA(INDEX('Partie 2'!$F$5:$F$28,MATCH($A5,'Partie 2'!$G$5:$G$28,0),1),0),_xlfn.IFNA(INDEX('Partie 2'!$G$5:$G$28,MATCH($A5,'Partie 2'!$F$5:$F$28,0),1),0)) -> 0 | I5: =SUM(_xlfn.IFNA(INDEX('Partie 2'!$F$5:$F$28,MATCH($A5,'Partie 2'!$B$5:$B$28,0),1),0) ,_xlfn.IFNA(INDEX('Partie 2'!$F$5:$F$28,MATCH($A5,'Partie 2'!$C$5:$C$28,0),1),0) , _xlfn.IFNA(INDEX('Partie 2'!$B$5:$B$28,MATCH($A5,'Partie 2'!$F$5:$F$28,0),1),0),_xlfn.IFNA(INDEX('Partie 2'!$B$5:$B$28,MATCH($A5,'Partie 2'!$G$5:$G$28,0),1),0)) -> 0 | J5: =SUM(_xlfn.IFNA(INDEX('Partie 2'!$G$5:$G$28,MATCH($A5,'Partie 2'!$B$5:$B$28,0),1),0) ,_xlfn.IFNA(INDEX('Partie 2'!$G$5:$G$28,MATCH($A5,'Partie 2'!$C$5:$C$28,0),1),0) , _xlfn.IFNA(INDEX('Partie 2'!$C$5:$C$28,MATCH($A5,'Partie 2'!$F$5:$F$28,0),1),0),_xlfn.IFNA(INDEX('Partie 2'!$C$5:$C$28,MATCH($A5,'Partie 2'!$G$5:$G$28,0),1),0)) -> 0 | K5: =SUM(_xlfn.IFNA(INDEX('Partie 2'!$J$5:$J$28,MATCH($A5,'Partie 2'!$B$5:$B$28,0),1),0) ,_xlfn.IFNA(INDEX('Partie 2'!$J$5:$J$28,MATCH($A5,'Partie 2'!$C$5:$C$28,0),1),0) , _xlfn.IFNA(INDEX('Partie 2'!$K$5:$K$28,MATCH($A5,'Partie 2'!$F$5:$F$28,0),1),0), _xlfn.IFNA(INDEX('Partie 2'!$K$5:$K$28,MATCH($A5,'Partie 2'!$G$5:$G$28,0),1),0)) -> 0 | L5: =SUM(_xlfn.IFNA(INDEX('Partie 2'!$K$5:$K$28,MATCH($A5,'Partie 2'!$B$5:$B$28,0),1),0) ,_xlfn.IFNA(INDEX('Partie 2'!$K$5:$K$28,MATCH($A5,'Partie 2'!$C$5:$C$28,0),1),0) , _xlfn.IFNA(INDEX('Partie 2'!$J$5:$J$28,MATCH($A5,'Partie 2'!$F$5:$F$28,0),1),0), _xlfn.IFNA(INDEX('Partie 2'!$J$5:$J$28,MATCH($A5,'Partie 2'!$G$5:$G$28,0),1),0)) -> 0 | M5: =SUM(_xlfn.IFNA(INDEX('Partie 3'!$C$5:$C$28,MATCH($A5,'Partie 3'!$B$5:$B$28,0),1),0) , _xlfn.IFNA(INDEX('Partie 3'!$B$5:$B$28,MATCH($A5,'Partie 3'!$C$5:$C$28,0),1),0),_xlfn.IFNA(INDEX('Partie 3'!$F$5:$F$28,MATCH($A5,'Partie 3'!$G$5:$G$28,0),1),0),_xlfn.IFNA(INDEX('Partie 3'!$G$5:$G$28,MATCH($A5,'Partie 3'!$F$5:$F$28,0),1),0)) -> 0 | N5: =SUM(_xlfn.IFNA(INDEX('Partie 3'!$F$5:$F$28,MATCH($A5,'Partie 3'!$B$5:$B$28,0),1),0) ,_xlfn.IFNA(INDEX('Partie 3'!$F$5:$F$28,MATCH($A5,'Partie 3'!$C$5:$C$28,0),1),0) , _xlfn.IFNA(INDEX('Partie 3'!$B$5:$B$28,MATCH($A5,'Partie 3'!$F$5:$F$28,0),1),0),_xlfn.IFNA(INDEX('Partie 3'!$B$5:$B$28,MATCH($A5,'Partie 3'!$G$5:$G$28,0),1),0)) -> 0 | O5: =SUM(_xlfn.IFNA(INDEX('Partie 3'!$G$5:$G$28,MATCH($A5,'Partie 3'!$B$5:$B$28,0),1),0) ,_xlfn.IFNA(INDEX('Partie 3'!$G$5:$G$28,MATCH($A5,'Partie 3'!$C$5:$C$28,0),1),0) , _xlfn.IFNA(INDEX('Partie 3'!$C$5:$C$28,MATCH($A5,'Partie 3'!$F$5:$F$28,0),1),0),_xlfn.IFNA(INDEX('Partie 3'!$C$5:$C$28,MATCH($A5,'Partie 3'!$G$5:$G$28,0),1),0)) -> 0 | P5: =SUM(_xlfn.IFNA(INDEX('Partie 3'!$J$5:$J$28,MATCH($A5,'Partie 3'!$B$5:$B$28,0),1),0) ,_xlfn.IFNA(INDEX('Partie 3'!$J$5:$J$28,MATCH($A5,'Partie 3'!$C$5:$C$28,0),1),0) , _xlfn.IFNA(INDEX('Partie 3'!$K$5:$K$28,MATCH($A5,'Partie 3'!$F$5:$F$28,0),1),0), _xlfn.IFNA(INDEX('Partie 3'!$K$5:$K$28,MATCH($A5,'Partie 3'!$G$5:$G$28,0),1),0)) -> 0 | Q5: =SUM(_xlfn.IFNA(INDEX('Partie 3'!$K$5:$K$28,MATCH($A5,'Partie 3'!$B$5:$B$28,0),1),0) ,_xlfn.IFNA(INDEX('Partie 3'!$K$5:$K$28,MATCH($A5,'Partie 3'!$C$5:$C$28,0),1),0) , _xlfn.IFNA(INDEX('Partie 3'!$J$5:$J$28,MATCH($A5,'Partie 3'!$F$5:$F$28,0),1),0), _xlfn.IFNA(INDEX('Partie 3'!$J$5:$J$28,MATCH($A5,'Partie 3'!$G$5:$G$28,0),1),0)) -> 0 | R5: =SUM(_xlfn.IFNA(INDEX('Partie 4'!$C$5:$C$28,MATCH($A5,'Partie 4'!$B$5:$B$28,0),1),0) , _xlfn.IFNA(INDEX('Partie 4'!$B$5:$B$28,MATCH($A5,'Partie 4'!$C$5:$C$28,0),1),0),_xlfn.IFNA(INDEX('Partie 4'!$F$5:$F$28,MATCH($A5,'Partie 4'!$G$5:$G$28,0),1),0),_xlfn.IFNA(INDEX('Partie 4'!$G$5:$G$28,MATCH($A5,'Partie 4'!$F$5:$F$28,0),1),0)) -> 0 | S5: =SUM(_xlfn.IFNA(INDEX('Partie 4'!$F$5:$F$28,MATCH($A5,'Partie 4'!$B$5:$B$28,0),1),0) ,_xlfn.IFNA(INDEX('Partie 4'!$F$5:$F$28,MATCH($A5,'Partie 4'!$C$5:$C$28,0),1),0) , _xlfn.IFNA(INDEX('Partie 4'!$B$5:$B$28,MATCH($A5,'Partie 4'!$F$5:$F$28,0),1),0),_xlfn.IFNA(INDEX('Partie 4'!$B$5:$B$28,MATCH($A5,'Partie 4'!$G$5:$G$28,0),1),0)) -> 0 | T5: =SUM(_xlfn.IFNA(INDEX('Partie 4'!$G$5:$G$28,MATCH($A5,'Partie 4'!$B$5:$B$28,0),1),0) ,_xlfn.IFNA(INDEX('Partie 4'!$G$5:$G$28,MATCH($A5,'Partie 4'!$C$5:$C$28,0),1),0) , _xlfn.IFNA(INDEX('Partie 4'!$C$5:$C$28,MATCH($A5,'Partie 4'!$F$5:$F$28,0),1),0),_xlfn.IFNA(INDEX('Partie 4'!$C$5:$C$28,MATCH($A5,'Partie 4'!$G$5:$G$28,0),1),0)) -> 0 | U5: =SUM(_xlfn.IFNA(INDEX('Partie 4'!$J$5:$J$28,MATCH($A5,'Partie 4'!$B$5:$B$28,0),1),0) ,_xlfn.IFNA(INDEX('Partie 4'!$J$5:$J$28,MATCH($A5,'Partie 4'!$C$5:$C$28,0),1),0) , _xlfn.IFNA(INDEX('Partie 4'!$K$5:$K$28,MATCH($A5,'Partie 4'!$F$5:$F$28,0),1),0), _xlfn.IFNA(INDEX('Partie 4'!$K$5:$K$28,MATCH($A5,'Partie 4'!$G$5:$G$28,0),1),0)) -> 0 | V5: =SUM(_xlfn.IFNA(INDEX('Partie 4'!$K$5:$K$28,MATCH($A5,'Partie 4'!$B$5:$B$28,0),1),0) ,_xlfn.IFNA(INDEX('Partie 4'!$K$5:$K$28,MATCH($A5,'Partie 4'!$C$5:$C$28,0),1),0) , _xlfn.IFNA(INDEX('Partie 4'!$J$5:$J$28,MATCH($A5,'Partie 4'!$F$5:$F$28,0),1),0), _xlfn.IFNA(INDEX('Partie 4'!$J$5:$J$28,MATCH($A5,'Partie 4'!$G$5:$G$28,0),1),0)) -> 0 | W5: =SUM(_xlfn.IFNA(INDEX('Partie 5'!$C$5:$C$28,MATCH($A5,'Partie 5'!$B$5:$B$28,0),1),0) , _xlfn.IFNA(INDEX('Partie 5'!$B$5:$B$28,MATCH($A5,'Partie 5'!$C$5:$C$28,0),1),0),_xlfn.IFNA(INDEX('Partie 5'!$F$5:$F$28,MATCH($A5,'Partie 5'!$G$5:$G$28,0),1),0),_xlfn.IFNA(INDEX('Partie 5'!$G$5:$G$28,MATCH($A5,'Partie 5'!$F$5:$F$28,0),1),0)) -> 0 | X5: =SUM(_xlfn.IFNA(INDEX('Partie 5'!$F$5:$F$28,MATCH($A5,'Partie 5'!$B$5:$B$28,0),1),0) ,_xlfn.IFNA(INDEX('Partie 5'!$F$5:$F$28,MATCH($A5,'Partie 5'!$C$5:$C$28,0),1),0) , _xlfn.IFNA(INDEX('Partie 5'!$B$5:$B$28,MATCH($A5,'Partie 5'!$F$5:$F$28,0),1),0),_xlfn.IFNA(INDEX('Partie 5'!$B$5:$B$28,MATCH($A5,'Partie 5'!$G$5:$G$28,0),1),0)) -> 0 | Y5: =SUM(_xlfn.IFNA(INDEX('Partie 5'!$G$5:$G$28,MATCH($A5,'Partie 5'!$B$5:$B$28,0),1),0) ,_xlfn.IFNA(INDEX('Partie 5'!$G$5:$G$28,MATCH($A5,'Partie 5'!$C$5:$C$28,0),1),0) , _xlfn.IFNA(INDEX('Partie 5'!$C$5:$C$28,MATCH($A5,'Partie 5'!$F$5:$F$28,0),1),0),_xlfn.IFNA(INDEX('Partie 5'!$C$5:$C$28,MATCH($A5,'Partie 5'!$G$5:$G$28,0),1),0)) -> 0 | Z5: =SUM(_xlfn.IFNA(INDEX('Partie 5'!$J$5:$J$28,MATCH($A5,'Partie 5'!$B$5:$B$28,0),1),0) ,_xlfn.IFNA(INDEX('Partie 5'!$J$5:$J$28,MATCH($A5,'Partie 5'!$C$5:$C$28,0),1),0) , _xlfn.IFNA(INDEX('Partie 5'!$K$5:$K$28,MATCH($A5,'Partie 5'!$F$5:$F$28,0),1),0), _xlfn.IFNA(INDEX('Partie 5'!$K$5:$K$28,MATCH($A5,'Partie 5'!$G$5:$G$28,0),1),0)) -> 0 | AA5: =SUM(_xlfn.IFNA(INDEX('Partie 5'!$K$5:$K$28,MATCH($A5,'Partie 5'!$B$5:$B$28,0),1),0) ,_xlfn.IFNA(INDEX('Partie 5'!$K$5:$K$28,MATCH($A5,'Partie 5'!$C$5:$C$28,0),1),0) , _xlfn.IFNA(INDEX('Partie 5'!$J$5:$J$28,MATCH($A5,'Partie 5'!$F$5:$F$28,0),1),0), _xlfn.IFNA(INDEX('Partie 5'!$J$5:$J$28,MATCH($A5,'Partie 5'!$G$5:$G$28,0),1),0)) -> 0 | AB5: =SUM(_xlfn.IFNA(INDEX('Partie 6'!$C$5:$C$28,MATCH($A5,'Partie 6'!$B$5:$B$28,0),1),0) , _xlfn.IFNA(INDEX('Partie 6'!$B$5:$B$28,MATCH($A5,'Partie 6'!$C$5:$C$28,0),1),0),_xlfn.IFNA(INDEX('Partie 6'!$F$5:$F$28,MATCH($A5,'Partie 6'!$G$5:$G$28,0),1),0),_xlfn.IFNA(INDEX('Partie 6'!$G$5:$G$28,MATCH($A5,'Partie 6'!$F$5:$F$28,0),1),0)) -> 0 | AC5: =SUM(_xlfn.IFNA(INDEX('Partie 6'!$F$5:$F$28,MATCH($A5,'Partie 6'!$B$5:$B$28,0),1),0) ,_xlfn.IFNA(INDEX('Partie 6'!$F$5:$F$28,MATCH($A5,'Partie 6'!$C$5:$C$28,0),1),0) , _xlfn.IFNA(INDEX('Partie 6'!$B$5:$B$28,MATCH($A5,'Partie 6'!$F$5:$F$28,0),1),0),_xlfn.IFNA(INDEX('Partie 6'!$B$5:$B$28,MATCH($A5,'Partie 6'!$G$5:$G$28,0),1),0)) -> 0 | AD5: =SUM(_xlfn.IFNA(INDEX('Partie 6'!$G$5:$G$28,MATCH($A5,'Partie 6'!$B$5:$B$28,0),1),0) ,_xlfn.IFNA(INDEX('Partie 6'!$G$5:$G$28,MATCH($A5,'Partie 6'!$C$5:$C$28,0),1),0) , _xlfn.IFNA(INDEX('Partie 6'!$C$5:$C$28,MATCH($A5,'Partie 6'!$F$5:$F$28,0),1),0),_xlfn.IFNA(INDEX('Partie 6'!$C$5:$C$28,MATCH($A5,'Partie 6'!$G$5:$G$28,0),1),0)) -> 0 | AE5: =SUM(_xlfn.IFNA(INDEX('Partie 6'!$J$5:$J$28,MATCH($A5,'Partie 6'!$B$5:$B$28,0),1),0) ,_xlfn.IFNA(INDEX('Partie 6'!$J$5:$J$28,MATCH($A5,'Partie 6'!$C$5:$C$28,0),1),0) , _xlfn.IFNA(INDEX('Partie 6'!$K$5:$K$28,MATCH($A5,'Partie 6'!$F$5:$F$28,0),1),0), _xlfn.IFNA(INDEX('Partie 6'!$K$5:$K$28,MATCH($A5,'Partie 6'!$G$5:$G$28,0),1),0)) -> 0 | AF5: =SUM(_xlfn.IFNA(INDEX('Partie 6'!$K$5:$K$28,MATCH($A5,'Partie 6'!$B$5:$B$28,0),1),0) ,_xlfn.IFNA(INDEX('Partie 6'!$K$5:$K$28,MATCH($A5,'Partie 6'!$C$5:$C$28,0),1),0) , _xlfn.IFNA(INDEX('Partie 6'!$J$5:$J$28,MATCH($A5,'Partie 6'!$F$5:$F$28,0),1),0), _xlfn.IFNA(INDEX('Partie 6'!$J$5:$J$28,MATCH($A5,'Partie 6'!$G$5:$G$28,0),1),0)) -> 0 | AG5: =SUM(_xlfn.IFNA(INDEX('Partie 7'!$C$5:$C$28,MATCH($A5,'Partie 7'!$B$5:$B$28,0),1),0) , _xlfn.IFNA(INDEX('Partie 7'!$B$5:$B$28,MATCH($A5,'Partie 7'!$C$5:$C$28,0),1),0),_xlfn.IFNA(INDEX('Partie 7'!$F$5:$F$28,MATCH($A5,'Partie 7'!$G$5:$G$28,0),1),0),_xlfn.IFNA(INDEX('Partie 7'!$G$5:$G$28,MATCH($A5,'Partie 7'!$F$5:$F$28,0),1),0)) -> 0 | AH5: =SUM(_xlfn.IFNA(INDEX('Partie 7'!$F$5:$F$28,MATCH($A5,'Partie 7'!$B$5:$B$28,0),1),0) ,_xlfn.IFNA(INDEX('Partie 7'!$F$5:$F$28,MATCH($A5,'Partie 7'!$C$5:$C$28,0),1),0) , _xlfn.IFNA(INDEX('Partie 7'!$B$5:$B$28,MATCH($A5,'Partie 7'!$F$5:$F$28,0),1),0),_xlfn.IFNA(INDEX('Partie 7'!$B$5:$B$28,MATCH($A5,'Partie 7'!$G$5:$G$28,0),1),0)) -> 0 | AI5: =SUM(_xlfn.IFNA(INDEX('Partie 7'!$G$5:$G$28,MATCH($A5,'Partie 7'!$B$5:$B$28,0),1),0) ,_xlfn.IFNA(INDEX('Partie 7'!$G$5:$G$28,MATCH($A5,'Partie 7'!$C$5:$C$28,0),1),0) , _xlfn.IFNA(INDEX('Partie 7'!$C$5:$C$28,MATCH($A5,'Partie 7'!$F$5:$F$28,0),1),0),_xlfn.IFNA(INDEX('Partie 7'!$C$5:$C$28,MATCH($A5,'Partie 7'!$G$5:$G$28,0),1),0)) -> 0 | AJ5: =SUM(_xlfn.IFNA(INDEX('Partie 7'!$J$5:$J$28,MATCH($A5,'Partie 7'!$B$5:$B$28,0),1),0) ,_xlfn.IFNA(INDEX('Partie 7'!$J$5:$J$28,MATCH($A5,'Partie 7'!$C$5:$C$28,0),1),0) , _xlfn.IFNA(INDEX('Partie 7'!$K$5:$K$28,MATCH($A5,'Partie 7'!$F$5:$F$28,0),1),0), _xlfn.IFNA(INDEX('Partie 7'!$K$5:$K$28,MATCH($A5,'Partie 7'!$G$5:$G$28,0),1),0)) -> 0 | AK5: =SUM(_xlfn.IFNA(INDEX('Partie 7'!$K$5:$K$28,MATCH($A5,'Partie 7'!$B$5:$B$28,0),1),0) ,_xlfn.IFNA(INDEX('Partie 7'!$K$5:$K$28,MATCH($A5,'Partie 7'!$C$5:$C$28,0),1),0) , _xlfn.IFNA(INDEX('Partie 7'!$J$5:$J$28,MATCH($A5,'Partie 7'!$F$5:$F$28,0),1),0), _xlfn.IFNA(INDEX('Partie 7'!$J$5:$J$28,MATCH($A5,'Partie 7'!$G$5:$G$28,0),1),0)) -> 0
A6: 4 | C6: =SUM(_xlfn.IFNA(INDEX('Partie 1'!$C$5:$C$28,MATCH($A6,'Partie 1'!$B$5:$B$28,0),1),0) , _xlfn.IFNA(INDEX('Partie 1'!$B$5:$B$28,MATCH($A6,'Partie 1'!$C$5:$C$28,0),1),0),_xlfn.IFNA(INDEX('Partie 1'!$F$5:$F$28,MATCH($A6,'Partie 1'!$G$5:$G$28,0),1),0),_xlfn.IFNA(INDEX('Partie 1'!$G$5:$G$28,MATCH($A6,'Partie 1'!$F$5:$F$28,0),1),0)) -> 0 | D6: =SUM(_xlfn.IFNA(INDEX('Partie 1'!$F$5:$F$28,MATCH($A6,'Partie 1'!$B$5:$B$28,0),1),0) ,_xlfn.IFNA(INDEX('Partie 1'!$F$5:$F$28,MATCH($A6,'Partie 1'!$C$5:$C$28,0),1),0) , _xlfn.IFNA(INDEX('Partie 1'!$B$5:$B$28,MATCH($A6,'Partie 1'!$F$5:$F$28,0),1),0),_xlfn.IFNA(INDEX('Partie 1'!$B$5:$B$28,MATCH($A6,'Partie 1'!$G$5:$G$28,0),1),0)) -> 0 | E6: =SUM(_xlfn.IFNA(INDEX('Partie 1'!$G$5:$G$28,MATCH($A6,'Partie 1'!$B$5:$B$28,0),1),0) ,_xlfn.IFNA(INDEX('Partie 1'!$G$5:$G$28,MATCH($A6,'Partie 1'!$C$5:$C$28,0),1),0) , _xlfn.IFNA(INDEX('Partie 1'!$C$5:$C$28,MATCH($A6,'Partie 1'!$F$5:$F$28,0),1),0),_xlfn.IFNA(INDEX('Partie 1'!$C$5:$C$28,MATCH($A6,'Partie 1'!$G$5:$G$28,0),1),0)) -> 0 | F6: =SUM(_xlfn.IFNA(INDEX('Partie 1'!$J$5:$J$28,MATCH($A6,'Partie 1'!$B$5:$B$28,0),1),0) ,_xlfn.IFNA(INDEX('Partie 1'!$J$5:$J$28,MATCH($A6,'Partie 1'!$C$5:$C$28,0),1),0) , _xlfn.IFNA(INDEX('Partie 1'!$K$5:$K$28,MATCH($A6,'Partie 1'!$F$5:$F$28,0),1),0), _xlfn.IFNA(INDEX('Partie 1'!$K$5:$K$28,MATCH($A6,'Partie 1'!$G$5:$G$28,0),1),0)) -> 0 | G6: =SUM(_xlfn.IFNA(INDEX('Partie 1'!$K$5:$K$28,MATCH($A6,'Partie 1'!$B$5:$B$28,0),1),0) ,_xlfn.IFNA(INDEX('Partie 1'!$K$5:$K$28,MATCH($A6,'Partie 1'!$C$5:$C$28,0),1),0) , _xlfn.IFNA(INDEX('Partie 1'!$J$5:$J$28,MATCH($A6,'Partie 1'!$F$5:$F$28,0),1),0), _xlfn.IFNA(INDEX('Partie 1'!$J$5:$J$28,MATCH($A6,'Partie 1'!$G$5:$G$28,0),1),0)) -> 0 | H6: =SUM(_xlfn.IFNA(INDEX('Partie 2'!$C$5:$C$28,MATCH($A6,'Partie 2'!$B$5:$B$28,0),1),0) , _xlfn.IFNA(INDEX('Partie 2'!$B$5:$B$28,MATCH($A6,'Partie 2'!$C$5:$C$28,0),1),0),_xlfn.IFNA(INDEX('Partie 2'!$F$5:$F$28,MATCH($A6,'Partie 2'!$G$5:$G$28,0),1),0),_xlfn.IFNA(INDEX('Partie 2'!$G$5:$G$28,MATCH($A6,'Partie 2'!$F$5:$F$28,0),1),0)) -> 0 | I6: =SUM(_xlfn.IFNA(INDEX('Partie 2'!$F$5:$F$28,MATCH($A6,'Partie 2'!$B$5:$B$28,0),1),0) ,_xlfn.IFNA(INDEX('Partie 2'!$F$5:$F$28,MATCH($A6,'Partie 2'!$C$5:$C$28,0),1),0) , _xlfn.IFNA(INDEX('Partie 2'!$B$5:$B$28,MATCH($A6,'Partie 2'!$F$5:$F$28,0),1),0),_xlfn.IFNA(INDEX('Partie 2'!$B$5:$B$28,MATCH($A6,'Partie 2'!$G$5:$G$28,0),1),0)) -> 0 | J6: =SUM(_xlfn.IFNA(INDEX('Partie 2'!$G$5:$G$28,MATCH($A6,'Partie 2'!$B$5:$B$28,0),1),0) ,_xlfn.IFNA(INDEX('Partie 2'!$G$5:$G$28,MATCH($A6,'Partie 2'!$C$5:$C$28,0),1),0) , _xlfn.IFNA(INDEX('Partie 2'!$C$5:$C$28,MATCH($A6,'Partie 2'!$F$5:$F$28,0),1),0),_xlfn.IFNA(INDEX('Partie 2'!$C$5:$C$28,MATCH($A6,'Partie 2'!$G$5:$G$28,0),1),0)) -> 0 | K6: =SUM(_xlfn.IFNA(INDEX('Partie 2'!$J$5:$J$28,MATCH($A6,'Partie 2'!$B$5:$B$28,0),1),0) ,_xlfn.IFNA(INDEX('Partie 2'!$J$5:$J$28,MATCH($A6,'Partie 2'!$C$5:$C$28,0),1),0) , _xlfn.IFNA(INDEX('Partie 2'!$K$5:$K$28,MATCH($A6,'Partie 2'!$F$5:$F$28,0),1),0), _xlfn.IFNA(INDEX('Partie 2'!$K$5:$K$28,MATCH($A6,'Partie 2'!$G$5:$G$28,0),1),0)) -> 0 | L6: =SUM(_xlfn.IFNA(INDEX('Partie 2'!$K$5:$K$28,MATCH($A6,'Partie 2'!$B$5:$B$28,0),1),0) ,_xlfn.IFNA(INDEX('Partie 2'!$K$5:$K$28,MATCH($A6,'Partie 2'!$C$5:$C$28,0),1),0) , _xlfn.IFNA(INDEX('Partie 2'!$J$5:$J$28,MATCH($A6,'Partie 2'!$F$5:$F$28,0),1),0), _xlfn.IFNA(INDEX('Partie 2'!$J$5:$J$28,MATCH($A6,'Partie 2'!$G$5:$G$28,0),1),0)) -> 0 | M6: =SUM(_xlfn.IFNA(INDEX('Partie 3'!$C$5:$C$28,MATCH($A6,'Partie 3'!$B$5:$B$28,0),1),0) , _xlfn.IFNA(INDEX('Partie 3'!$B$5:$B$28,MATCH($A6,'Partie 3'!$C$5:$C$28,0),1),0),_xlfn.IFNA(INDEX('Partie 3'!$F$5:$F$28,MATCH($A6,'Partie 3'!$G$5:$G$28,0),1),0),_xlfn.IFNA(INDEX('Partie 3'!$G$5:$G$28,MATCH($A6,'Partie 3'!$F$5:$F$28,0),1),0)) -> 0 | N6: =SUM(_xlfn.IFNA(INDEX('Partie 3'!$F$5:$F$28,MATCH($A6,'Partie 3'!$B$5:$B$28,0),1),0) ,_xlfn.IFNA(INDEX('Partie 3'!$F$5:$F$28,MATCH($A6,'Partie 3'!$C$5:$C$28,0),1),0) , _xlfn.IFNA(INDEX('Partie 3'!$B$5:$B$28,MATCH($A6,'Partie 3'!$F$5:$F$28,0),1),0),_xlfn.IFNA(INDEX('Partie 3'!$B$5:$B$28,MATCH($A6,'Partie 3'!$G$5:$G$28,0),1),0)) -> 0 | O6: =SUM(_xlfn.IFNA(INDEX('Partie 3'!$G$5:$G$28,MATCH($A6,'Partie 3'!$B$5:$B$28,0),1),0) ,_xlfn.IFNA(INDEX('Partie 3'!$G$5:$G$28,MATCH($A6,'Partie 3'!$C$5:$C$28,0),1),0) , _xlfn.IFNA(INDEX('Partie 3'!$C$5:$C$28,MATCH($A6,'Partie 3'!$F$5:$F$28,0),1),0),_xlfn.IFNA(INDEX('Partie 3'!$C$5:$C$28,MATCH($A6,'Partie 3'!$G$5:$G$28,0),1),0)) -> 0 | P6: =SUM(_xlfn.IFNA(INDEX('Partie 3'!$J$5:$J$28,MATCH($A6,'Partie 3'!$B$5:$B$28,0),1),0) ,_xlfn.IFNA(INDEX('Partie 3'!$J$5:$J$28,MATCH($A6,'Partie 3'!$C$5:$C$28,0),1),0) , _xlfn.IFNA(INDEX('Partie 3'!$K$5:$K$28,MATCH($A6,'Partie 3'!$F$5:$F$28,0),1),0), _xlfn.IFNA(INDEX('Partie 3'!$K$5:$K$28,MATCH($A6,'Partie 3'!$G$5:$G$28,0),1),0)) -> 0 | Q6: =SUM(_xlfn.IFNA(INDEX('Partie 3'!$K$5:$K$28,MATCH($A6,'Partie 3'!$B$5:$B$28,0),1),0) ,_xlfn.IFNA(INDEX('Partie 3'!$K$5:$K$28,MATCH($A6,'Partie 3'!$C$5:$C$28,0),1),0) , _xlfn.IFNA(INDEX('Partie 3'!$J$5:$J$28,MATCH($A6,'Partie 3'!$F$5:$F$28,0),1),0), _xlfn.IFNA(INDEX('Partie 3'!$J$5:$J$28,MATCH($A6,'Partie 3'!$G$5:$G$28,0),1),0)) -> 0 | R6: =SUM(_xlfn.IFNA(INDEX('Partie 4'!$C$5:$C$28,MATCH($A6,'Partie 4'!$B$5:$B$28,0),1),0) , _xlfn.IFNA(INDEX('Partie 4'!$B$5:$B$28,MATCH($A6,'Partie 4'!$C$5:$C$28,0),1),0),_xlfn.IFNA(INDEX('Partie 4'!$F$5:$F$28,MATCH($A6,'Partie 4'!$G$5:$G$28,0),1),0),_xlfn.IFNA(INDEX('Partie 4'!$G$5:$G$28,MATCH($A6,'Partie 4'!$F$5:$F$28,0),1),0)) -> 0 | S6: =SUM(_xlfn.IFNA(INDEX('Partie 4'!$F$5:$F$28,MATCH($A6,'Partie 4'!$B$5:$B$28,0),1),0) ,_xlfn.IFNA(INDEX('Partie 4'!$F$5:$F$28,MATCH($A6,'Partie 4'!$C$5:$C$28,0),1),0) , _xlfn.IFNA(INDEX('Partie 4'!$B$5:$B$28,MATCH($A6,'Partie 4'!$F$5:$F$28,0),1),0),_xlfn.IFNA(INDEX('Partie 4'!$B$5:$B$28,MATCH($A6,'Partie 4'!$G$5:$G$28,0),1),0)) -> 0 | T6: =SUM(_xlfn.IFNA(INDEX('Partie 4'!$G$5:$G$28,MATCH($A6,'Partie 4'!$B$5:$B$28,0),1),0) ,_xlfn.IFNA(INDEX('Partie 4'!$G$5:$G$28,MATCH($A6,'Partie 4'!$C$5:$C$28,0),1),0) , _xlfn.IFNA(INDEX('Partie 4'!$C$5:$C$28,MATCH($A6,'Partie 4'!$F$5:$F$28,0),1),0),_xlfn.IFNA(INDEX('Partie 4'!$C$5:$C$28,MATCH($A6,'Partie 4'!$G$5:$G$28,0),1),0)) -> 0 | U6: =SUM(_xlfn.IFNA(INDEX('Partie 4'!$J$5:$J$28,MATCH($A6,'Partie 4'!$B$5:$B$28,0),1),0) ,_xlfn.IFNA(INDEX('Partie 4'!$J$5:$J$28,MATCH($A6,'Partie 4'!$C$5:$C$28,0),1),0) , _xlfn.IFNA(INDEX('Partie 4'!$K$5:$K$28,MATCH($A6,'Partie 4'!$F$5:$F$28,0),1),0), _xlfn.IFNA(INDEX('Partie 4'!$K$5:$K$28,MATCH($A6,'Partie 4'!$G$5:$G$28,0),1),0)) -> 0 | V6: =SUM(_xlfn.IFNA(INDEX('Partie 4'!$K$5:$K$28,MATCH($A6,'Partie 4'!$B$5:$B$28,0),1),0) ,_xlfn.IFNA(INDEX('Partie 4'!$K$5:$K$28,MATCH($A6,'Partie 4'!$C$5:$C$28,0),1),0) , _xlfn.IFNA(INDEX('Partie 4'!$J$5:$J$28,MATCH($A6,'Partie 4'!$F$5:$F$28,0),1),0), _xlfn.IFNA(INDEX('Partie 4'!$J$5:$J$28,MATCH($A6,'Partie 4'!$G$5:$G$28,0),1),0)) -> 0 | W6: =SUM(_xlfn.IFNA(INDEX('Partie 5'!$C$5:$C$28,MATCH($A6,'Partie 5'!$B$5:$B$28,0),1),0) , _xlfn.IFNA(INDEX('Partie 5'!$B$5:$B$28,MATCH($A6,'Partie 5'!$C$5:$C$28,0),1),0),_xlfn.IFNA(INDEX('Partie 5'!$F$5:$F$28,MATCH($A6,'Partie 5'!$G$5:$G$28,0),1),0),_xlfn.IFNA(INDEX('Partie 5'!$G$5:$G$28,MATCH($A6,'Partie 5'!$F$5:$F$28,0),1),0)) -> 0 | X6: =SUM(_xlfn.IFNA(INDEX('Partie 5'!$F$5:$F$28,MATCH($A6,'Partie 5'!$B$5:$B$28,0),1),0) ,_xlfn.IFNA(INDEX('Partie 5'!$F$5:$F$28,MATCH($A6,'Partie 5'!$C$5:$C$28,0),1),0) , _xlfn.IFNA(INDEX('Partie 5'!$B$5:$B$28,MATCH($A6,'Partie 5'!$F$5:$F$28,0),1),0),_xlfn.IFNA(INDEX('Partie 5'!$B$5:$B$28,MATCH($A6,'Partie 5'!$G$5:$G$28,0),1),0)) -> 0 | Y6: =SUM(_xlfn.IFNA(INDEX('Partie 5'!$G$5:$G$28,MATCH($A6,'Partie 5'!$B$5:$B$28,0),1),0) ,_xlfn.IFNA(INDEX('Partie 5'!$G$5:$G$28,MATCH($A6,'Partie 5'!$C$5:$C$28,0),1),0) , _xlfn.IFNA(INDEX('Partie 5'!$C$5:$C$28,MATCH($A6,'Partie 5'!$F$5:$F$28,0),1),0),_xlfn.IFNA(INDEX('Partie 5'!$C$5:$C$28,MATCH($A6,'Partie 5'!$G$5:$G$28,0),1),0)) -> 0 | Z6: =SUM(_xlfn.IFNA(INDEX('Partie 5'!$J$5:$J$28,MATCH($A6,'Partie 5'!$B$5:$B$28,0),1),0) ,_xlfn.IFNA(INDEX('Partie 5'!$J$5:$J$28,MATCH($A6,'Partie 5'!$C$5:$C$28,0),1),0) , _xlfn.IFNA(INDEX('Partie 5'!$K$5:$K$28,MATCH($A6,'Partie 5'!$F$5:$F$28,0),1),0), _xlfn.IFNA(INDEX('Partie 5'!$K$5:$K$28,MATCH($A6,'Partie 5'!$G$5:$G$28,0),1),0)) -> 0 | AA6: =SUM(_xlfn.IFNA(INDEX('Partie 5'!$K$5:$K$28,MATCH($A6,'Partie 5'!$B$5:$B$28,0),1),0) ,_xlfn.IFNA(INDEX('Partie 5'!$K$5:$K$28,MATCH($A6,'Partie 5'!$C$5:$C$28,0),1),0) , _xlfn.IFNA(INDEX('Partie 5'!$J$5:$J$28,MATCH($A6,'Partie 5'!$F$5:$F$28,0),1),0), _xlfn.IFNA(INDEX('Partie 5'!$J$5:$J$28,MATCH($A6,'Partie 5'!$G$5:$G$28,0),1),0)) -> 0 | AB6: =SUM(_xlfn.IFNA(INDEX('Partie 6'!$C$5:$C$28,MATCH($A6,'Partie 6'!$B$5:$B$28,0),1),0) , _xlfn.IFNA(INDEX('Partie 6'!$B$5:$B$28,MATCH($A6,'Partie 6'!$C$5:$C$28,0),1),0),_xlfn.IFNA(INDEX('Partie 6'!$F$5:$F$28,MATCH($A6,'Partie 6'!$G$5:$G$28,0),1),0),_xlfn.IFNA(INDEX('Partie 6'!$G$5:$G$28,MATCH($A6,'Partie 6'!$F$5:$F$28,0),1),0)) -> 0 | AC6: =SUM(_xlfn.IFNA(INDEX('Partie 6'!$F$5:$F$28,MATCH($A6,'Partie 6'!$B$5:$B$28,0),1),0) ,_xlfn.IFNA(INDEX('Partie 6'!$F$5:$F$28,MATCH($A6,'Partie 6'!$C$5:$C$28,0),1),0) , _xlfn.IFNA(INDEX('Partie 6'!$B$5:$B$28,MATCH($A6,'Partie 6'!$F$5:$F$28,0),1),0),_xlfn.IFNA(INDEX('Partie 6'!$B$5:$B$28,MATCH($A6,'Partie 6'!$G$5:$G$28,0),1),0)) -> 0 | AD6: =SUM(_xlfn.IFNA(INDEX('Partie 6'!$G$5:$G$28,MATCH($A6,'Partie 6'!$B$5:$B$28,0),1),0) ,_xlfn.IFNA(INDEX('Partie 6'!$G$5:$G$28,MATCH($A6,'Partie 6'!$C$5:$C$28,0),1),0) , _xlfn.IFNA(INDEX('Partie 6'!$C$5:$C$28,MATCH($A6,'Partie 6'!$F$5:$F$28,0),1),0),_xlfn.IFNA(INDEX('Partie 6'!$C$5:$C$28,MATCH($A6,'Partie 6'!$G$5:$G$28,0),1),0)) -> 0 | AE6: =SUM(_xlfn.IFNA(INDEX('Partie 6'!$J$5:$J$28,MATCH($A6,'Partie 6'!$B$5:$B$28,0),1),0) ,_xlfn.IFNA(INDEX('Partie 6'!$J$5:$J$28,MATCH($A6,'Partie 6'!$C$5:$C$28,0),1),0) , _xlfn.IFNA(INDEX('Partie 6'!$K$5:$K$28,MATCH($A6,'Partie 6'!$F$5:$F$28,0),1),0), _xlfn.IFNA(INDEX('Partie 6'!$K$5:$K$28,MATCH($A6,'Partie 6'!$G$5:$G$28,0),1),0)) -> 0 | AF6: =SUM(_xlfn.IFNA(INDEX('Partie 6'!$K$5:$K$28,MATCH($A6,'Partie 6'!$B$5:$B$28,0),1),0) ,_xlfn.IFNA(INDEX('Partie 6'!$K$5:$K$28,MATCH($A6,'Partie 6'!$C$5:$C$28,0),1),0) , _xlfn.IFNA(INDEX('Partie 6'!$J$5:$J$28,MATCH($A6,'Partie 6'!$F$5:$F$28,0),1),0), _xlfn.IFNA(INDEX('Partie 6'!$J$5:$J$28,MATCH($A6,'Partie 6'!$G$5:$G$28,0),1),0)) -> 0 | AG6: =SUM(_xlfn.IFNA(INDEX('Partie 7'!$C$5:$C$28,MATCH($A6,'Partie 7'!$B$5:$B$28,0),1),0) , _xlfn.IFNA(INDEX('Partie 7'!$B$5:$B$28,MATCH($A6,'Partie 7'!$C$5:$C$28,0),1),0),_xlfn.IFNA(INDEX('Partie 7'!$F$5:$F$28,MATCH($A6,'Partie 7'!$G$5:$G$28,0),1),0),_xlfn.IFNA(INDEX('Partie 7'!$G$5:$G$28,MATCH($A6,'Partie 7'!$F$5:$F$28,0),1),0)) -> 0 | AH6: =SUM(_xlfn.IFNA(INDEX('Partie 7'!$F$5:$F$28,MATCH($A6,'Partie 7'!$B$5:$B$28,0),1),0) ,_xlfn.IFNA(INDEX('Partie 7'!$F$5:$F$28,MATCH($A6,'Partie 7'!$C$5:$C$28,0),1),0) , _xlfn.IFNA(INDEX('Partie 7'!$B$5:$B$28,MATCH($A6,'Partie 7'!$F$5:$F$28,0),1),0),_xlfn.IFNA(INDEX('Partie 7'!$B$5:$B$28,MATCH($A6,'Partie 7'!$G$5:$G$28,0),1),0)) -> 0 | AI6: =SUM(_xlfn.IFNA(INDEX('Partie 7'!$G$5:$G$28,MATCH($A6,'Partie 7'!$B$5:$B$28,0),1),0) ,_xlfn.IFNA(INDEX('Partie 7'!$G$5:$G$28,MATCH($A6,'Partie 7'!$C$5:$C$28,0),1),0) , _xlfn.IFNA(INDEX('Partie 7'!$C$5:$C$28,MATCH($A6,'Partie 7'!$F$5:$F$28,0),1),0),_xlfn.IFNA(INDEX('Partie 7'!$C$5:$C$28,MATCH($A6,'Partie 7'!$G$5:$G$28,0),1),0)) -> 0 | AJ6: =SUM(_xlfn.IFNA(INDEX('Partie 7'!$J$5:$J$28,MATCH($A6,'Partie 7'!$B$5:$B$28,0),1),0) ,_xlfn.IFNA(INDEX('Partie 7'!$J$5:$J$28,MATCH($A6,'Partie 7'!$C$5:$C$28,0),1),0) , _xlfn.IFNA(INDEX('Partie 7'!$K$5:$K$28,MATCH($A6,'Partie 7'!$F$5:$F$28,0),1),0), _xlfn.IFNA(INDEX('Partie 7'!$K$5:$K$28,MATCH($A6,'Partie 7'!$G$5:$G$28,0),1),0)) -> 0 | AK6: =SUM(_xlfn.IFNA(INDEX('Partie 7'!$K$5:$K$28,MATCH($A6,'Partie 7'!$B$5:$B$28,0),1),0) ,_xlfn.IFNA(INDEX('Partie 7'!$K$5:$K$28,MATCH($A6,'Partie 7'!$C$5:$C$28,0),1),0) , _xlfn.IFNA(INDEX('Partie 7'!$J$5:$J$28,MATCH($A6,'Partie 7'!$F$5:$F$28,0),1),0), _xlfn.IFNA(INDEX('Partie 7'!$J$5:$J$28,MATCH($A6,'Partie 7'!$G$5:$G$28,0),1),0)) -> 0
A7: 5 | C7: =SUM(_xlfn.IFNA(INDEX('Partie 1'!$C$5:$C$28,MATCH($A7,'Partie 1'!$B$5:$B$28,0),1),0) , _xlfn.IFNA(INDEX('Partie 1'!$B$5:$B$28,MATCH($A7,'Partie 1'!$C$5:$C$28,0),1),0),_xlfn.IFNA(INDEX('Partie 1'!$F$5:$F$28,MATCH($A7,'Partie 1'!$G$5:$G$28,0),1),0),_xlfn.IFNA(INDEX('Partie 1'!$G$5:$G$28,MATCH($A7,'Partie 1'!$F$5:$F$28,0),1),0)) -> 0 | D7: =SUM(_xlfn.IFNA(INDEX('Partie 1'!$F$5:$F$28,MATCH($A7,'Partie 1'!$B$5:$B$28,0),1),0) ,_xlfn.IFNA(INDEX('Partie 1'!$F$5:$F$28,MATCH($A7,'Partie 1'!$C$5:$C$28,0),1),0) , _xlfn.IFNA(INDEX('Partie 1'!$B$5:$B$28,MATCH($A7,'Partie 1'!$F$5:$F$28,0),1),0),_xlfn.IFNA(INDEX('Partie 1'!$B$5:$B$28,MATCH($A7,'Partie 1'!$G$5:$G$28,0),1),0)) -> 0 | E7: =SUM(_xlfn.IFNA(INDEX('Partie 1'!$G$5:$G$28,MATCH($A7,'Partie 1'!$B$5:$B$28,0),1),0) ,_xlfn.IFNA(INDEX('Partie 1'!$G$5:$G$28,MATCH($A7,'Partie 1'!$C$5:$C$28,0),1),0) , _xlfn.IFNA(INDEX('Partie 1'!$C$5:$C$28,MATCH($A7,'Partie 1'!$F$5:$F$28,0),1),0),_xlfn.IFNA(INDEX('Partie 1'!$C$5:$C$28,MATCH($A7,'Partie 1'!$G$5:$G$28,0),1),0)) -> 0 | F7: =SUM(_xlfn.IFNA(INDEX('Partie 1'!$J$5:$J$28,MATCH($A7,'Partie 1'!$B$5:$B$28,0),1),0) ,_xlfn.IFNA(INDEX('Partie 1'!$J$5:$J$28,MATCH($A7,'Partie 1'!$C$5:$C$28,0),1),0) , _xlfn.IFNA(INDEX('Partie 1'!$K$5:$K$28,MATCH($A7,'Partie 1'!$F$5:$F$28,0),1),0), _xlfn.IFNA(INDEX('Partie 1'!$K$5:$K$28,MATCH($A7,'Partie 1'!$G$5:$G$28,0),1),0)) -> 0 | G7: =SUM(_xlfn.IFNA(INDEX('Partie 1'!$K$5:$K$28,MATCH($A7,'Partie 1'!$B$5:$B$28,0),1),0) ,_xlfn.IFNA(INDEX('Partie 1'!$K$5:$K$28,MATCH($A7,'Partie 1'!$C$5:$C$28,0),1),0) , _xlfn.IFNA(INDEX('Partie 1'!$J$5:$J$28,MATCH($A7,'Partie 1'!$F$5:$F$28,0),1),0), _xlfn.IFNA(INDEX('Partie 1'!$J$5:$J$28,MATCH($A7,'Partie 1'!$G$5:$G$28,0),1),0)) -> 0 | H7: =SUM(_xlfn.IFNA(INDEX('Partie 2'!$C$5:$C$28,MATCH($A7,'Partie 2'!$B$5:$B$28,0),1),0) , _xlfn.IFNA(INDEX('Partie 2'!$B$5:$B$28,MATCH($A7,'Partie 2'!$C$5:$C$28,0),1),0),_xlfn.IFNA(INDEX('Partie 2'!$F$5:$F$28,MATCH($A7,'Partie 2'!$G$5:$G$28,0),1),0),_xlfn.IFNA(INDEX('Partie 2'!$G$5:$G$28,MATCH($A7,'Partie 2'!$F$5:$F$28,0),1),0)) -> 0 | I7: =SUM(_xlfn.IFNA(INDEX('Partie 2'!$F$5:$F$28,MATCH($A7,'Partie 2'!$B$5:$B$28,0),1),0) ,_xlfn.IFNA(INDEX('Partie 2'!$F$5:$F$28,MATCH($A7,'Partie 2'!$C$5:$C$28,0),1),0) , _xlfn.IFNA(INDEX('Partie 2'!$B$5:$B$28,MATCH($A7,'Partie 2'!$F$5:$F$28,0),1),0),_xlfn.IFNA(INDEX('Partie 2'!$B$5:$B$28,MATCH($A7,'Partie 2'!$G$5:$G$28,0),1),0)) -> 0 | J7: =SUM(_xlfn.IFNA(INDEX('Partie 2'!$G$5:$G$28,MATCH($A7,'Partie 2'!$B$5:$B$28,0),1),0) ,_xlfn.IFNA(INDEX('Partie 2'!$G$5:$G$28,MATCH($A7,'Partie 2'!$C$5:$C$28,0),1),0) , _xlfn.IFNA(INDEX('Partie 2'!$C$5:$C$28,MATCH($A7,'Partie 2'!$F$5:$F$28,0),1),0),_xlfn.IFNA(INDEX('Partie 2'!$C$5:$C$28,MATCH($A7,'Partie 2'!$G$5:$G$28,0),1),0)) -> 0 | K7: =SUM(_xlfn.IFNA(INDEX('Partie 2'!$J$5:$J$28,MATCH($A7,'Partie 2'!$B$5:$B$28,0),1),0) ,_xlfn.IFNA(INDEX('Partie 2'!$J$5:$J$28,MATCH($A7,'Partie 2'!$C$5:$C$28,0),1),0) , _xlfn.IFNA(INDEX('Partie 2'!$K$5:$K$28,MATCH($A7,'Partie 2'!$F$5:$F$28,0),1),0), _xlfn.IFNA(INDEX('Partie 2'!$K$5:$K$28,MATCH($A7,'Partie 2'!$G$5:$G$28,0),1),0)) -> 0 | L7: =SUM(_xlfn.IFNA(INDEX('Partie 2'!$K$5:$K$28,MATCH($A7,'Partie 2'!$B$5:$B$28,0),1),0) ,_xlfn.IFNA(INDEX('Partie 2'!$K$5:$K$28,MATCH($A7,'Partie 2'!$C$5:$C$28,0),1),0) , _xlfn.IFNA(INDEX('Partie 2'!$J$5:$J$28,MATCH($A7,'Partie 2'!$F$5:$F$28,0),1),0), _xlfn.IFNA(INDEX('Partie 2'!$J$5:$J$28,MATCH($A7,'Partie 2'!$G$5:$G$28,0),1),0)) -> 0 | M7: =SUM(_xlfn.IFNA(INDEX('Partie 3'!$C$5:$C$28,MATCH($A7,'Partie 3'!$B$5:$B$28,0),1),0) , _xlfn.IFNA(INDEX('Partie 3'!$B$5:$B$28,MATCH($A7,'Partie 3'!$C$5:$C$28,0),1),0),_xlfn.IFNA(INDEX('Partie 3'!$F$5:$F$28,MATCH($A7,'Partie 3'!$G$5:$G$28,0),1),0),_xlfn.IFNA(INDEX('Partie 3'!$G$5:$G$28,MATCH($A7,'Partie 3'!$F$5:$F$28,0),1),0)) -> 0 | N7: =SUM(_xlfn.IFNA(INDEX('Partie 3'!$F$5:$F$28,MATCH($A7,'Partie 3'!$B$5:$B$28,0),1),0) ,_xlfn.IFNA(INDEX('Partie 3'!$F$5:$F$28,MATCH($A7,'Partie 3'!$C$5:$C$28,0),1),0) , _xlfn.IFNA(INDEX('Partie 3'!$B$5:$B$28,MATCH($A7,'Partie 3'!$F$5:$F$28,0),1),0),_xlfn.IFNA(INDEX('Partie 3'!$B$5:$B$28,MATCH($A7,'Partie 3'!$G$5:$G$28,0),1),0)) -> 0 | O7: =SUM(_xlfn.IFNA(INDEX('Partie 3'!$G$5:$G$28,MATCH($A7,'Partie 3'!$B$5:$B$28,0),1),0) ,_xlfn.IFNA(INDEX('Partie 3'!$G$5:$G$28,MATCH($A7,'Partie 3'!$C$5:$C$28,0),1),0) , _xlfn.IFNA(INDEX('Partie 3'!$C$5:$C$28,MATCH($A7,'Partie 3'!$F$5:$F$28,0),1),0),_xlfn.IFNA(INDEX('Partie 3'!$C$5:$C$28,MATCH($A7,'Partie 3'!$G$5:$G$28,0),1),0)) -> 0 | P7: =SUM(_xlfn.IFNA(INDEX('Partie 3'!$J$5:$J$28,MATCH($A7,'Partie 3'!$B$5:$B$28,0),1),0) ,_xlfn.IFNA(INDEX('Partie 3'!$J$5:$J$28,MATCH($A7,'Partie 3'!$C$5:$C$28,0),1),0) , _xlfn.IFNA(INDEX('Partie 3'!$K$5:$K$28,MATCH($A7,'Partie 3'!$F$5:$F$28,0),1),0), _xlfn.IFNA(INDEX('Partie 3'!$K$5:$K$28,MATCH($A7,'Partie 3'!$G$5:$G$28,0),1),0)) -> 0 | Q7: =SUM(_xlfn.IFNA(INDEX('Partie 3'!$K$5:$K$28,MATCH($A7,'Partie 3'!$B$5:$B$28,0),1),0) ,_xlfn.IFNA(INDEX('Partie 3'!$K$5:$K$28,MATCH($A7,'Partie 3'!$C$5:$C$28,0),1),0) , _xlfn.IFNA(INDEX('Partie 3'!$J$5:$J$28,MATCH($A7,'Partie 3'!$F$5:$F$28,0),1),0), _xlfn.IFNA(INDEX('Partie 3'!$J$5:$J$28,MATCH($A7,'Partie 3'!$G$5:$G$28,0),1),0)) -> 0 | R7: =SUM(_xlfn.IFNA(INDEX('Partie 4'!$C$5:$C$28,MATCH($A7,'Partie 4'!$B$5:$B$28,0),1),0) , _xlfn.IFNA(INDEX('Partie 4'!$B$5:$B$28,MATCH($A7,'Partie 4'!$C$5:$C$28,0),1),0),_xlfn.IFNA(INDEX('Partie 4'!$F$5:$F$28,MATCH($A7,'Partie 4'!$G$5:$G$28,0),1),0),_xlfn.IFNA(INDEX('Partie 4'!$G$5:$G$28,MATCH($A7,'Partie 4'!$F$5:$F$28,0),1),0)) -> 0 | S7: =SUM(_xlfn.IFNA(INDEX('Partie 4'!$F$5:$F$28,MATCH($A7,'Partie 4'!$B$5:$B$28,0),1),0) ,_xlfn.IFNA(INDEX('Partie 4'!$F$5:$F$28,MATCH($A7,'Partie 4'!$C$5:$C$28,0),1),0) , _xlfn.IFNA(INDEX('Partie 4'!$B$5:$B$28,MATCH($A7,'Partie 4'!$F$5:$F$28,0),1),0),_xlfn.IFNA(INDEX('Partie 4'!$B$5:$B$28,MATCH($A7,'Partie 4'!$G$5:$G$28,0),1),0)) -> 0 | T7: =SUM(_xlfn.IFNA(INDEX('Partie 4'!$G$5:$G$28,MATCH($A7,'Partie 4'!$B$5:$B$28,0),1),0) ,_xlfn.IFNA(INDEX('Partie 4'!$G$5:$G$28,MATCH($A7,'Partie 4'!$C$5:$C$28,0),1),0) , _xlfn.IFNA(INDEX('Partie 4'!$C$5:$C$28,MATCH($A7,'Partie 4'!$F$5:$F$28,0),1),0),_xlfn.IFNA(INDEX('Partie 4'!$C$5:$C$28,MATCH($A7,'Partie 4'!$G$5:$G$28,0),1),0)) -> 0 | U7: =SUM(_xlfn.IFNA(INDEX('Partie 4'!$J$5:$J$28,MATCH($A7,'Partie 4'!$B$5:$B$28,0),1),0) ,_xlfn.IFNA(INDEX('Partie 4'!$J$5:$J$28,MATCH($A7,'Partie 4'!$C$5:$C$28,0),1),0) , _xlfn.IFNA(INDEX('Partie 4'!$K$5:$K$28,MATCH($A7,'Partie 4'!$F$5:$F$28,0),1),0), _xlfn.IFNA(INDEX('Partie 4'!$K$5:$K$28,MATCH($A7,'Partie 4'!$G$5:$G$28,0),1),0)) -> 0 | V7: =SUM(_xlfn.IFNA(INDEX('Partie 4'!$K$5:$K$28,MATCH($A7,'Partie 4'!$B$5:$B$28,0),1),0) ,_xlfn.IFNA(INDEX('Partie 4'!$K$5:$K$28,MATCH($A7,'Partie 4'!$C$5:$C$28,0),1),0) , _xlfn.IFNA(INDEX('Partie 4'!$J$5:$J$28,MATCH($A7,'Partie 4'!$F$5:$F$28,0),1),0), _xlfn.IFNA(INDEX('Partie 4'!$J$5:$J$28,MATCH($A7,'Partie 4'!$G$5:$G$28,0),1),0)) -> 0 | W7: =SUM(_xlfn.IFNA(INDEX('Partie 5'!$C$5:$C$28,MATCH($A7,'Partie 5'!$B$5:$B$28,0),1),0) , _xlfn.IFNA(INDEX('Partie 5'!$B$5:$B$28,MATCH($A7,'Partie 5'!$C$5:$C$28,0),1),0),_xlfn.IFNA(INDEX('Partie 5'!$F$5:$F$28,MATCH($A7,'Partie 5'!$G$5:$G$28,0),1),0),_xlfn.IFNA(INDEX('Partie 5'!$G$5:$G$28,MATCH($A7,'Partie 5'!$F$5:$F$28,0),1),0)) -> 0 | X7: =SUM(_xlfn.IFNA(INDEX('Partie 5'!$F$5:$F$28,MATCH($A7,'Partie 5'!$B$5:$B$28,0),1),0) ,_xlfn.IFNA(INDEX('Partie 5'!$F$5:$F$28,MATCH($A7,'Partie 5'!$C$5:$C$28,0),1),0) , _xlfn.IFNA(INDEX('Partie 5'!$B$5:$B$28,MATCH($A7,'Partie 5'!$F$5:$F$28,0),1),0),_xlfn.IFNA(INDEX('Partie 5'!$B$5:$B$28,MATCH($A7,'Partie 5'!$G$5:$G$28,0),1),0)) -> 0 | Y7: =SUM(_xlfn.IFNA(INDEX('Partie 5'!$G$5:$G$28,MATCH($A7,'Partie 5'!$B$5:$B$28,0),1),0) ,_xlfn.IFNA(INDEX('Partie 5'!$G$5:$G$28,MATCH($A7,'Partie 5'!$C$5:$C$28,0),1),0) , _xlfn.IFNA(INDEX('Partie 5'!$C$5:$C$28,MATCH($A7,'Partie 5'!$F$5:$F$28,0),1),0),_xlfn.IFNA(INDEX('Partie 5'!$C$5:$C$28,MATCH($A7,'Partie 5'!$G$5:$G$28,0),1),0)) -> 0 | Z7: =SUM(_xlfn.IFNA(INDEX('Partie 5'!$J$5:$J$28,MATCH($A7,'Partie 5'!$B$5:$B$28,0),1),0) ,_xlfn.IFNA(INDEX('Partie 5'!$J$5:$J$28,MATCH($A7,'Partie 5'!$C$5:$C$28,0),1),0) , _xlfn.IFNA(INDEX('Partie 5'!$K$5:$K$28,MATCH($A7,'Partie 5'!$F$5:$F$28,0),1),0), _xlfn.IFNA(INDEX('Partie 5'!$K$5:$K$28,MATCH($A7,'Partie 5'!$G$5:$G$28,0),1),0)) -> 0 | AA7: =SUM(_xlfn.IFNA(INDEX('Partie 5'!$K$5:$K$28,MATCH($A7,'Partie 5'!$B$5:$B$28,0),1),0) ,_xlfn.IFNA(INDEX('Partie 5'!$K$5:$K$28,MATCH($A7,'Partie 5'!$C$5:$C$28,0),1),0) , _xlfn.IFNA(INDEX('Partie 5'!$J$5:$J$28,MATCH($A7,'Partie 5'!$F$5:$F$28,0),1),0), _xlfn.IFNA(INDEX('Partie 5'!$J$5:$J$28,MATCH($A7,'Partie 5'!$G$5:$G$28,0),1),0)) -> 0 | AB7: =SUM(_xlfn.IFNA(INDEX('Partie 6'!$C$5:$C$28,MATCH($A7,'Partie 6'!$B$5:$B$28,0),1),0) , _xlfn.IFNA(INDEX('Partie 6'!$B$5:$B$28,MATCH($A7,'Partie 6'!$C$5:$C$28,0),1),0),_xlfn.IFNA(INDEX('Partie 6'!$F$5:$F$28,MATCH($A7,'Partie 6'!$G$5:$G$28,0),1),0),_xlfn.IFNA(INDEX('Partie 6'!$G$5:$G$28,MATCH($A7,'Partie 6'!$F$5:$F$28,0),1),0)) -> 0 | AC7: =SUM(_xlfn.IFNA(INDEX('Partie 6'!$F$5:$F$28,MATCH($A7,'Partie 6'!$B$5:$B$28,0),1),0) ,_xlfn.IFNA(INDEX('Partie 6'!$F$5:$F$28,MATCH($A7,'Partie 6'!$C$5:$C$28,0),1),0) , _xlfn.IFNA(INDEX('Partie 6'!$B$5:$B$28,MATCH($A7,'Partie 6'!$F$5:$F$28,0),1),0),_xlfn.IFNA(INDEX('Partie 6'!$B$5:$B$28,MATCH($A7,'Partie 6'!$G$5:$G$28,0),1),0)) -> 0 | AD7: =SUM(_xlfn.IFNA(INDEX('Partie 6'!$G$5:$G$28,MATCH($A7,'Partie 6'!$B$5:$B$28,0),1),0) ,_xlfn.IFNA(INDEX('Partie 6'!$G$5:$G$28,MATCH($A7,'Partie 6'!$C$5:$C$28,0),1),0) , _xlfn.IFNA(INDEX('Partie 6'!$C$5:$C$28,MATCH($A7,'Partie 6'!$F$5:$F$28,0),1),0),_xlfn.IFNA(INDEX('Partie 6'!$C$5:$C$28,MATCH($A7,'Partie 6'!$G$5:$G$28,0),1),0)) -> 0 | AE7: =SUM(_xlfn.IFNA(INDEX('Partie 6'!$J$5:$J$28,MATCH($A7,'Partie 6'!$B$5:$B$28,0),1),0) ,_xlfn.IFNA(INDEX('Partie 6'!$J$5:$J$28,MATCH($A7,'Partie 6'!$C$5:$C$28,0),1),0) , _xlfn.IFNA(INDEX('Partie 6'!$K$5:$K$28,MATCH($A7,'Partie 6'!$F$5:$F$28,0),1),0), _xlfn.IFNA(INDEX('Partie 6'!$K$5:$K$28,MATCH($A7,'Partie 6'!$G$5:$G$28,0),1),0)) -> 0 | AF7: =SUM(_xlfn.IFNA(INDEX('Partie 6'!$K$5:$K$28,MATCH($A7,'Partie 6'!$B$5:$B$28,0),1),0) ,_xlfn.IFNA(INDEX('Partie 6'!$K$5:$K$28,MATCH($A7,'Partie 6'!$C$5:$C$28,0),1),0) , _xlfn.IFNA(INDEX('Partie 6'!$J$5:$J$28,MATCH($A7,'Partie 6'!$F$5:$F$28,0),1),0), _xlfn.IFNA(INDEX('Partie 6'!$J$5:$J$28,MATCH($A7,'Partie 6'!$G$5:$G$28,0),1),0)) -> 0 | AG7: =SUM(_xlfn.IFNA(INDEX('Partie 7'!$C$5:$C$28,MATCH($A7,'Partie 7'!$B$5:$B$28,0),1),0) , _xlfn.IFNA(INDEX('Partie 7'!$B$5:$B$28,MATCH($A7,'Partie 7'!$C$5:$C$28,0),1),0),_xlfn.IFNA(INDEX('Partie 7'!$F$5:$F$28,MATCH($A7,'Partie 7'!$G$5:$G$28,0),1),0),_xlfn.IFNA(INDEX('Partie 7'!$G$5:$G$28,MATCH($A7,'Partie 7'!$F$5:$F$28,0),1),0)) -> 0 | AH7: =SUM(_xlfn.IFNA(INDEX('Partie 7'!$F$5:$F$28,MATCH($A7,'Partie 7'!$B$5:$B$28,0),1),0) ,_xlfn.IFNA(INDEX('Partie 7'!$F$5:$F$28,MATCH($A7,'Partie 7'!$C$5:$C$28,0),1),0) , _xlfn.IFNA(INDEX('Partie 7'!$B$5:$B$28,MATCH($A7,'Partie 7'!$F$5:$F$28,0),1),0),_xlfn.IFNA(INDEX('Partie 7'!$B$5:$B$28,MATCH($A7,'Partie 7'!$G$5:$G$28,0),1),0)) -> 0 | AI7: =SUM(_xlfn.IFNA(INDEX('Partie 7'!$G$5:$G$28,MATCH($A7,'Partie 7'!$B$5:$B$28,0),1),0) ,_xlfn.IFNA(INDEX('Partie 7'!$G$5:$G$28,MATCH($A7,'Partie 7'!$C$5:$C$28,0),1),0) , _xlfn.IFNA(INDEX('Partie 7'!$C$5:$C$28,MATCH($A7,'Partie 7'!$F$5:$F$28,0),1),0),_xlfn.IFNA(INDEX('Partie 7'!$C$5:$C$28,MATCH($A7,'Partie 7'!$G$5:$G$28,0),1),0)) -> 0 | AJ7: =SUM(_xlfn.IFNA(INDEX('Partie 7'!$J$5:$J$28,MATCH($A7,'Partie 7'!$B$5:$B$28,0),1),0) ,_xlfn.IFNA(INDEX('Partie 7'!$J$5:$J$28,MATCH($A7,'Partie 7'!$C$5:$C$28,0),1),0) , _xlfn.IFNA(INDEX('Partie 7'!$K$5:$K$28,MATCH($A7,'Partie 7'!$F$5:$F$28,0),1),0), _xlfn.IFNA(INDEX('Partie 7'!$K$5:$K$28,MATCH($A7,'Partie 7'!$G$5:$G$28,0),1),0)) -> 0 | AK7: =SUM(_xlfn.IFNA(INDEX('Partie 7'!$K$5:$K$28,MATCH($A7,'Partie 7'!$B$5:$B$28,0),1),0) ,_xlfn.IFNA(INDEX('Partie 7'!$K$5:$K$28,MATCH($A7,'Partie 7'!$C$5:$C$28,0),1),0) , _xlfn.IFNA(INDEX('Partie 7'!$J$5:$J$28,MATCH($A7,'Partie 7'!$F$5:$F$28,0),1),0), _xlfn.IFNA(INDEX('Partie 7'!$J$5:$J$28,MATCH($A7,'Partie 7'!$G$5:$G$28,0),1),0)) -> 0
A8: 6 | C8: =SUM(_xlfn.IFNA(INDEX('Partie 1'!$C$5:$C$28,MATCH($A8,'Partie 1'!$B$5:$B$28,0),1),0) , _xlfn.IFNA(INDEX('Partie 1'!$B$5:$B$28,MATCH($A8,'Partie 1'!$C$5:$C$28,0),1),0),_xlfn.IFNA(INDEX('Partie 1'!$F$5:$F$28,MATCH($A8,'Partie 1'!$G$5:$G$28,0),1),0),_xlfn.IFNA(INDEX('Partie 1'!$G$5:$G$28,MATCH($A8,'Partie 1'!$F$5:$F$28,0),1),0)) -> 0 | D8: =SUM(_xlfn.IFNA(INDEX('Partie 1'!$F$5:$F$28,MATCH($A8,'Partie 1'!$B$5:$B$28,0),1),0) ,_xlfn.IFNA(INDEX('Partie 1'!$F$5:$F$28,MATCH($A8,'Partie 1'!$C$5:$C$28,0),1),0) , _xlfn.IFNA(INDEX('Partie 1'!$B$5:$B$28,MATCH($A8,'Partie 1'!$F$5:$F$28,0),1),0),_xlfn.IFNA(INDEX('Partie 1'!$B$5:$B$28,MATCH($A8,'Partie 1'!$G$5:$G$28,0),1),0)) -> 0 | E8: =SUM(_xlfn.IFNA(INDEX('Partie 1'!$G$5:$G$28,MATCH($A8,'Partie 1'!$B$5:$B$28,0),1),0) ,_xlfn.IFNA(INDEX('Partie 1'!$G$5:$G$28,MATCH($A8,'Partie 1'!$C$5:$C$28,0),1),0) , _xlfn.IFNA(INDEX('Partie 1'!$C$5:$C$28,MATCH($A8,'Partie 1'!$F$5:$F$28,0),1),0),_xlfn.IFNA(INDEX('Partie 1'!$C$5:$C$28,MATCH($A8,'Partie 1'!$G$5:$G$28,0),1),0)) -> 0 | F8: =SUM(_xlfn.IFNA(INDEX('Partie 1'!$J$5:$J$28,MATCH($A8,'Partie 1'!$B$5:$B$28,0),1),0) ,_xlfn.IFNA(INDEX('Partie 1'!$J$5:$J$28,MATCH($A8,'Partie 1'!$C$5:$C$28,0),1),0) , _xlfn.IFNA(INDEX('Partie 1'!$K$5:$K$28,MATCH($A8,'Partie 1'!$F$5:$F$28,0),1),0), _xlfn.IFNA(INDEX('Partie 1'!$K$5:$K$28,MATCH($A8,'Partie 1'!$G$5:$G$28,0),1),0)) -> 0 | G8: =SUM(_xlfn.IFNA(INDEX('Partie 1'!$K$5:$K$28,MATCH($A8,'Partie 1'!$B$5:$B$28,0),1),0) ,_xlfn.IFNA(INDEX('Partie 1'!$K$5:$K$28,MATCH($A8,'Partie 1'!$C$5:$C$28,0),1),0) , _xlfn.IFNA(INDEX('Partie 1'!$J$5:$J$28,MATCH($A8,'Partie 1'!$F$5:$F$28,0),1),0), _xlfn.IFNA(INDEX('Partie 1'!$J$5:$J$28,MATCH($A8,'Partie 1'!$G$5:$G$28,0),1),0)) -> 0 | H8: =SUM(_xlfn.IFNA(INDEX('Partie 2'!$C$5:$C$28,MATCH($A8,'Partie 2'!$B$5:$B$28,0),1),0) , _xlfn.IFNA(INDEX('Partie 2'!$B$5:$B$28,MATCH($A8,'Partie 2'!$C$5:$C$28,0),1),0),_xlfn.IFNA(INDEX('Partie 2'!$F$5:$F$28,MATCH($A8,'Partie 2'!$G$5:$G$28,0),1),0),_xlfn.IFNA(INDEX('Partie 2'!$G$5:$G$28,MATCH($A8,'Partie 2'!$F$5:$F$28,0),1),0)) -> 0 | I8: =SUM(_xlfn.IFNA(INDEX('Partie 2'!$F$5:$F$28,MATCH($A8,'Partie 2'!$B$5:$B$28,0),1),0) ,_xlfn.IFNA(INDEX('Partie 2'!$F$5:$F$28,MATCH($A8,'Partie 2'!$C$5:$C$28,0),1),0) , _xlfn.IFNA(INDEX('Partie 2'!$B$5:$B$28,MATCH($A8,'Partie 2'!$F$5:$F$28,0),1),0),_xlfn.IFNA(INDEX('Partie 2'!$B$5:$B$28,MATCH($A8,'Partie 2'!$G$5:$G$28,0),1),0)) -> 0 | J8: =SUM(_xlfn.IFNA(INDEX('Partie 2'!$G$5:$G$28,MATCH($A8,'Partie 2'!$B$5:$B$28,0),1),0) ,_xlfn.IFNA(INDEX('Partie 2'!$G$5:$G$28,MATCH($A8,'Partie 2'!$C$5:$C$28,0),1),0) , _xlfn.IFNA(INDEX('Partie 2'!$C$5:$C$28,MATCH($A8,'Partie 2'!$F$5:$F$28,0),1),0),_xlfn.IFNA(INDEX('Partie 2'!$C$5:$C$28,MATCH($A8,'Partie 2'!$G$5:$G$28,0),1),0)) -> 0 | K8: =SUM(_xlfn.IFNA(INDEX('Partie 2'!$J$5:$J$28,MATCH($A8,'Partie 2'!$B$5:$B$28,0),1),0) ,_xlfn.IFNA(INDEX('Partie 2'!$J$5:$J$28,MATCH($A8,'Partie 2'!$C$5:$C$28,0),1),0) , _xlfn.IFNA(INDEX('Partie 2'!$K$5:$K$28,MATCH($A8,'Partie 2'!$F$5:$F$28,0),1),0), _xlfn.IFNA(INDEX('Partie 2'!$K$5:$K$28,MATCH($A8,'Partie 2'!$G$5:$G$28,0),1),0)) -> 0 | L8: =SUM(_xlfn.IFNA(INDEX('Partie 2'!$K$5:$K$28,MATCH($A8,'Partie 2'!$B$5:$B$28,0),1),0) ,_xlfn.IFNA(INDEX('Partie 2'!$K$5:$K$28,MATCH($A8,'Partie 2'!$C$5:$C$28,0),1),0) , _xlfn.IFNA(INDEX('Partie 2'!$J$5:$J$28,MATCH($A8,'Partie 2'!$F$5:$F$28,0),1),0), _xlfn.IFNA(INDEX('Partie 2'!$J$5:$J$28,MATCH($A8,'Partie 2'!$G$5:$G$28,0),1),0)) -> 0 | M8: =SUM(_xlfn.IFNA(INDEX('Partie 3'!$C$5:$C$28,MATCH($A8,'Partie 3'!$B$5:$B$28,0),1),0) , _xlfn.IFNA(INDEX('Partie 3'!$B$5:$B$28,MATCH($A8,'Partie 3'!$C$5:$C$28,0),1),0),_xlfn.IFNA(INDEX('Partie 3'!$F$5:$F$28,MATCH($A8,'Partie 3'!$G$5:$G$28,0),1),0),_xlfn.IFNA(INDEX('Partie 3'!$G$5:$G$28,MATCH($A8,'Partie 3'!$F$5:$F$28,0),1),0)) -> 0 | N8: =SUM(_xlfn.IFNA(INDEX('Partie 3'!$F$5:$F$28,MATCH($A8,'Partie 3'!$B$5:$B$28,0),1),0) ,_xlfn.IFNA(INDEX('Partie 3'!$F$5:$F$28,MATCH($A8,'Partie 3'!$C$5:$C$28,0),1),0) , _xlfn.IFNA(INDEX('Partie 3'!$B$5:$B$28,MATCH($A8,'Partie 3'!$F$5:$F$28,0),1),0),_xlfn.IFNA(INDEX('Partie 3'!$B$5:$B$28,MATCH($A8,'Partie 3'!$G$5:$G$28,0),1),0)) -> 0 | O8: =SUM(_xlfn.IFNA(INDEX('Partie 3'!$G$5:$G$28,MATCH($A8,'Partie 3'!$B$5:$B$28,0),1),0) ,_xlfn.IFNA(INDEX('Partie 3'!$G$5:$G$28,MATCH($A8,'Partie 3'!$C$5:$C$28,0),1),0) , _xlfn.IFNA(INDEX('Partie 3'!$C$5:$C$28,MATCH($A8,'Partie 3'!$F$5:$F$28,0),1),0),_xlfn.IFNA(INDEX('Partie 3'!$C$5:$C$28,MATCH($A8,'Partie 3'!$G$5:$G$28,0),1),0)) -> 0 | P8: =SUM(_xlfn.IFNA(INDEX('Partie 3'!$J$5:$J$28,MATCH($A8,'Partie 3'!$B$5:$B$28,0),1),0) ,_xlfn.IFNA(INDEX('Partie 3'!$J$5:$J$28,MATCH($A8,'Partie 3'!$C$5:$C$28,0),1),0) , _xlfn.IFNA(INDEX('Partie 3'!$K$5:$K$28,MATCH($A8,'Partie 3'!$F$5:$F$28,0),1),0), _xlfn.IFNA(INDEX('Partie 3'!$K$5:$K$28,MATCH($A8,'Partie 3'!$G$5:$G$28,0),1),0)) -> 0 | Q8: =SUM(_xlfn.IFNA(INDEX('Partie 3'!$K$5:$K$28,MATCH($A8,'Partie 3'!$B$5:$B$28,0),1),0) ,_xlfn.IFNA(INDEX('Partie 3'!$K$5:$K$28,MATCH($A8,'Partie 3'!$C$5:$C$28,0),1),0) , _xlfn.IFNA(INDEX('Partie 3'!$J$5:$J$28,MATCH($A8,'Partie 3'!$F$5:$F$28,0),1),0), _xlfn.IFNA(INDEX('Partie 3'!$J$5:$J$28,MATCH($A8,'Partie 3'!$G$5:$G$28,0),1),0)) -> 0 | R8: =SUM(_xlfn.IFNA(INDEX('Partie 4'!$C$5:$C$28,MATCH($A8,'Partie 4'!$B$5:$B$28,0),1),0) , _xlfn.IFNA(INDEX('Partie 4'!$B$5:$B$28,MATCH($A8,'Partie 4'!$C$5:$C$28,0),1),0),_xlfn.IFNA(INDEX('Partie 4'!$F$5:$F$28,MATCH($A8,'Partie 4'!$G$5:$G$28,0),1),0),_xlfn.IFNA(INDEX('Partie 4'!$G$5:$G$28,MATCH($A8,'Partie 4'!$F$5:$F$28,0),1),0)) -> 0 | S8: =SUM(_xlfn.IFNA(INDEX('Partie 4'!$F$5:$F$28,MATCH($A8,'Partie 4'!$B$5:$B$28,0),1),0) ,_xlfn.IFNA(INDEX('Partie 4'!$F$5:$F$28,MATCH($A8,'Partie 4'!$C$5:$C$28,0),1),0) , _xlfn.IFNA(INDEX('Partie 4'!$B$5:$B$28,MATCH($A8,'Partie 4'!$F$5:$F$28,0),1),0),_xlfn.IFNA(INDEX('Partie 4'!$B$5:$B$28,MATCH($A8,'Partie 4'!$G$5:$G$28,0),1),0)) -> 0 | T8: =SUM(_xlfn.IFNA(INDEX('Partie 4'!$G$5:$G$28,MATCH($A8,'Partie 4'!$B$5:$B$28,0),1),0) ,_xlfn.IFNA(INDEX('Partie 4'!$G$5:$G$28,MATCH($A8,'Partie 4'!$C$5:$C$28,0),1),0) , _xlfn.IFNA(INDEX('Partie 4'!$C$5:$C$28,MATCH($A8,'Partie 4'!$F$5:$F$28,0),1),0),_xlfn.IFNA(INDEX('Partie 4'!$C$5:$C$28,MATCH($A8,'Partie 4'!$G$5:$G$28,0),1),0)) -> 0 | U8: =SUM(_xlfn.IFNA(INDEX('Partie 4'!$J$5:$J$28,MATCH($A8,'Partie 4'!$B$5:$B$28,0),1),0) ,_xlfn.IFNA(INDEX('Partie 4'!$J$5:$J$28,MATCH($A8,'Partie 4'!$C$5:$C$28,0),1),0) , _xlfn.IFNA(INDEX('Partie 4'!$K$5:$K$28,MATCH($A8,'Partie 4'!$F$5:$F$28,0),1),0), _xlfn.IFNA(INDEX('Partie 4'!$K$5:$K$28,MATCH($A8,'Partie 4'!$G$5:$G$28,0),1),0)) -> 0 | V8: =SUM(_xlfn.IFNA(INDEX('Partie 4'!$K$5:$K$28,MATCH($A8,'Partie 4'!$B$5:$B$28,0),1),0) ,_xlfn.IFNA(INDEX('Partie 4'!$K$5:$K$28,MATCH($A8,'Partie 4'!$C$5:$C$28,0),1),0) , _xlfn.IFNA(INDEX('Partie 4'!$J$5:$J$28,MATCH($A8,'Partie 4'!$F$5:$F$28,0),1),0), _xlfn.IFNA(INDEX('Partie 4'!$J$5:$J$28,MATCH($A8,'Partie 4'!$G$5:$G$28,0),1),0)) -> 0 | W8: =SUM(_xlfn.IFNA(INDEX('Partie 5'!$C$5:$C$28,MATCH($A8,'Partie 5'!$B$5:$B$28,0),1),0) , _xlfn.IFNA(INDEX('Partie 5'!$B$5:$B$28,MATCH($A8,'Partie 5'!$C$5:$C$28,0),1),0),_xlfn.IFNA(INDEX('Partie 5'!$F$5:$F$28,MATCH($A8,'Partie 5'!$G$5:$G$28,0),1),0),_xlfn.IFNA(INDEX('Partie 5'!$G$5:$G$28,MATCH($A8,'Partie 5'!$F$5:$F$28,0),1),0)) -> 0 | X8: =SUM(_xlfn.IFNA(INDEX('Partie 5'!$F$5:$F$28,MATCH($A8,'Partie 5'!$B$5:$B$28,0),1),0) ,_xlfn.IFNA(INDEX('Partie 5'!$F$5:$F$28,MATCH($A8,'Partie 5'!$C$5:$C$28,0),1),0) , _xlfn.IFNA(INDEX('Partie 5'!$B$5:$B$28,MATCH($A8,'Partie 5'!$F$5:$F$28,0),1),0),_xlfn.IFNA(INDEX('Partie 5'!$B$5:$B$28,MATCH($A8,'Partie 5'!$G$5:$G$28,0),1),0)) -> 0 | Y8: =SUM(_xlfn.IFNA(INDEX('Partie 5'!$G$5:$G$28,MATCH($A8,'Partie 5'!$B$5:$B$28,0),1),0) ,_xlfn.IFNA(INDEX('Partie 5'!$G$5:$G$28,MATCH($A8,'Partie 5'!$C$5:$C$28,0),1),0) , _xlfn.IFNA(INDEX('Partie 5'!$C$5:$C$28,MATCH($A8,'Partie 5'!$F$5:$F$28,0),1),0),_xlfn.IFNA(INDEX('Partie 5'!$C$5:$C$28,MATCH($A8,'Partie 5'!$G$5:$G$28,0),1),0)) -> 0 | Z8: =SUM(_xlfn.IFNA(INDEX('Partie 5'!$J$5:$J$28,MATCH($A8,'Partie 5'!$B$5:$B$28,0),1),0) ,_xlfn.IFNA(INDEX('Partie 5'!$J$5:$J$28,MATCH($A8,'Partie 5'!$C$5:$C$28,0),1),0) , _xlfn.IFNA(INDEX('Partie 5'!$K$5:$K$28,MATCH($A8,'Partie 5'!$F$5:$F$28,0),1),0), _xlfn.IFNA(INDEX('Partie 5'!$K$5:$K$28,MATCH($A8,'Partie 5'!$G$5:$G$28,0),1),0)) -> 0 | AA8: =SUM(_xlfn.IFNA(INDEX('Partie 5'!$K$5:$K$28,MATCH($A8,'Partie 5'!$B$5:$B$28,0),1),0) ,_xlfn.IFNA(INDEX('Partie 5'!$K$5:$K$28,MATCH($A8,'Partie 5'!$C$5:$C$28,0),1),0) , _xlfn.IFNA(INDEX('Partie 5'!$J$5:$J$28,MATCH($A8,'Partie 5'!$F$5:$F$28,0),1),0), _xlfn.IFNA(INDEX('Partie 5'!$J$5:$J$28,MATCH($A8,'Partie 5'!$G$5:$G$28,0),1),0)) -> 0 | AB8: =SUM(_xlfn.IFNA(INDEX('Partie 6'!$C$5:$C$28,MATCH($A8,'Partie 6'!$B$5:$B$28,0),1),0) , _xlfn.IFNA(INDEX('Partie 6'!$B$5:$B$28,MATCH($A8,'Partie 6'!$C$5:$C$28,0),1),0),_xlfn.IFNA(INDEX('Partie 6'!$F$5:$F$28,MATCH($A8,'Partie 6'!$G$5:$G$28,0),1),0),_xlfn.IFNA(INDEX('Partie 6'!$G$5:$G$28,MATCH($A8,'Partie 6'!$F$5:$F$28,0),1),0)) -> 0 | AC8: =SUM(_xlfn.IFNA(INDEX('Partie 6'!$F$5:$F$28,MATCH($A8,'Partie 6'!$B$5:$B$28,0),1),0) ,_xlfn.IFNA(INDEX('Partie 6'!$F$5:$F$28,MATCH($A8,'Partie 6'!$C$5:$C$28,0),1),0) , _xlfn.IFNA(INDEX('Partie 6'!$B$5:$B$28,MATCH($A8,'Partie 6'!$F$5:$F$28,0),1),0),_xlfn.IFNA(INDEX('Partie 6'!$B$5:$B$28,MATCH($A8,'Partie 6'!$G$5:$G$28,0),1),0)) -> 0 | AD8: =SUM(_xlfn.IFNA(INDEX('Partie 6'!$G$5:$G$28,MATCH($A8,'Partie 6'!$B$5:$B$28,0),1),0) ,_xlfn.IFNA(INDEX('Partie 6'!$G$5:$G$28,MATCH($A8,'Partie 6'!$C$5:$C$28,0),1),0) , _xlfn.IFNA(INDEX('Partie 6'!$C$5:$C$28,MATCH($A8,'Partie 6'!$F$5:$F$28,0),1),0),_xlfn.IFNA(INDEX('Partie 6'!$C$5:$C$28,MATCH($A8,'Partie 6'!$G$5:$G$28,0),1),0)) -> 0 | AE8: =SUM(_xlfn.IFNA(INDEX('Partie 6'!$J$5:$J$28,MATCH($A8,'Partie 6'!$B$5:$B$28,0),1),0) ,_xlfn.IFNA(INDEX('Partie 6'!$J$5:$J$28,MATCH($A8,'Partie 6'!$C$5:$C$28,0),1),0) , _xlfn.IFNA(INDEX('Partie 6'!$K$5:$K$28,MATCH($A8,'Partie 6'!$F$5:$F$28,0),1),0), _xlfn.IFNA(INDEX('Partie 6'!$K$5:$K$28,MATCH($A8,'Partie 6'!$G$5:$G$28,0),1),0)) -> 0 | AF8: =SUM(_xlfn.IFNA(INDEX('Partie 6'!$K$5:$K$28,MATCH($A8,'Partie 6'!$B$5:$B$28,0),1),0) ,_xlfn.IFNA(INDEX('Partie 6'!$K$5:$K$28,MATCH($A8,'Partie 6'!$C$5:$C$28,0),1),0) , _xlfn.IFNA(INDEX('Partie 6'!$J$5:$J$28,MATCH($A8,'Partie 6'!$F$5:$F$28,0),1),0), _xlfn.IFNA(INDEX('Partie 6'!$J$5:$J$28,MATCH($A8,'Partie 6'!$G$5:$G$28,0),1),0)) -> 0 | AG8: =SUM(_xlfn.IFNA(INDEX('Partie 7'!$C$5:$C$28,MATCH($A8,'Partie 7'!$B$5:$B$28,0),1),0) , _xlfn.IFNA(INDEX('Partie 7'!$B$5:$B$28,MATCH($A8,'Partie 7'!$C$5:$C$28,0),1),0),_xlfn.IFNA(INDEX('Partie 7'!$F$5:$F$28,MATCH($A8,'Partie 7'!$G$5:$G$28,0),1),0),_xlfn.IFNA(INDEX('Partie 7'!$G$5:$G$28,MATCH($A8,'Partie 7'!$F$5:$F$28,0),1),0)) -> 0 | AH8: =SUM(_xlfn.IFNA(INDEX('Partie 7'!$F$5:$F$28,MATCH($A8,'Partie 7'!$B$5:$B$28,0),1),0) ,_xlfn.IFNA(INDEX('Partie 7'!$F$5:$F$28,MATCH($A8,'Partie 7'!$C$5:$C$28,0),1),0) , _xlfn.IFNA(INDEX('Partie 7'!$B$5:$B$28,MATCH($A8,'Partie 7'!$F$5:$F$28,0),1),0),_xlfn.IFNA(INDEX('Partie 7'!$B$5:$B$28,MATCH($A8,'Partie 7'!$G$5:$G$28,0),1),0)) -> 0 | AI8: =SUM(_xlfn.IFNA(INDEX('Partie 7'!$G$5:$G$28,MATCH($A8,'Partie 7'!$B$5:$B$28,0),1),0) ,_xlfn.IFNA(INDEX('Partie 7'!$G$5:$G$28,MATCH($A8,'Partie 7'!$C$5:$C$28,0),1),0) , _xlfn.IFNA(INDEX('Partie 7'!$C$5:$C$28,MATCH($A8,'Partie 7'!$F$5:$F$28,0),1),0),_xlfn.IFNA(INDEX('Partie 7'!$C$5:$C$28,MATCH($A8,'Partie 7'!$G$5:$G$28,0),1),0)) -> 0 | AJ8: =SUM(_xlfn.IFNA(INDEX('Partie 7'!$J$5:$J$28,MATCH($A8,'Partie 7'!$B$5:$B$28,0),1),0) ,_xlfn.IFNA(INDEX('Partie 7'!$J$5:$J$28,MATCH($A8,'Partie 7'!$C$5:$C$28,0),1),0) , _xlfn.IFNA(INDEX('Partie 7'!$K$5:$K$28,MATCH($A8,'Partie 7'!$F$5:$F$28,0),1),0), _xlfn.IFNA(INDEX('Partie 7'!$K$5:$K$28,MATCH($A8,'Partie 7'!$G$5:$G$28,0),1),0)) -> 0 | AK8: =SUM(_xlfn.IFNA(INDEX('Partie 7'!$K$5:$K$28,MATCH($A8,'Partie 7'!$B$5:$B$28,0),1),0) ,_xlfn.IFNA(INDEX('Partie 7'!$K$5:$K$28,MATCH($A8,'Partie 7'!$C$5:$C$28,0),1),0) , _xlfn.IFNA(INDEX('Partie 7'!$J$5:$J$28,MATCH($A8,'Partie 7'!$F$5:$F$28,0),1),0), _xlfn.IFNA(INDEX('Partie 7'!$J$5:$J$28,MATCH($A8,'Partie 7'!$G$5:$G$28,0),1),0)) -> 0
A9: 7 | C9: =SUM(_xlfn.IFNA(INDEX('Partie 1'!$C$5:$C$28,MATCH($A9,'Partie 1'!$B$5:$B$28,0),1),0) , _xlfn.IFNA(INDEX('Partie 1'!$B$5:$B$28,MATCH($A9,'Partie 1'!$C$5:$C$28,0),1),0),_xlfn.IFNA(INDEX('Partie 1'!$F$5:$F$28,MATCH($A9,'Partie 1'!$G$5:$G$28,0),1),0),_xlfn.IFNA(INDEX('Partie 1'!$G$5:$G$28,MATCH($A9,'Partie 1'!$F$5:$F$28,0),1),0)) -> 0 | D9: =SUM(_xlfn.IFNA(INDEX('Partie 1'!$F$5:$F$28,MATCH($A9,'Partie 1'!$B$5:$B$28,0),1),0) ,_xlfn.IFNA(INDEX('Partie 1'!$F$5:$F$28,MATCH($A9,'Partie 1'!$C$5:$C$28,0),1),0) , _xlfn.IFNA(INDEX('Partie 1'!$B$5:$B$28,MATCH($A9,'Partie 1'!$F$5:$F$28,0),1),0),_xlfn.IFNA(INDEX('Partie 1'!$B$5:$B$28,MATCH($A9,'Partie 1'!$G$5:$G$28,0),1),0)) -> 0 | E9: =SUM(_xlfn.IFNA(INDEX('Partie 1'!$G$5:$G$28,MATCH($A9,'Partie 1'!$B$5:$B$28,0),1),0) ,_xlfn.IFNA(INDEX('Partie 1'!$G$5:$G$28,MATCH($A9,'Partie 1'!$C$5:$C$28,0),1),0) , _xlfn.IFNA(INDEX('Partie 1'!$C$5:$C$28,MATCH($A9,'Partie 1'!$F$5:$F$28,0),1),0),_xlfn.IFNA(INDEX('Partie 1'!$C$5:$C$28,MATCH($A9,'Partie 1'!$G$5:$G$28,0),1),0)) -> 0 | F9: =SUM(_xlfn.IFNA(INDEX('Partie 1'!$J$5:$J$28,MATCH($A9,'Partie 1'!$B$5:$B$28,0),1),0) ,_xlfn.IFNA(INDEX('Partie 1'!$J$5:$J$28,MATCH($A9,'Partie 1'!$C$5:$C$28,0),1),0) , _xlfn.IFNA(INDEX('Partie 1'!$K$5:$K$28,MATCH($A9,'Partie 1'!$F$5:$F$28,0),1),0), _xlfn.IFNA(INDEX('Partie 1'!$K$5:$K$28,MATCH($A9,'Partie 1'!$G$5:$G$28,0),1),0)) -> 0 | G9: =SUM(_xlfn.IFNA(INDEX('Partie 1'!$K$5:$K$28,MATCH($A9,'Partie 1'!$B$5:$B$28,0),1),0) ,_xlfn.IFNA(INDEX('Partie 1'!$K$5:$K$28,MATCH($A9,'Partie 1'!$C$5:$C$28,0),1),0) , _xlfn.IFNA(INDEX('Partie 1'!$J$5:$J$28,MATCH($A9,'Partie 1'!$F$5:$F$28,0),1),0), _xlfn.IFNA(INDEX('Partie 1'!$J$5:$J$28,MATCH($A9,'Partie 1'!$G$5:$G$28,0),1),0)) -> 0 | H9: =SUM(_xlfn.IFNA(INDEX('Partie 2'!$C$5:$C$28,MATCH($A9,'Partie 2'!$B$5:$B$28,0),1),0) , _xlfn.IFNA(INDEX('Partie 2'!$B$5:$B$28,MATCH($A9,'Partie 2'!$C$5:$C$28,0),1),0),_xlfn.IFNA(INDEX('Partie 2'!$F$5:$F$28,MATCH($A9,'Partie 2'!$G$5:$G$28,0),1),0),_xlfn.IFNA(INDEX('Partie 2'!$G$5:$G$28,MATCH($A9,'Partie 2'!$F$5:$F$28,0),1),0)) -> 0 | I9: =SUM(_xlfn.IFNA(INDEX('Partie 2'!$F$5:$F$28,MATCH($A9,'Partie 2'!$B$5:$B$28,0),1),0) ,_xlfn.IFNA(INDEX('Partie 2'!$F$5:$F$28,MATCH($A9,'Partie 2'!$C$5:$C$28,0),1),0) , _xlfn.IFNA(INDEX('Partie 2'!$B$5:$B$28,MATCH($A9,'Partie 2'!$F$5:$F$28,0),1),0),_xlfn.IFNA(INDEX('Partie 2'!$B$5:$B$28,MATCH($A9,'Partie 2'!$G$5:$G$28,0),1),0)) -> 0 | J9: =SUM(_xlfn.IFNA(INDEX('Partie 2'!$G$5:$G$28,MATCH($A9,'Partie 2'!$B$5:$B$28,0),1),0) ,_xlfn.IFNA(INDEX('Partie 2'!$G$5:$G$28,MATCH($A9,'Partie 2'!$C$5:$C$28,0),1),0) , _xlfn.IFNA(INDEX('Partie 2'!$C$5:$C$28,MATCH($A9,'Partie 2'!$F$5:$F$28,0),1),0),_xlfn.IFNA(INDEX('Partie 2'!$C$5:$C$28,MATCH($A9,'Partie 2'!$G$5:$G$28,0),1),0)) -> 0 | K9: =SUM(_xlfn.IFNA(INDEX('Partie 2'!$J$5:$J$28,MATCH($A9,'Partie 2'!$B$5:$B$28,0),1),0) ,_xlfn.IFNA(INDEX('Partie 2'!$J$5:$J$28,MATCH($A9,'Partie 2'!$C$5:$C$28,0),1),0) , _xlfn.IFNA(INDEX('Partie 2'!$K$5:$K$28,MATCH($A9,'Partie 2'!$F$5:$F$28,0),1),0), _xlfn.IFNA(INDEX('Partie 2'!$K$5:$K$28,MATCH($A9,'Partie 2'!$G$5:$G$28,0),1),0)) -> 0 | L9: =SUM(_xlfn.IFNA(INDEX('Partie 2'!$K$5:$K$28,MATCH($A9,'Partie 2'!$B$5:$B$28,0),1),0) ,_xlfn.IFNA(INDEX('Partie 2'!$K$5:$K$28,MATCH($A9,'Partie 2'!$C$5:$C$28,0),1),0) , _xlfn.IFNA(INDEX('Partie 2'!$J$5:$J$28,MATCH($A9,'Partie 2'!$F$5:$F$28,0),1),0), _xlfn.IFNA(INDEX('Partie 2'!$J$5:$J$28,MATCH($A9,'Partie 2'!$G$5:$G$28,0),1),0)) -> 0 | M9: =SUM(_xlfn.IFNA(INDEX('Partie 3'!$C$5:$C$28,MATCH($A9,'Partie 3'!$B$5:$B$28,0),1),0) , _xlfn.IFNA(INDEX('Partie 3'!$B$5:$B$28,MATCH($A9,'Partie 3'!$C$5:$C$28,0),1),0),_xlfn.IFNA(INDEX('Partie 3'!$F$5:$F$28,MATCH($A9,'Partie 3'!$G$5:$G$28,0),1),0),_xlfn.IFNA(INDEX('Partie 3'!$G$5:$G$28,MATCH($A9,'Partie 3'!$F$5:$F$28,0),1),0)) -> 0 | N9: =SUM(_xlfn.IFNA(INDEX('Partie 3'!$F$5:$F$28,MATCH($A9,'Partie 3'!$B$5:$B$28,0),1),0) ,_xlfn.IFNA(INDEX('Partie 3'!$F$5:$F$28,MATCH($A9,'Partie 3'!$C$5:$C$28,0),1),0) , _xlfn.IFNA(INDEX('Partie 3'!$B$5:$B$28,MATCH($A9,'Partie 3'!$F$5:$F$28,0),1),0),_xlfn.IFNA(INDEX('Partie 3'!$B$5:$B$28,MATCH($A9,'Partie 3'!$G$5:$G$28,0),1),0)) -> 0 | O9: =SUM(_xlfn.IFNA(INDEX('Partie 3'!$G$5:$G$28,MATCH($A9,'Partie 3'!$B$5:$B$28,0),1),0) ,_xlfn.IFNA(INDEX('Partie 3'!$G$5:$G$28,MATCH($A9,'Partie 3'!$C$5:$C$28,0),1),0) , _xlfn.IFNA(INDEX('Partie 3'!$C$5:$C$28,MATCH($A9,'Partie 3'!$F$5:$F$28,0),1),0),_xlfn.IFNA(INDEX('Partie 3'!$C$5:$C$28,MATCH($A9,'Partie 3'!$G$5:$G$28,0),1),0)) -> 0 | P9: =SUM(_xlfn.IFNA(INDEX('Partie 3'!$J$5:$J$28,MATCH($A9,'Partie 3'!$B$5:$B$28,0),1),0) ,_xlfn.IFNA(INDEX('Partie 3'!$J$5:$J$28,MATCH($A9,'Partie 3'!$C$5:$C$28,0),1),0) , _xlfn.IFNA(INDEX('Partie 3'!$K$5:$K$28,MATCH($A9,'Partie 3'!$F$5:$F$28,0),1),0), _xlfn.IFNA(INDEX('Partie 3'!$K$5:$K$28,MATCH($A9,'Partie 3'!$G$5:$G$28,0),1),0)) -> 0 | Q9: =SUM(_xlfn.IFNA(INDEX('Partie 3'!$K$5:$K$28,MATCH($A9,'Partie 3'!$B$5:$B$28,0),1),0) ,_xlfn.IFNA(INDEX('Partie 3'!$K$5:$K$28,MATCH($A9,'Partie 3'!$C$5:$C$28,0),1),0) , _xlfn.IFNA(INDEX('Partie 3'!$J$5:$J$28,MATCH($A9,'Partie 3'!$F$5:$F$28,0),1),0), _xlfn.IFNA(INDEX('Partie 3'!$J$5:$J$28,MATCH($A9,'Partie 3'!$G$5:$G$28,0),1),0)) -> 0 | R9: =SUM(_xlfn.IFNA(INDEX('Partie 4'!$C$5:$C$28,MATCH($A9,'Partie 4'!$B$5:$B$28,0),1),0) , _xlfn.IFNA(INDEX('Partie 4'!$B$5:$B$28,MATCH($A9,'Partie 4'!$C$5:$C$28,0),1),0),_xlfn.IFNA(INDEX('Partie 4'!$F$5:$F$28,MATCH($A9,'Partie 4'!$G$5:$G$28,0),1),0),_xlfn.IFNA(INDEX('Partie 4'!$G$5:$G$28,MATCH($A9,'Partie 4'!$F$5:$F$28,0),1),0)) -> 0 | S9: =SUM(_xlfn.IFNA(INDEX('Partie 4'!$F$5:$F$28,MATCH($A9,'Partie 4'!$B$5:$B$28,0),1),0) ,_xlfn.IFNA(INDEX('Partie 4'!$F$5:$F$28,MATCH($A9,'Partie 4'!$C$5:$C$28,0),1),0) , _xlfn.IFNA(INDEX('Partie 4'!$B$5:$B$28,MATCH($A9,'Partie 4'!$F$5:$F$28,0),1),0),_xlfn.IFNA(INDEX('Partie 4'!$B$5:$B$28,MATCH($A9,'Partie 4'!$G$5:$G$28,0),1),0)) -> 0 | T9: =SUM(_xlfn.IFNA(INDEX('Partie 4'!$G$5:$G$28,MATCH($A9,'Partie 4'!$B$5:$B$28,0),1),0) ,_xlfn.IFNA(INDEX('Partie 4'!$G$5:$G$28,MATCH($A9,'Partie 4'!$C$5:$C$28,0),1),0) , _xlfn.IFNA(INDEX('Partie 4'!$C$5:$C$28,MATCH($A9,'Partie 4'!$F$5:$F$28,0),1),0),_xlfn.IFNA(INDEX('Partie 4'!$C$5:$C$28,MATCH($A9,'Partie 4'!$G$5:$G$28,0),1),0)) -> 0 | U9: =SUM(_xlfn.IFNA(INDEX('Partie 4'!$J$5:$J$28,MATCH($A9,'Partie 4'!$B$5:$B$28,0),1),0) ,_xlfn.IFNA(INDEX('Partie 4'!$J$5:$J$28,MATCH($A9,'Partie 4'!$C$5:$C$28,0),1),0) , _xlfn.IFNA(INDEX('Partie 4'!$K$5:$K$28,MATCH($A9,'Partie 4'!$F$5:$F$28,0),1),0), _xlfn.IFNA(INDEX('Partie 4'!$K$5:$K$28,MATCH($A9,'Partie 4'!$G$5:$G$28,0),1),0)) -> 0 | V9: =SUM(_xlfn.IFNA(INDEX('Partie 4'!$K$5:$K$28,MATCH($A9,'Partie 4'!$B$5:$B$28,0),1),0) ,_xlfn.IFNA(INDEX('Partie 4'!$K$5:$K$28,MATCH($A9,'Partie 4'!$C$5:$C$28,0),1),0) , _xlfn.IFNA(INDEX('Partie 4'!$J$5:$J$28,MATCH($A9,'Partie 4'!$F$5:$F$28,0),1),0), _xlfn.IFNA(INDEX('Partie 4'!$J$5:$J$28,MATCH($A9,'Partie 4'!$G$5:$G$28,0),1),0)) -> 0 | W9: =SUM(_xlfn.IFNA(INDEX('Partie 5'!$C$5:$C$28,MATCH($A9,'Partie 5'!$B$5:$B$28,0),1),0) , _xlfn.IFNA(INDEX('Partie 5'!$B$5:$B$28,MATCH($A9,'Partie 5'!$C$5:$C$28,0),1),0),_xlfn.IFNA(INDEX('Partie 5'!$F$5:$F$28,MATCH($A9,'Partie 5'!$G$5:$G$28,0),1),0),_xlfn.IFNA(INDEX('Partie 5'!$G$5:$G$28,MATCH($A9,'Partie 5'!$F$5:$F$28,0),1),0)) -> 0 | X9: =SUM(_xlfn.IFNA(INDEX('Partie 5'!$F$5:$F$28,MATCH($A9,'Partie 5'!$B$5:$B$28,0),1),0) ,_xlfn.IFNA(INDEX('Partie 5'!$F$5:$F$28,MATCH($A9,'Partie 5'!$C$5:$C$28,0),1),0) , _xlfn.IFNA(INDEX('Partie 5'!$B$5:$B$28,MATCH($A9,'Partie 5'!$F$5:$F$28,0),1),0),_xlfn.IFNA(INDEX('Partie 5'!$B$5:$B$28,MATCH($A9,'Partie 5'!$G$5:$G$28,0),1),0)) -> 0 | Y9: =SUM(_xlfn.IFNA(INDEX('Partie 5'!$G$5:$G$28,MATCH($A9,'Partie 5'!$B$5:$B$28,0),1),0) ,_xlfn.IFNA(INDEX('Partie 5'!$G$5:$G$28,MATCH($A9,'Partie 5'!$C$5:$C$28,0),1),0) , _xlfn.IFNA(INDEX('Partie 5'!$C$5:$C$28,MATCH($A9,'Partie 5'!$F$5:$F$28,0),1),0),_xlfn.IFNA(INDEX('Partie 5'!$C$5:$C$28,MATCH($A9,'Partie 5'!$G$5:$G$28,0),1),0)) -> 0 | Z9: =SUM(_xlfn.IFNA(INDEX('Partie 5'!$J$5:$J$28,MATCH($A9,'Partie 5'!$B$5:$B$28,0),1),0) ,_xlfn.IFNA(INDEX('Partie 5'!$J$5:$J$28,MATCH($A9,'Partie 5'!$C$5:$C$28,0),1),0) , _xlfn.IFNA(INDEX('Partie 5'!$K$5:$K$28,MATCH($A9,'Partie 5'!$F$5:$F$28,0),1),0), _xlfn.IFNA(INDEX('Partie 5'!$K$5:$K$28,MATCH($A9,'Partie 5'!$G$5:$G$28,0),1),0)) -> 0 | AA9: =SUM(_xlfn.IFNA(INDEX('Partie 5'!$K$5:$K$28,MATCH($A9,'Partie 5'!$B$5:$B$28,0),1),0) ,_xlfn.IFNA(INDEX('Partie 5'!$K$5:$K$28,MATCH($A9,'Partie 5'!$C$5:$C$28,0),1),0) , _xlfn.IFNA(INDEX('Partie 5'!$J$5:$J$28,MATCH($A9,'Partie 5'!$F$5:$F$28,0),1),0), _xlfn.IFNA(INDEX('Partie 5'!$J$5:$J$28,MATCH($A9,'Partie 5'!$G$5:$G$28,0),1),0)) -> 0 | AB9: =SUM(_xlfn.IFNA(INDEX('Partie 6'!$C$5:$C$28,MATCH($A9,'Partie 6'!$B$5:$B$28,0),1),0) , _xlfn.IFNA(INDEX('Partie 6'!$B$5:$B$28,MATCH($A9,'Partie 6'!$C$5:$C$28,0),1),0),_xlfn.IFNA(INDEX('Partie 6'!$F$5:$F$28,MATCH($A9,'Partie 6'!$G$5:$G$28,0),1),0),_xlfn.IFNA(INDEX('Partie 6'!$G$5:$G$28,MATCH($A9,'Partie 6'!$F$5:$F$28,0),1),0)) -> 0 | AC9: =SUM(_xlfn.IFNA(INDEX('Partie 6'!$F$5:$F$28,MATCH($A9,'Partie 6'!$B$5:$B$28,0),1),0) ,_xlfn.IFNA(INDEX('Partie 6'!$F$5:$F$28,MATCH($A9,'Partie 6'!$C$5:$C$28,0),1),0) , _xlfn.IFNA(INDEX('Partie 6'!$B$5:$B$28,MATCH($A9,'Partie 6'!$F$5:$F$28,0),1),0),_xlfn.IFNA(INDEX('Partie 6'!$B$5:$B$28,MATCH($A9,'Partie 6'!$G$5:$G$28,0),1),0)) -> 0 | AD9: =SUM(_xlfn.IFNA(INDEX('Partie 6'!$G$5:$G$28,MATCH($A9,'Partie 6'!$B$5:$B$28,0),1),0) ,_xlfn.IFNA(INDEX('Partie 6'!$G$5:$G$28,MATCH($A9,'Partie 6'!$C$5:$C$28,0),1),0) , _xlfn.IFNA(INDEX('Partie 6'!$C$5:$C$28,MATCH($A9,'Partie 6'!$F$5:$F$28,0),1),0),_xlfn.IFNA(INDEX('Partie 6'!$C$5:$C$28,MATCH($A9,'Partie 6'!$G$5:$G$28,0),1),0)) -> 0 | AE9: =SUM(_xlfn.IFNA(INDEX('Partie 6'!$J$5:$J$28,MATCH($A9,'Partie 6'!$B$5:$B$28,0),1),0) ,_xlfn.IFNA(INDEX('Partie 6'!$J$5:$J$28,MATCH($A9,'Partie 6'!$C$5:$C$28,0),1),0) , _xlfn.IFNA(INDEX('Partie 6'!$K$5:$K$28,MATCH($A9,'Partie 6'!$F$5:$F$28,0),1),0), _xlfn.IFNA(INDEX('Partie 6'!$K$5:$K$28,MATCH($A9,'Partie 6'!$G$5:$G$28,0),1),0)) -> 0 | AF9: =SUM(_xlfn.IFNA(INDEX('Partie 6'!$K$5:$K$28,MATCH($A9,'Partie 6'!$B$5:$B$28,0),1),0) ,_xlfn.IFNA(INDEX('Partie 6'!$K$5:$K$28,MATCH($A9,'Partie 6'!$C$5:$C$28,0),1),0) , _xlfn.IFNA(INDEX('Partie 6'!$J$5:$J$28,MATCH($A9,'Partie 6'!$F$5:$F$28,0),1),0), _xlfn.IFNA(INDEX('Partie 6'!$J$5:$J$28,MATCH($A9,'Partie 6'!$G$5:$G$28,0),1),0)) -> 0 | AG9: =SUM(_xlfn.IFNA(INDEX('Partie 7'!$C$5:$C$28,MATCH($A9,'Partie 7'!$B$5:$B$28,0),1),0) , _xlfn.IFNA(INDEX('Partie 7'!$B$5:$B$28,MATCH($A9,'Partie 7'!$C$5:$C$28,0),1),0),_xlfn.IFNA(INDEX('Partie 7'!$F$5:$F$28,MATCH($A9,'Partie 7'!$G$5:$G$28,0),1),0),_xlfn.IFNA(INDEX('Partie 7'!$G$5:$G$28,MATCH($A9,'Partie 7'!$F$5:$F$28,0),1),0)) -> 0 | AH9: =SUM(_xlfn.IFNA(INDEX('Partie 7'!$F$5:$F$28,MATCH($A9,'Partie 7'!$B$5:$B$28,0),1),0) ,_xlfn.IFNA(INDEX('Partie 7'!$F$5:$F$28,MATCH($A9,'Partie 7'!$C$5:$C$28,0),1),0) , _xlfn.IFNA(INDEX('Partie 7'!$B$5:$B$28,MATCH($A9,'Partie 7'!$F$5:$F$28,0),1),0),_xlfn.IFNA(INDEX('Partie 7'!$B$5:$B$28,MATCH($A9,'Partie 7'!$G$5:$G$28,0),1),0)) -> 0 | AI9: =SUM(_xlfn.IFNA(INDEX('Partie 7'!$G$5:$G$28,MATCH($A9,'Partie 7'!$B$5:$B$28,0),1),0) ,_xlfn.IFNA(INDEX('Partie 7'!$G$5:$G$28,MATCH($A9,'Partie 7'!$C$5:$C$28,0),1),0) , _xlfn.IFNA(INDEX('Partie 7'!$C$5:$C$28,MATCH($A9,'Partie 7'!$F$5:$F$28,0),1),0),_xlfn.IFNA(INDEX('Partie 7'!$C$5:$C$28,MATCH($A9,'Partie 7'!$G$5:$G$28,0),1),0)) -> 0 | AJ9: =SUM(_xlfn.IFNA(INDEX('Partie 7'!$J$5:$J$28,MATCH($A9,'Partie 7'!$B$5:$B$28,0),1),0) ,_xlfn.IFNA(INDEX('Partie 7'!$J$5:$J$28,MATCH($A9,'Partie 7'!$C$5:$C$28,0),1),0) , _xlfn.IFNA(INDEX('Partie 7'!$K$5:$K$28,MATCH($A9,'Partie 7'!$F$5:$F$28,0),1),0), _xlfn.IFNA(INDEX('Partie 7'!$K$5:$K$28,MATCH($A9,'Partie 7'!$G$5:$G$28,0),1),0)) -> 0 | AK9: =SUM(_xlfn.IFNA(INDEX('Partie 7'!$K$5:$K$28,MATCH($A9,'Partie 7'!$B$5:$B$28,0),1),0) ,_xlfn.IFNA(INDEX('Partie 7'!$K$5:$K$28,MATCH($A9,'Partie 7'!$C$5:$C$28,0),1),0) , _xlfn.IFNA(INDEX('Partie 7'!$J$5:$J$28,MATCH($A9,'Partie 7'!$F$5:$F$28,0),1),0), _xlfn.IFNA(INDEX('Partie 7'!$J$5:$J$28,MATCH($A9,'Partie 7'!$G$5:$G$28,0),1),0)) -> 0
A10: 8 | C10: =SUM(_xlfn.IFNA(INDEX('Partie 1'!$C$5:$C$28,MATCH($A10,'Partie 1'!$B$5:$B$28,0),1),0) , _xlfn.IFNA(INDEX('Partie 1'!$B$5:$B$28,MATCH($A10,'Partie 1'!$C$5:$C$28,0),1),0),_xlfn.IFNA(INDEX('Partie 1'!$F$5:$F$28,MATCH($A10,'Partie 1'!$G$5:$G$28,0),1),0),_xlfn.IFNA(INDEX('Partie 1'!$G$5:$G$28,MATCH($A10,'Partie 1'!$F$5:$F$28,0),1),0)) -> 0 | D10: =SUM(_xlfn.IFNA(INDEX('Partie 1'!$F$5:$F$28,MATCH($A10,'Partie 1'!$B$5:$B$28,0),1),0) ,_xlfn.IFNA(INDEX('Partie 1'!$F$5:$F$28,MATCH($A10,'Partie 1'!$C$5:$C$28,0),1),0) , _xlfn.IFNA(INDEX('Partie 1'!$B$5:$B$28,MATCH($A10,'Partie 1'!$F$5:$F$28,0),1),0),_xlfn.IFNA(INDEX('Partie 1'!$B$5:$B$28,MATCH($A10,'Partie 1'!$G$5:$G$28,0),1),0)) -> 0 | E10: =SUM(_xlfn.IFNA(INDEX('Partie 1'!$G$5:$G$28,MATCH($A10,'Partie 1'!$B$5:$B$28,0),1),0) ,_xlfn.IFNA(INDEX('Partie 1'!$G$5:$G$28,MATCH($A10,'Partie 1'!$C$5:$C$28,0),1),0) , _xlfn.IFNA(INDEX('Partie 1'!$C$5:$C$28,MATCH($A10,'Partie 1'!$F$5:$F$28,0),1),0),_xlfn.IFNA(INDEX('Partie 1'!$C$5:$C$28,MATCH($A10,'Partie 1'!$G$5:$G$28,0),1),0)) -> 0 | F10: =SUM(_xlfn.IFNA(INDEX('Partie 1'!$J$5:$J$28,MATCH($A10,'Partie 1'!$B$5:$B$28,0),1),0) ,_xlfn.IFNA(INDEX('Partie 1'!$J$5:$J$28,MATCH($A10,'Partie 1'!$C$5:$C$28,0),1),0) , _xlfn.IFNA(INDEX('Partie 1'!$K$5:$K$28,MATCH($A10,'Partie 1'!$F$5:$F$28,0),1),0), _xlfn.IFNA(INDEX('Partie 1'!$K$5:$K$28,MATCH($A10,'Partie 1'!$G$5:$G$28,0),1),0)) -> 0 | G10: =SUM(_xlfn.IFNA(INDEX('Partie 1'!$K$5:$K$28,MATCH($A10,'Partie 1'!$B$5:$B$28,0),1),0) ,_xlfn.IFNA(INDEX('Partie 1'!$K$5:$K$28,MATCH($A10,'Partie 1'!$C$5:$C$28,0),1),0) , _xlfn.IFNA(INDEX('Partie 1'!$J$5:$J$28,MATCH($A10,'Partie 1'!$F$5:$F$28,0),1),0), _xlfn.IFNA(INDEX('Partie 1'!$J$5:$J$28,MATCH($A10,'Partie 1'!$G$5:$G$28,0),1),0)) -> 0 | H10: =SUM(_xlfn.IFNA(INDEX('Partie 2'!$C$5:$C$28,MATCH($A10,'Partie 2'!$B$5:$B$28,0),1),0) , _xlfn.IFNA(INDEX('Partie 2'!$B$5:$B$28,MATCH($A10,'Partie 2'!$C$5:$C$28,0),1),0),_xlfn.IFNA(INDEX('Partie 2'!$F$5:$F$28,MATCH($A10,'Partie 2'!$G$5:$G$28,0),1),0),_xlfn.IFNA(INDEX('Partie 2'!$G$5:$G$28,MATCH($A10,'Partie 2'!$F$5:$F$28,0),1),0)) -> 0 | I10: =SUM(_xlfn.IFNA(INDEX('Partie 2'!$F$5:$F$28,MATCH($A10,'Partie 2'!$B$5:$B$28,0),1),0) ,_xlfn.IFNA(INDEX('Partie 2'!$F$5:$F$28,MATCH($A10,'Partie 2'!$C$5:$C$28,0),1),0) , _xlfn.IFNA(INDEX('Partie 2'!$B$5:$B$28,MATCH($A10,'Partie 2'!$F$5:$F$28,0),1),0),_xlfn.IFNA(INDEX('Partie 2'!$B$5:$B$28,MATCH($A10,'Partie 2'!$G$5:$G$28,0),1),0)) -> 0 | J10: =SUM(_xlfn.IFNA(INDEX('Partie 2'!$G$5:$G$28,MATCH($A10,'Partie 2'!$B$5:$B$28,0),1),0) ,_xlfn.IFNA(INDEX('Partie 2'!$G$5:$G$28,MATCH($A10,'Partie 2'!$C$5:$C$28,0),1),0) , _xlfn.IFNA(INDEX('Partie 2'!$C$5:$C$28,MATCH($A10,'Partie 2'!$F$5:$F$28,0),1),0),_xlfn.IFNA(INDEX('Partie 2'!$C$5:$C$28,MATCH($A10,'Partie 2'!$G$5:$G$28,0),1),0)) -> 0 | K10: =SUM(_xlfn.IFNA(INDEX('Partie 2'!$J$5:$J$28,MATCH($A10,'Partie 2'!$B$5:$B$28,0),1),0) ,_xlfn.IFNA(INDEX('Partie 2'!$J$5:$J$28,MATCH($A10,'Partie 2'!$C$5:$C$28,0),1),0) , _xlfn.IFNA(INDEX('Partie 2'!$K$5:$K$28,MATCH($A10,'Partie 2'!$F$5:$F$28,0),1),0), _xlfn.IFNA(INDEX('Partie 2'!$K$5:$K$28,MATCH($A10,'Partie 2'!$G$5:$G$28,0),1),0)) -> 0 | L10: =SUM(_xlfn.IFNA(INDEX('Partie 2'!$K$5:$K$28,MATCH($A10,'Partie 2'!$B$5:$B$28,0),1),0) ,_xlfn.IFNA(INDEX('Partie 2'!$K$5:$K$28,MATCH($A10,'Partie 2'!$C$5:$C$28,0),1),0) , _xlfn.IFNA(INDEX('Partie 2'!$J$5:$J$28,MATCH($A10,'Partie 2'!$F$5:$F$28,0),1),0), _xlfn.IFNA(INDEX('Partie 2'!$J$5:$J$28,MATCH($A10,'Partie 2'!$G$5:$G$28,0),1),0)) -> 0 | M10: =SUM(_xlfn.IFNA(INDEX('Partie 3'!$C$5:$C$28,MATCH($A10,'Partie 3'!$B$5:$B$28,0),1),0) , _xlfn.IFNA(INDEX('Partie 3'!$B$5:$B$28,MATCH($A10,'Partie 3'!$C$5:$C$28,0),1),0),_xlfn.IFNA(INDEX('Partie 3'!$F$5:$F$28,MATCH($A10,'Partie 3'!$G$5:$G$28,0),1),0),_xlfn.IFNA(INDEX('Partie 3'!$G$5:$G$28,MATCH($A10,'Partie 3'!$F$5:$F$28,0),1),0)) -> 0 | N10: =SUM(_xlfn.IFNA(INDEX('Partie 3'!$F$5:$F$28,MATCH($A10,'Partie 3'!$B$5:$B$28,0),1),0) ,_xlfn.IFNA(INDEX('Partie 3'!$F$5:$F$28,MATCH($A10,'Partie 3'!$C$5:$C$28,0),1),0) , _xlfn.IFNA(INDEX('Partie 3'!$B$5:$B$28,MATCH($A10,'Partie 3'!$F$5:$F$28,0),1),0),_xlfn.IFNA(INDEX('Partie 3'!$B$5:$B$28,MATCH($A10,'Partie 3'!$G$5:$G$28,0),1),0)) -> 0 | O10: =SUM(_xlfn.IFNA(INDEX('Partie 3'!$G$5:$G$28,MATCH($A10,'Partie 3'!$B$5:$B$28,0),1),0) ,_xlfn.IFNA(INDEX('Partie 3'!$G$5:$G$28,MATCH($A10,'Partie 3'!$C$5:$C$28,0),1),0) , _xlfn.IFNA(INDEX('Partie 3'!$C$5:$C$28,MATCH($A10,'Partie 3'!$F$5:$F$28,0),1),0),_xlfn.IFNA(INDEX('Partie 3'!$C$5:$C$28,MATCH($A10,'Partie 3'!$G$5:$G$28,0),1),0)) -> 0 | P10: =SUM(_xlfn.IFNA(INDEX('Partie 3'!$J$5:$J$28,MATCH($A10,'Partie 3'!$B$5:$B$28,0),1),0) ,_xlfn.IFNA(INDEX('Partie 3'!$J$5:$J$28,MATCH($A10,'Partie 3'!$C$5:$C$28,0),1),0) , _xlfn.IFNA(INDEX('Partie 3'!$K$5:$K$28,MATCH($A10,'Partie 3'!$F$5:$F$28,0),1),0), _xlfn.IFNA(INDEX('Partie 3'!$K$5:$K$28,MATCH($A10,'Partie 3'!$G$5:$G$28,0),1),0)) -> 0 | Q10: =SUM(_xlfn.IFNA(INDEX('Partie 3'!$K$5:$K$28,MATCH($A10,'Partie 3'!$B$5:$B$28,0),1),0) ,_xlfn.IFNA(INDEX('Partie 3'!$K$5:$K$28,MATCH($A10,'Partie 3'!$C$5:$C$28,0),1),0) , _xlfn.IFNA(INDEX('Partie 3'!$J$5:$J$28,MATCH($A10,'Partie 3'!$F$5:$F$28,0),1),0), _xlfn.IFNA(INDEX('Partie 3'!$J$5:$J$28,MATCH($A10,'Partie 3'!$G$5:$G$28,0),1),0)) -> 0 | R10: =SUM(_xlfn.IFNA(INDEX('Partie 4'!$C$5:$C$28,MATCH($A10,'Partie 4'!$B$5:$B$28,0),1),0) , _xlfn.IFNA(INDEX('Partie 4'!$B$5:$B$28,MATCH($A10,'Partie 4'!$C$5:$C$28,0),1),0),_xlfn.IFNA(INDEX('Partie 4'!$F$5:$F$28,MATCH($A10,'Partie 4'!$G$5:$G$28,0),1),0),_xlfn.IFNA(INDEX('Partie 4'!$G$5:$G$28,MATCH($A10,'Partie 4'!$F$5:$F$28,0),1),0)) -> 0 | S10: =SUM(_xlfn.IFNA(INDEX('Partie 4'!$F$5:$F$28,MATCH($A10,'Partie 4'!$B$5:$B$28,0),1),0) ,_xlfn.IFNA(INDEX('Partie 4'!$F$5:$F$28,MATCH($A10,'Partie 4'!$C$5:$C$28,0),1),0) , _xlfn.IFNA(INDEX('Partie 4'!$B$5:$B$28,MATCH($A10,'Partie 4'!$F$5:$F$28,0),1),0),_xlfn.IFNA(INDEX('Partie 4'!$B$5:$B$28,MATCH($A10,'Partie 4'!$G$5:$G$28,0),1),0)) -> 0 | T10: =SUM(_xlfn.IFNA(INDEX('Partie 4'!$G$5:$G$28,MATCH($A10,'Partie 4'!$B$5:$B$28,0),1),0) ,_xlfn.IFNA(INDEX('Partie 4'!$G$5:$G$28,MATCH($A10,'Partie 4'!$C$5:$C$28,0),1),0) , _xlfn.IFNA(INDEX('Partie 4'!$C$5:$C$28,MATCH($A10,'Partie 4'!$F$5:$F$28,0),1),0),_xlfn.IFNA(INDEX('Partie 4'!$C$5:$C$28,MATCH($A10,'Partie 4'!$G$5:$G$28,0),1),0)) -> 0 | U10: =SUM(_xlfn.IFNA(INDEX('Partie 4'!$J$5:$J$28,MATCH($A10,'Partie 4'!$B$5:$B$28,0),1),0) ,_xlfn.IFNA(INDEX('Partie 4'!$J$5:$J$28,MATCH($A10,'Partie 4'!$C$5:$C$28,0),1),0) , _xlfn.IFNA(INDEX('Partie 4'!$K$5:$K$28,MATCH($A10,'Partie 4'!$F$5:$F$28,0),1),0), _xlfn.IFNA(INDEX('Partie 4'!$K$5:$K$28,MATCH($A10,'Partie 4'!$G$5:$G$28,0),1),0)) -> 0 | V10: =SUM(_xlfn.IFNA(INDEX('Partie 4'!$K$5:$K$28,MATCH($A10,'Partie 4'!$B$5:$B$28,0),1),0) ,_xlfn.IFNA(INDEX('Partie 4'!$K$5:$K$28,MATCH($A10,'Partie 4'!$C$5:$C$28,0),1),0) , _xlfn.IFNA(INDEX('Partie 4'!$J$5:$J$28,MATCH($A10,'Partie 4'!$F$5:$F$28,0),1),0), _xlfn.IFNA(INDEX('Partie 4'!$J$5:$J$28,MATCH($A10,'Partie 4'!$G$5:$G$28,0),1),0)) -> 0 | W10: =SUM(_xlfn.IFNA(INDEX('Partie 5'!$C$5:$C$28,MATCH($A10,'Partie 5'!$B$5:$B$28,0),1),0) , _xlfn.IFNA(INDEX('Partie 5'!$B$5:$B$28,MATCH($A10,'Partie 5'!$C$5:$C$28,0),1),0),_xlfn.IFNA(INDEX('Partie 5'!$F$5:$F$28,MATCH($A10,'Partie 5'!$G$5:$G$28,0),1),0),_xlfn.IFNA(INDEX('Partie 5'!$G$5:$G$28,MATCH($A10,'Partie 5'!$F$5:$F$28,0),1),0)) -> 0 | X10: =SUM(_xlfn.IFNA(INDEX('Partie 5'!$F$5:$F$28,MATCH($A10,'Partie 5'!$B$5:$B$28,0),1),0) ,_xlfn.IFNA(INDEX('Partie 5'!$F$5:$F$28,MATCH($A10,'Partie 5'!$C$5:$C$28,0),1),0) , _xlfn.IFNA(INDEX('Partie 5'!$B$5:$B$28,MATCH($A10,'Partie 5'!$F$5:$F$28,0),1),0),_xlfn.IFNA(INDEX('Partie 5'!$B$5:$B$28,MATCH($A10,'Partie 5'!$G$5:$G$28,0),1),0)) -> 0 | Y10: =SUM(_xlfn.IFNA(INDEX('Partie 5'!$G$5:$G$28,MATCH($A10,'Partie 5'!$B$5:$B$28,0),1),0) ,_xlfn.IFNA(INDEX('Partie 5'!$G$5:$G$28,MATCH($A10,'Partie 5'!$C$5:$C$28,0),1),0) , _xlfn.IFNA(INDEX('Partie 5'!$C$5:$C$28,MATCH($A10,'Partie 5'!$F$5:$F$28,0),1),0),_xlfn.IFNA(INDEX('Partie 5'!$C$5:$C$28,MATCH($A10,'Partie 5'!$G$5:$G$28,0),1),0)) -> 0 | Z10: =SUM(_xlfn.IFNA(INDEX('Partie 5'!$J$5:$J$28,MATCH($A10,'Partie 5'!$B$5:$B$28,0),1),0) ,_xlfn.IFNA(INDEX('Partie 5'!$J$5:$J$28,MATCH($A10,'Partie 5'!$C$5:$C$28,0),1),0) , _xlfn.IFNA(INDEX('Partie 5'!$K$5:$K$28,MATCH($A10,'Partie 5'!$F$5:$F$28,0),1),0), _xlfn.IFNA(INDEX('Partie 5'!$K$5:$K$28,MATCH($A10,'Partie 5'!$G$5:$G$28,0),1),0)) -> 0 | AA10: =SUM(_xlfn.IFNA(INDEX('Partie 5'!$K$5:$K$28,MATCH($A10,'Partie 5'!$B$5:$B$28,0),1),0) ,_xlfn.IFNA(INDEX('Partie 5'!$K$5:$K$28,MATCH($A10,'Partie 5'!$C$5:$C$28,0),1),0) , _xlfn.IFNA(INDEX('Partie 5'!$J$5:$J$28,MATCH($A10,'Partie 5'!$F$5:$F$28,0),1),0), _xlfn.IFNA(INDEX('Partie 5'!$J$5:$J$28,MATCH($A10,'Partie 5'!$G$5:$G$28,0),1),0)) -> 0 | AB10: =SUM(_xlfn.IFNA(INDEX('Partie 6'!$C$5:$C$28,MATCH($A10,'Partie 6'!$B$5:$B$28,0),1),0) , _xlfn.IFNA(INDEX('Partie 6'!$B$5:$B$28,MATCH($A10,'Partie 6'!$C$5:$C$28,0),1),0),_xlfn.IFNA(INDEX('Partie 6'!$F$5:$F$28,MATCH($A10,'Partie 6'!$G$5:$G$28,0),1),0),_xlfn.IFNA(INDEX('Partie 6'!$G$5:$G$28,MATCH($A10,'Partie 6'!$F$5:$F$28,0),1),0)) -> 0 | AC10: =SUM(_xlfn.IFNA(INDEX('Partie 6'!$F$5:$F$28,MATCH($A10,'Partie 6'!$B$5:$B$28,0),1),0) ,_xlfn.IFNA(INDEX('Partie 6'!$F$5:$F$28,MATCH($A10,'Partie 6'!$C$5:$C$28,0),1),0) , _xlfn.IFNA(INDEX('Partie 6'!$B$5:$B$28,MATCH($A10,'Partie 6'!$F$5:$F$28,0),1),0),_xlfn.IFNA(INDEX('Partie 6'!$B$5:$B$28,MATCH($A10,'Partie 6'!$G$5:$G$28,0),1),0)) -> 0 | AD10: =SUM(_xlfn.IFNA(INDEX('Partie 6'!$G$5:$G$28,MATCH($A10,'Partie 6'!$B$5:$B$28,0),1),0) ,_xlfn.IFNA(INDEX('Partie 6'!$G$5:$G$28,MATCH($A10,'Partie 6'!$C$5:$C$28,0),1),0) , _xlfn.IFNA(INDEX('Partie 6'!$C$5:$C$28,MATCH($A10,'Partie 6'!$F$5:$F$28,0),1),0),_xlfn.IFNA(INDEX('Partie 6'!$C$5:$C$28,MATCH($A10,'Partie 6'!$G$5:$G$28,0),1),0)) -> 0 | AE10: =SUM(_xlfn.IFNA(INDEX('Partie 6'!$J$5:$J$28,MATCH($A10,'Partie 6'!$B$5:$B$28,0),1),0) ,_xlfn.IFNA(INDEX('Partie 6'!$J$5:$J$28,MATCH($A10,'Partie 6'!$C$5:$C$28,0),1),0) , _xlfn.IFNA(INDEX('Partie 6'!$K$5:$K$28,MATCH($A10,'Partie 6'!$F$5:$F$28,0),1),0), _xlfn.IFNA(INDEX('Partie 6'!$K$5:$K$28,MATCH($A10,'Partie 6'!$G$5:$G$28,0),1),0)) -> 0 | AF10: =SUM(_xlfn.IFNA(INDEX('Partie 6'!$K$5:$K$28,MATCH($A10,'Partie 6'!$B$5:$B$28,0),1),0) ,_xlfn.IFNA(INDEX('Partie 6'!$K$5:$K$28,MATCH($A10,'Partie 6'!$C$5:$C$28,0),1),0) , _xlfn.IFNA(INDEX('Partie 6'!$J$5:$J$28,MATCH($A10,'Partie 6'!$F$5:$F$28,0),1),0), _xlfn.IFNA(INDEX('Partie 6'!$J$5:$J$28,MATCH($A10,'Partie 6'!$G$5:$G$28,0),1),0)) -> 0 | AG10: =SUM(_xlfn.IFNA(INDEX('Partie 7'!$C$5:$C$28,MATCH($A10,'Partie 7'!$B$5:$B$28,0),1),0) , _xlfn.IFNA(INDEX('Partie 7'!$B$5:$B$28,MATCH($A10,'Partie 7'!$C$5:$C$28,0),1),0),_xlfn.IFNA(INDEX('Partie 7'!$F$5:$F$28,MATCH($A10,'Partie 7'!$G$5:$G$28,0),1),0),_xlfn.IFNA(INDEX('Partie 7'!$G$5:$G$28,MATCH($A10,'Partie 7'!$F$5:$F$28,0),1),0)) -> 0 | AH10: =SUM(_xlfn.IFNA(INDEX('Partie 7'!$F$5:$F$28,MATCH($A10,'Partie 7'!$B$5:$B$28,0),1),0) ,_xlfn.IFNA(INDEX('Partie 7'!$F$5:$F$28,MATCH($A10,'Partie 7'!$C$5:$C$28,0),1),0) , _xlfn.IFNA(INDEX('Partie 7'!$B$5:$B$28,MATCH($A10,'Partie 7'!$F$5:$F$28,0),1),0),_xlfn.IFNA(INDEX('Partie 7'!$B$5:$B$28,MATCH($A10,'Partie 7'!$G$5:$G$28,0),1),0)) -> 0 | AI10: =SUM(_xlfn.IFNA(INDEX('Partie 7'!$G$5:$G$28,MATCH($A10,'Partie 7'!$B$5:$B$28,0),1),0) ,_xlfn.IFNA(INDEX('Partie 7'!$G$5:$G$28,MATCH($A10,'Partie 7'!$C$5:$C$28,0),1),0) , _xlfn.IFNA(INDEX('Partie 7'!$C$5:$C$28,MATCH($A10,'Partie 7'!$F$5:$F$28,0),1),0),_xlfn.IFNA(INDEX('Partie 7'!$C$5:$C$28,MATCH($A10,'Partie 7'!$G$5:$G$28,0),1),0)) -> 0 | AJ10: =SUM(_xlfn.IFNA(INDEX('Partie 7'!$J$5:$J$28,MATCH($A10,'Partie 7'!$B$5:$B$28,0),1),0) ,_xlfn.IFNA(INDEX('Partie 7'!$J$5:$J$28,MATCH($A10,'Partie 7'!$C$5:$C$28,0),1),0) , _xlfn.IFNA(INDEX('Partie 7'!$K$5:$K$28,MATCH($A10,'Partie 7'!$F$5:$F$28,0),1),0), _xlfn.IFNA(INDEX('Partie 7'!$K$5:$K$28,MATCH($A10,'Partie 7'!$G$5:$G$28,0),1),0)) -> 0 | AK10: =SUM(_xlfn.IFNA(INDEX('Partie 7'!$K$5:$K$28,MATCH($A10,'Partie 7'!$B$5:$B$28,0),1),0) ,_xlfn.IFNA(INDEX('Partie 7'!$K$5:$K$28,MATCH($A10,'Partie 7'!$C$5:$C$28,0),1),0) , _xlfn.IFNA(INDEX('Partie 7'!$J$5:$J$28,MATCH($A10,'Partie 7'!$F$5:$F$28,0),1),0), _xlfn.IFNA(INDEX('Partie 7'!$J$5:$J$28,MATCH($A10,'Partie 7'!$G$5:$G$28,0),1),0)) -> 0
A11: 9 | C11: =SUM(_xlfn.IFNA(INDEX('Partie 1'!$C$5:$C$28,MATCH($A11,'Partie 1'!$B$5:$B$28,0),1),0) , _xlfn.IFNA(INDEX('Partie 1'!$B$5:$B$28,MATCH($A11,'Partie 1'!$C$5:$C$28,0),1),0),_xlfn.IFNA(INDEX('Partie 1'!$F$5:$F$28,MATCH($A11,'Partie 1'!$G$5:$G$28,0),1),0),_xlfn.IFNA(INDEX('Partie 1'!$G$5:$G$28,MATCH($A11,'Partie 1'!$F$5:$F$28,0),1),0)) -> 0 | D11: =SUM(_xlfn.IFNA(INDEX('Partie 1'!$F$5:$F$28,MATCH($A11,'Partie 1'!$B$5:$B$28,0),1),0) ,_xlfn.IFNA(INDEX('Partie 1'!$F$5:$F$28,MATCH($A11,'Partie 1'!$C$5:$C$28,0),1),0) , _xlfn.IFNA(INDEX('Partie 1'!$B$5:$B$28,MATCH($A11,'Partie 1'!$F$5:$F$28,0),1),0),_xlfn.IFNA(INDEX('Partie 1'!$B$5:$B$28,MATCH($A11,'Partie 1'!$G$5:$G$28,0),1),0)) -> 0 | E11: =SUM(_xlfn.IFNA(INDEX('Partie 1'!$G$5:$G$28,MATCH($A11,'Partie 1'!$B$5:$B$28,0),1),0) ,_xlfn.IFNA(INDEX('Partie 1'!$G$5:$G$28,MATCH($A11,'Partie 1'!$C$5:$C$28,0),1),0) , _xlfn.IFNA(INDEX('Partie 1'!$C$5:$C$28,MATCH($A11,'Partie 1'!$F$5:$F$28,0),1),0),_xlfn.IFNA(INDEX('Partie 1'!$C$5:$C$28,MATCH($A11,'Partie 1'!$G$5:$G$28,0),1),0)) -> 0 | F11: =SUM(_xlfn.IFNA(INDEX('Partie 1'!$J$5:$J$28,MATCH($A11,'Partie 1'!$B$5:$B$28,0),1),0) ,_xlfn.IFNA(INDEX('Partie 1'!$J$5:$J$28,MATCH($A11,'Partie 1'!$C$5:$C$28,0),1),0) , _xlfn.IFNA(INDEX('Partie 1'!$K$5:$K$28,MATCH($A11,'Partie 1'!$F$5:$F$28,0),1),0), _xlfn.IFNA(INDEX('Partie 1'!$K$5:$K$28,MATCH($A11,'Partie 1'!$G$5:$G$28,0),1),0)) -> 0 | G11: =SUM(_xlfn.IFNA(INDEX('Partie 1'!$K$5:$K$28,MATCH($A11,'Partie 1'!$B$5:$B$28,0),1),0) ,_xlfn.IFNA(INDEX('Partie 1'!$K$5:$K$28,MATCH($A11,'Partie 1'!$C$5:$C$28,0),1),0) , _xlfn.IFNA(INDEX('Partie 1'!$J$5:$J$28,MATCH($A11,'Partie 1'!$F$5:$F$28,0),1),0), _xlfn.IFNA(INDEX('Partie 1'!$J$5:$J$28,MATCH($A11,'Partie 1'!$G$5:$G$28,0),1),0)) -> 0 | H11: =SUM(_xlfn.IFNA(INDEX('Partie 2'!$C$5:$C$28,MATCH($A11,'Partie 2'!$B$5:$B$28,0),1),0) , _xlfn.IFNA(INDEX('Partie 2'!$B$5:$B$28,MATCH($A11,'Partie 2'!$C$5:$C$28,0),1),0),_xlfn.IFNA(INDEX('Partie 2'!$F$5:$F$28,MATCH($A11,'Partie 2'!$G$5:$G$28,0),1),0),_xlfn.IFNA(INDEX('Partie 2'!$G$5:$G$28,MATCH($A11,'Partie 2'!$F$5:$F$28,0),1),0)) -> 0 | I11: =SUM(_xlfn.IFNA(INDEX('Partie 2'!$F$5:$F$28,MATCH($A11,'Partie 2'!$B$5:$B$28,0),1),0) ,_xlfn.IFNA(INDEX('Partie 2'!$F$5:$F$28,MATCH($A11,'Partie 2'!$C$5:$C$28,0),1),0) , _xlfn.IFNA(INDEX('Partie 2'!$B$5:$B$28,MATCH($A11,'Partie 2'!$F$5:$F$28,0),1),0),_xlfn.IFNA(INDEX('Partie 2'!$B$5:$B$28,MATCH($A11,'Partie 2'!$G$5:$G$28,0),1),0)) -> 0 | J11: =SUM(_xlfn.IFNA(INDEX('Partie 2'!$G$5:$G$28,MATCH($A11,'Partie 2'!$B$5:$B$28,0),1),0) ,_xlfn.IFNA(INDEX('Partie 2'!$G$5:$G$28,MATCH($A11,'Partie 2'!$C$5:$C$28,0),1),0) , _xlfn.IFNA(INDEX('Partie 2'!$C$5:$C$28,MATCH($A11,'Partie 2'!$F$5:$F$28,0),1),0),_xlfn.IFNA(INDEX('Partie 2'!$C$5:$C$28,MATCH($A11,'Partie 2'!$G$5:$G$28,0),1),0)) -> 0 | K11: =SUM(_xlfn.IFNA(INDEX('Partie 2'!$J$5:$J$28,MATCH($A11,'Partie 2'!$B$5:$B$28,0),1),0) ,_xlfn.IFNA(INDEX('Partie 2'!$J$5:$J$28,MATCH($A11,'Partie 2'!$C$5:$C$28,0),1),0) , _xlfn.IFNA(INDEX('Partie 2'!$K$5:$K$28,MATCH($A11,'Partie 2'!$F$5:$F$28,0),1),0), _xlfn.IFNA(INDEX('Partie 2'!$K$5:$K$28,MATCH($A11,'Partie 2'!$G$5:$G$28,0),1),0)) -> 0 | L11: =SUM(_xlfn.IFNA(INDEX('Partie 2'!$K$5:$K$28,MATCH($A11,'Partie 2'!$B$5:$B$28,0),1),0) ,_xlfn.IFNA(INDEX('Partie 2'!$K$5:$K$28,MATCH($A11,'Partie 2'!$C$5:$C$28,0),1),0) , _xlfn.IFNA(INDEX('Partie 2'!$J$5:$J$28,MATCH($A11,'Partie 2'!$F$5:$F$28,0),1),0), _xlfn.IFNA(INDEX('Partie 2'!$J$5:$J$28,MATCH($A11,'Partie 2'!$G$5:$G$28,0),1),0)) -> 0 | M11: =SUM(_xlfn.IFNA(INDEX('Partie 3'!$C$5:$C$28,MATCH($A11,'Partie 3'!$B$5:$B$28,0),1),0) , _xlfn.IFNA(INDEX('Partie 3'!$B$5:$B$28,MATCH($A11,'Partie 3'!$C$5:$C$28,0),1),0),_xlfn.IFNA(INDEX('Partie 3'!$F$5:$F$28,MATCH($A11,'Partie 3'!$G$5:$G$28,0),1),0),_xlfn.IFNA(INDEX('Partie 3'!$G$5:$G$28,MATCH($A11,'Partie 3'!$F$5:$F$28,0),1),0)) -> 0 | N11: =SUM(_xlfn.IFNA(INDEX('Partie 3'!$F$5:$F$28,MATCH($A11,'Partie 3'!$B$5:$B$28,0),1),0) ,_xlfn.IFNA(INDEX('Partie 3'!$F$5:$F$28,MATCH($A11,'Partie 3'!$C$5:$C$28,0),1),0) , _xlfn.IFNA(INDEX('Partie 3'!$B$5:$B$28,MATCH($A11,'Partie 3'!$F$5:$F$28,0),1),0),_xlfn.IFNA(INDEX('Partie 3'!$B$5:$B$28,MATCH($A11,'Partie 3'!$G$5:$G$28,0),1),0)) -> 0 | O11: =SUM(_xlfn.IFNA(INDEX('Partie 3'!$G$5:$G$28,MATCH($A11,'Partie 3'!$B$5:$B$28,0),1),0) ,_xlfn.IFNA(INDEX('Partie 3'!$G$5:$G$28,MATCH($A11,'Partie 3'!$C$5:$C$28,0),1),0) , _xlfn.IFNA(INDEX('Partie 3'!$C$5:$C$28,MATCH($A11,'Partie 3'!$F$5:$F$28,0),1),0),_xlfn.IFNA(INDEX('Partie 3'!$C$5:$C$28,MATCH($A11,'Partie 3'!$G$5:$G$28,0),1),0)) -> 0 | P11: =SUM(_xlfn.IFNA(INDEX('Partie 3'!$J$5:$J$28,MATCH($A11,'Partie 3'!$B$5:$B$28,0),1),0) ,_xlfn.IFNA(INDEX('Partie 3'!$J$5:$J$28,MATCH($A11,'Partie 3'!$C$5:$C$28,0),1),0) , _xlfn.IFNA(INDEX('Partie 3'!$K$5:$K$28,MATCH($A11,'Partie 3'!$F$5:$F$28,0),1),0), _xlfn.IFNA(INDEX('Partie 3'!$K$5:$K$28,MATCH($A11,'Partie 3'!$G$5:$G$28,0),1),0)) -> 0 | Q11: =SUM(_xlfn.IFNA(INDEX('Partie 3'!$K$5:$K$28,MATCH($A11,'Partie 3'!$B$5:$B$28,0),1),0) ,_xlfn.IFNA(INDEX('Partie 3'!$K$5:$K$28,MATCH($A11,'Partie 3'!$C$5:$C$28,0),1),0) , _xlfn.IFNA(INDEX('Partie 3'!$J$5:$J$28,MATCH($A11,'Partie 3'!$F$5:$F$28,0),1),0), _xlfn.IFNA(INDEX('Partie 3'!$J$5:$J$28,MATCH($A11,'Partie 3'!$G$5:$G$28,0),1),0)) -> 0 | R11: =SUM(_xlfn.IFNA(INDEX('Partie 4'!$C$5:$C$28,MATCH($A11,'Partie 4'!$B$5:$B$28,0),1),0) , _xlfn.IFNA(INDEX('Partie 4'!$B$5:$B$28,MATCH($A11,'Partie 4'!$C$5:$C$28,0),1),0),_xlfn.IFNA(INDEX('Partie 4'!$F$5:$F$28,MATCH($A11,'Partie 4'!$G$5:$G$28,0),1),0),_xlfn.IFNA(INDEX('Partie 4'!$G$5:$G$28,MATCH($A11,'Partie 4'!$F$5:$F$28,0),1),0)) -> 0 | S11: =SUM(_xlfn.IFNA(INDEX('Partie 4'!$F$5:$F$28,MATCH($A11,'Partie 4'!$B$5:$B$28,0),1),0) ,_xlfn.IFNA(INDEX('Partie 4'!$F$5:$F$28,MATCH($A11,'Partie 4'!$C$5:$C$28,0),1),0) , _xlfn.IFNA(INDEX('Partie 4'!$B$5:$B$28,MATCH($A11,'Partie 4'!$F$5:$F$28,0),1),0),_xlfn.IFNA(INDEX('Partie 4'!$B$5:$B$28,MATCH($A11,'Partie 4'!$G$5:$G$28,0),1),0)) -> 0 | T11: =SUM(_xlfn.IFNA(INDEX('Partie 4'!$G$5:$G$28,MATCH($A11,'Partie 4'!$B$5:$B$28,0),1),0) ,_xlfn.IFNA(INDEX('Partie 4'!$G$5:$G$28,MATCH($A11,'Partie 4'!$C$5:$C$28,0),1),0) , _xlfn.IFNA(INDEX('Partie 4'!$C$5:$C$28,MATCH($A11,'Partie 4'!$F$5:$F$28,0),1),0),_xlfn.IFNA(INDEX('Partie 4'!$C$5:$C$28,MATCH($A11,'Partie 4'!$G$5:$G$28,0),1),0)) -> 0 | U11: =SUM(_xlfn.IFNA(INDEX('Partie 4'!$J$5:$J$28,MATCH($A11,'Partie 4'!$B$5:$B$28,0),1),0) ,_xlfn.IFNA(INDEX('Partie 4'!$J$5:$J$28,MATCH($A11,'Partie 4'!$C$5:$C$28,0),1),0) , _xlfn.IFNA(INDEX('Partie 4'!$K$5:$K$28,MATCH($A11,'Partie 4'!$F$5:$F$28,0),1),0), _xlfn.IFNA(INDEX('Partie 4'!$K$5:$K$28,MATCH($A11,'Partie 4'!$G$5:$G$28,0),1),0)) -> 0 | V11: =SUM(_xlfn.IFNA(INDEX('Partie 4'!$K$5:$K$28,MATCH($A11,'Partie 4'!$B$5:$B$28,0),1),0) ,_xlfn.IFNA(INDEX('Partie 4'!$K$5:$K$28,MATCH($A11,'Partie 4'!$C$5:$C$28,0),1),0) , _xlfn.IFNA(INDEX('Partie 4'!$J$5:$J$28,MATCH($A11,'Partie 4'!$F$5:$F$28,0),1),0), _xlfn.IFNA(INDEX('Partie 4'!$J$5:$J$28,MATCH($A11,'Partie 4'!$G$5:$G$28,0),1),0)) -> 0 | W11: =SUM(_xlfn.IFNA(INDEX('Partie 5'!$C$5:$C$28,MATCH($A11,'Partie 5'!$B$5:$B$28,0),1),0) , _xlfn.IFNA(INDEX('Partie 5'!$B$5:$B$28,MATCH($A11,'Partie 5'!$C$5:$C$28,0),1),0),_xlfn.IFNA(INDEX('Partie 5'!$F$5:$F$28,MATCH($A11,'Partie 5'!$G$5:$G$28,0),1),0),_xlfn.IFNA(INDEX('Partie 5'!$G$5:$G$28,MATCH($A11,'Partie 5'!$F$5:$F$28,0),1),0)) -> 0 | X11: =SUM(_xlfn.IFNA(INDEX('Partie 5'!$F$5:$F$28,MATCH($A11,'Partie 5'!$B$5:$B$28,0),1),0) ,_xlfn.IFNA(INDEX('Partie 5'!$F$5:$F$28,MATCH($A11,'Partie 5'!$C$5:$C$28,0),1),0) , _xlfn.IFNA(INDEX('Partie 5'!$B$5:$B$28,MATCH($A11,'Partie 5'!$F$5:$F$28,0),1),0),_xlfn.IFNA(INDEX('Partie 5'!$B$5:$B$28,MATCH($A11,'Partie 5'!$G$5:$G$28,0),1),0)) -> 0 | Y11: =SUM(_xlfn.IFNA(INDEX('Partie 5'!$G$5:$G$28,MATCH($A11,'Partie 5'!$B$5:$B$28,0),1),0) ,_xlfn.IFNA(INDEX('Partie 5'!$G$5:$G$28,MATCH($A11,'Partie 5'!$C$5:$C$28,0),1),0) , _xlfn.IFNA(INDEX('Partie 5'!$C$5:$C$28,MATCH($A11,'Partie 5'!$F$5:$F$28,0),1),0),_xlfn.IFNA(INDEX('Partie 5'!$C$5:$C$28,MATCH($A11,'Partie 5'!$G$5:$G$28,0),1),0)) -> 0 | Z11: =SUM(_xlfn.IFNA(INDEX('Partie 5'!$J$5:$J$28,MATCH($A11,'Partie 5'!$B$5:$B$28,0),1),0) ,_xlfn.IFNA(INDEX('Partie 5'!$J$5:$J$28,MATCH($A11,'Partie 5'!$C$5:$C$28,0),1),0) , _xlfn.IFNA(INDEX('Partie 5'!$K$5:$K$28,MATCH($A11,'Partie 5'!$F$5:$F$28,0),1),0), _xlfn.IFNA(INDEX('Partie 5'!$K$5:$K$28,MATCH($A11,'Partie 5'!$G$5:$G$28,0),1),0)) -> 0 | AA11: =SUM(_xlfn.IFNA(INDEX('Partie 5'!$K$5:$K$28,MATCH($A11,'Partie 5'!$B$5:$B$28,0),1),0) ,_xlfn.IFNA(INDEX('Partie 5'!$K$5:$K$28,MATCH($A11,'Partie 5'!$C$5:$C$28,0),1),0) , _xlfn.IFNA(INDEX('Partie 5'!$J$5:$J$28,MATCH($A11,'Partie 5'!$F$5:$F$28,0),1),0), _xlfn.IFNA(INDEX('Partie 5'!$J$5:$J$28,MATCH($A11,'Partie 5'!$G$5:$G$28,0),1),0)) -> 0 | AB11: =SUM(_xlfn.IFNA(INDEX('Partie 6'!$C$5:$C$28,MATCH($A11,'Partie 6'!$B$5:$B$28,0),1),0) , _xlfn.IFNA(INDEX('Partie 6'!$B$5:$B$28,MATCH($A11,'Partie 6'!$C$5:$C$28,0),1),0),_xlfn.IFNA(INDEX('Partie 6'!$F$5:$F$28,MATCH($A11,'Partie 6'!$G$5:$G$28,0),1),0),_xlfn.IFNA(INDEX('Partie 6'!$G$5:$G$28,MATCH($A11,'Partie 6'!$F$5:$F$28,0),1),0)) -> 0 | AC11: =SUM(_xlfn.IFNA(INDEX('Partie 6'!$F$5:$F$28,MATCH($A11,'Partie 6'!$B$5:$B$28,0),1),0) ,_xlfn.IFNA(INDEX('Partie 6'!$F$5:$F$28,MATCH($A11,'Partie 6'!$C$5:$C$28,0),1),0) , _xlfn.IFNA(INDEX('Partie 6'!$B$5:$B$28,MATCH($A11,'Partie 6'!$F$5:$F$28,0),1),0),_xlfn.IFNA(INDEX('Partie 6'!$B$5:$B$28,MATCH($A11,'Partie 6'!$G$5:$G$28,0),1),0)) -> 0 | AD11: =SUM(_xlfn.IFNA(INDEX('Partie 6'!$G$5:$G$28,MATCH($A11,'Partie 6'!$B$5:$B$28,0),1),0) ,_xlfn.IFNA(INDEX('Partie 6'!$G$5:$G$28,MATCH($A11,'Partie 6'!$C$5:$C$28,0),1),0) , _xlfn.IFNA(INDEX('Partie 6'!$C$5:$C$28,MATCH($A11,'Partie 6'!$F$5:$F$28,0),1),0),_xlfn.IFNA(INDEX('Partie 6'!$C$5:$C$28,MATCH($A11,'Partie 6'!$G$5:$G$28,0),1),0)) -> 0 | AE11: =SUM(_xlfn.IFNA(INDEX('Partie 6'!$J$5:$J$28,MATCH($A11,'Partie 6'!$B$5:$B$28,0),1),0) ,_xlfn.IFNA(INDEX('Partie 6'!$J$5:$J$28,MATCH($A11,'Partie 6'!$C$5:$C$28,0),1),0) , _xlfn.IFNA(INDEX('Partie 6'!$K$5:$K$28,MATCH($A11,'Partie 6'!$F$5:$F$28,0),1),0), _xlfn.IFNA(INDEX('Partie 6'!$K$5:$K$28,MATCH($A11,'Partie 6'!$G$5:$G$28,0),1),0)) -> 0 | AF11: =SUM(_xlfn.IFNA(INDEX('Partie 6'!$K$5:$K$28,MATCH($A11,'Partie 6'!$B$5:$B$28,0),1),0) ,_xlfn.IFNA(INDEX('Partie 6'!$K$5:$K$28,MATCH($A11,'Partie 6'!$C$5:$C$28,0),1),0) , _xlfn.IFNA(INDEX('Partie 6'!$J$5:$J$28,MATCH($A11,'Partie 6'!$F$5:$F$28,0),1),0), _xlfn.IFNA(INDEX('Partie 6'!$J$5:$J$28,MATCH($A11,'Partie 6'!$G$5:$G$28,0),1),0)) -> 0 | AG11: =SUM(_xlfn.IFNA(INDEX('Partie 7'!$C$5:$C$28,MATCH($A11,'Partie 7'!$B$5:$B$28,0),1),0) , _xlfn.IFNA(INDEX('Partie 7'!$B$5:$B$28,MATCH($A11,'Partie 7'!$C$5:$C$28,0),1),0),_xlfn.IFNA(INDEX('Partie 7'!$F$5:$F$28,MATCH($A11,'Partie 7'!$G$5:$G$28,0),1),0),_xlfn.IFNA(INDEX('Partie 7'!$G$5:$G$28,MATCH($A11,'Partie 7'!$F$5:$F$28,0),1),0)) -> 0 | AH11: =SUM(_xlfn.IFNA(INDEX('Partie 7'!$F$5:$F$28,MATCH($A11,'Partie 7'!$B$5:$B$28,0),1),0) ,_xlfn.IFNA(INDEX('Partie 7'!$F$5:$F$28,MATCH($A11,'Partie 7'!$C$5:$C$28,0),1),0) , _xlfn.IFNA(INDEX('Partie 7'!$B$5:$B$28,MATCH($A11,'Partie 7'!$F$5:$F$28,0),1),0),_xlfn.IFNA(INDEX('Partie 7'!$B$5:$B$28,MATCH($A11,'Partie 7'!$G$5:$G$28,0),1),0)) -> 0 | AI11: =SUM(_xlfn.IFNA(INDEX('Partie 7'!$G$5:$G$28,MATCH($A11,'Partie 7'!$B$5:$B$28,0),1),0) ,_xlfn.IFNA(INDEX('Partie 7'!$G$5:$G$28,MATCH($A11,'Partie 7'!$C$5:$C$28,0),1),0) , _xlfn.IFNA(INDEX('Partie 7'!$C$5:$C$28,MATCH($A11,'Partie 7'!$F$5:$F$28,0),1),0),_xlfn.IFNA(INDEX('Partie 7'!$C$5:$C$28,MATCH($A11,'Partie 7'!$G$5:$G$28,0),1),0)) -> 0 | AJ11: =SUM(_xlfn.IFNA(INDEX('Partie 7'!$J$5:$J$28,MATCH($A11,'Partie 7'!$B$5:$B$28,0),1),0) ,_xlfn.IFNA(INDEX('Partie 7'!$J$5:$J$28,MATCH($A11,'Partie 7'!$C$5:$C$28,0),1),0) , _xlfn.IFNA(INDEX('Partie 7'!$K$5:$K$28,MATCH($A11,'Partie 7'!$F$5:$F$28,0),1),0), _xlfn.IFNA(INDEX('Partie 7'!$K$5:$K$28,MATCH($A11,'Partie 7'!$G$5:$G$28,0),1),0)) -> 0 | AK11: =SUM(_xlfn.IFNA(INDEX('Partie 7'!$K$5:$K$28,MATCH($A11,'Partie 7'!$B$5:$B$28,0),1),0) ,_xlfn.IFNA(INDEX('Partie 7'!$K$5:$K$28,MATCH($A11,'Partie 7'!$C$5:$C$28,0),1),0) , _xlfn.IFNA(INDEX('Partie 7'!$J$5:$J$28,MATCH($A11,'Partie 7'!$F$5:$F$28,0),1),0), _xlfn.IFNA(INDEX('Partie 7'!$J$5:$J$28,MATCH($A11,'Partie 7'!$G$5:$G$28,0),1),0)) -> 0
A12: 10 | C12: =SUM(_xlfn.IFNA(INDEX('Partie 1'!$C$5:$C$28,MATCH($A12,'Partie 1'!$B$5:$B$28,0),1),0) , _xlfn.IFNA(INDEX('Partie 1'!$B$5:$B$28,MATCH($A12,'Partie 1'!$C$5:$C$28,0),1),0),_xlfn.IFNA(INDEX('Partie 1'!$F$5:$F$28,MATCH($A12,'Partie 1'!$G$5:$G$28,0),1),0),_xlfn.IFNA(INDEX('Partie 1'!$G$5:$G$28,MATCH($A12,'Partie 1'!$F$5:$F$28,0),1),0)) -> 0 | D12: =SUM(_xlfn.IFNA(INDEX('Partie 1'!$F$5:$F$28,MATCH($A12,'Partie 1'!$B$5:$B$28,0),1),0) ,_xlfn.IFNA(INDEX('Partie 1'!$F$5:$F$28,MATCH($A12,'Partie 1'!$C$5:$C$28,0),1),0) , _xlfn.IFNA(INDEX('Partie 1'!$B$5:$B$28,MATCH($A12,'Partie 1'!$F$5:$F$28,0),1),0),_xlfn.IFNA(INDEX('Partie 1'!$B$5:$B$28,MATCH($A12,'Partie 1'!$G$5:$G$28,0),1),0)) -> 0 | E12: =SUM(_xlfn.IFNA(INDEX('Partie 1'!$G$5:$G$28,MATCH($A12,'Partie 1'!$B$5:$B$28,0),1),0) ,_xlfn.IFNA(INDEX('Partie 1'!$G$5:$G$28,MATCH($A12,'Partie 1'!$C$5:$C$28,0),1),0) , _xlfn.IFNA(INDEX('Partie 1'!$C$5:$C$28,MATCH($A12,'Partie 1'!$F$5:$F$28,0),1),0),_xlfn.IFNA(INDEX('Partie 1'!$C$5:$C$28,MATCH($A12,'Partie 1'!$G$5:$G$28,0),1),0)) -> 0 | F12: =SUM(_xlfn.IFNA(INDEX('Partie 1'!$J$5:$J$28,MATCH($A12,'Partie 1'!$B$5:$B$28,0),1),0) ,_xlfn.IFNA(INDEX('Partie 1'!$J$5:$J$28,MATCH($A12,'Partie 1'!$C$5:$C$28,0),1),0) , _xlfn.IFNA(INDEX('Partie 1'!$K$5:$K$28,MATCH($A12,'Partie 1'!$F$5:$F$28,0),1),0), _xlfn.IFNA(INDEX('Partie 1'!$K$5:$K$28,MATCH($A12,'Partie 1'!$G$5:$G$28,0),1),0)) -> 0 | G12: =SUM(_xlfn.IFNA(INDEX('Partie 1'!$K$5:$K$28,MATCH($A12,'Partie 1'!$B$5:$B$28,0),1),0) ,_xlfn.IFNA(INDEX('Partie 1'!$K$5:$K$28,MATCH($A12,'Partie 1'!$C$5:$C$28,0),1),0) , _xlfn.IFNA(INDEX('Partie 1'!$J$5:$J$28,MATCH($A12,'Partie 1'!$F$5:$F$28,0),1),0), _xlfn.IFNA(INDEX('Partie 1'!$J$5:$J$28,MATCH($A12,'Partie 1'!$G$5:$G$28,0),1),0)) -> 0 | H12: =SUM(_xlfn.IFNA(INDEX('Partie 2'!$C$5:$C$28,MATCH($A12,'Partie 2'!$B$5:$B$28,0),1),0) , _xlfn.IFNA(INDEX('Partie 2'!$B$5:$B$28,MATCH($A12,'Partie 2'!$C$5:$C$28,0),1),0),_xlfn.IFNA(INDEX('Partie 2'!$F$5:$F$28,MATCH($A12,'Partie 2'!$G$5:$G$28,0),1),0),_xlfn.IFNA(INDEX('Partie 2'!$G$5:$G$28,MATCH($A12,'Partie 2'!$F$5:$F$28,0),1),0)) -> 0 | I12: =SUM(_xlfn.IFNA(INDEX('Partie 2'!$F$5:$F$28,MATCH($A12,'Partie 2'!$B$5:$B$28,0),1),0) ,_xlfn.IFNA(INDEX('Partie 2'!$F$5:$F$28,MATCH($A12,'Partie 2'!$C$5:$C$28,0),1),0) , _xlfn.IFNA(INDEX('Partie 2'!$B$5:$B$28,MATCH($A12,'Partie 2'!$F$5:$F$28,0),1),0),_xlfn.IFNA(INDEX('Partie 2'!$B$5:$B$28,MATCH($A12,'Partie 2'!$G$5:$G$28,0),1),0)) -> 0 | J12: =SUM(_xlfn.IFNA(INDEX('Partie 2'!$G$5:$G$28,MATCH($A12,'Partie 2'!$B$5:$B$28,0),1),0) ,_xlfn.IFNA(INDEX('Partie 2'!$G$5:$G$28,MATCH($A12,'Partie 2'!$C$5:$C$28,0),1),0) , _xlfn.IFNA(INDEX('Partie 2'!$C$5:$C$28,MATCH($A12,'Partie 2'!$F$5:$F$28,0),1),0),_xlfn.IFNA(INDEX('Partie 2'!$C$5:$C$28,MATCH($A12,'Partie 2'!$G$5:$G$28,0),1),0)) -> 0 | K12: =SUM(_xlfn.IFNA(INDEX('Partie 2'!$J$5:$J$28,MATCH($A12,'Partie 2'!$B$5:$B$28,0),1),0) ,_xlfn.IFNA(INDEX('Partie 2'!$J$5:$J$28,MATCH($A12,'Partie 2'!$C$5:$C$28,0),1),0) , _xlfn.IFNA(INDEX('Partie 2'!$K$5:$K$28,MATCH($A12,'Partie 2'!$F$5:$F$28,0),1),0), _xlfn.IFNA(INDEX('Partie 2'!$K$5:$K$28,MATCH($A12,'Partie 2'!$G$5:$G$28,0),1),0)) -> 0 | L12: =SUM(_xlfn.IFNA(INDEX('Partie 2'!$K$5:$K$28,MATCH($A12,'Partie 2'!$B$5:$B$28,0),1),0) ,_xlfn.IFNA(INDEX('Partie 2'!$K$5:$K$28,MATCH($A12,'Partie 2'!$C$5:$C$28,0),1),0) , _xlfn.IFNA(INDEX('Partie 2'!$J$5:$J$28,MATCH($A12,'Partie 2'!$F$5:$F$28,0),1),0), _xlfn.IFNA(INDEX('Partie 2'!$J$5:$J$28,MATCH($A12,'Partie 2'!$G$5:$G$28,0),1),0)) -> 0 | M12: =SUM(_xlfn.IFNA(INDEX('Partie 3'!$C$5:$C$28,MATCH($A12,'Partie 3'!$B$5:$B$28,0),1),0) , _xlfn.IFNA(INDEX('Partie 3'!$B$5:$B$28,MATCH($A12,'Partie 3'!$C$5:$C$28,0),1),0),_xlfn.IFNA(INDEX('Partie 3'!$F$5:$F$28,MATCH($A12,'Partie 3'!$G$5:$G$28,0),1),0),_xlfn.IFNA(INDEX('Partie 3'!$G$5:$G$28,MATCH($A12,'Partie 3'!$F$5:$F$28,0),1),0)) -> 0 | N12: =SUM(_xlfn.IFNA(INDEX('Partie 3'!$F$5:$F$28,MATCH($A12,'Partie 3'!$B$5:$B$28,0),1),0) ,_xlfn.IFNA(INDEX('Partie 3'!$F$5:$F$28,MATCH($A12,'Partie 3'!$C$5:$C$28,0),1),0) , _xlfn.IFNA(INDEX('Partie 3'!$B$5:$B$28,MATCH($A12,'Partie 3'!$F$5:$F$28,0),1),0),_xlfn.IFNA(INDEX('Partie 3'!$B$5:$B$28,MATCH($A12,'Partie 3'!$G$5:$G$28,0),1),0)) -> 0 | O12: =SUM(_xlfn.IFNA(INDEX('Partie 3'!$G$5:$G$28,MATCH($A12,'Partie 3'!$B$5:$B$28,0),1),0) ,_xlfn.IFNA(INDEX('Partie 3'!$G$5:$G$28,MATCH($A12,'Partie 3'!$C$5:$C$28,0),1),0) , _xlfn.IFNA(INDEX('Partie 3'!$C$5:$C$28,MATCH($A12,'Partie 3'!$F$5:$F$28,0),1),0),_xlfn.IFNA(INDEX('Partie 3'!$C$5:$C$28,MATCH($A12,'Partie 3'!$G$5:$G$28,0),1),0)) -> 0 | P12: =SUM(_xlfn.IFNA(INDEX('Partie 3'!$J$5:$J$28,MATCH($A12,'Partie 3'!$B$5:$B$28,0),1),0) ,_xlfn.IFNA(INDEX('Partie 3'!$J$5:$J$28,MATCH($A12,'Partie 3'!$C$5:$C$28,0),1),0) , _xlfn.IFNA(INDEX('Partie 3'!$K$5:$K$28,MATCH($A12,'Partie 3'!$F$5:$F$28,0),1),0), _xlfn.IFNA(INDEX('Partie 3'!$K$5:$K$28,MATCH($A12,'Partie 3'!$G$5:$G$28,0),1),0)) -> 0 | Q12: =SUM(_xlfn.IFNA(INDEX('Partie 3'!$K$5:$K$28,MATCH($A12,'Partie 3'!$B$5:$B$28,0),1),0) ,_xlfn.IFNA(INDEX('Partie 3'!$K$5:$K$28,MATCH($A12,'Partie 3'!$C$5:$C$28,0),1),0) , _xlfn.IFNA(INDEX('Partie 3'!$J$5:$J$28,MATCH($A12,'Partie 3'!$F$5:$F$28,0),1),0), _xlfn.IFNA(INDEX('Partie 3'!$J$5:$J$28,MATCH($A12,'Partie 3'!$G$5:$G$28,0),1),0)) -> 0 | R12: =SUM(_xlfn.IFNA(INDEX('Partie 4'!$C$5:$C$28,MATCH($A12,'Partie 4'!$B$5:$B$28,0),1),0) , _xlfn.IFNA(INDEX('Partie 4'!$B$5:$B$28,MATCH($A12,'Partie 4'!$C$5:$C$28,0),1),0),_xlfn.IFNA(INDEX('Partie 4'!$F$5:$F$28,MATCH($A12,'Partie 4'!$G$5:$G$28,0),1),0),_xlfn.IFNA(INDEX('Partie 4'!$G$5:$G$28,MATCH($A12,'Partie 4'!$F$5:$F$28,0),1),0)) -> 0 | S12: =SUM(_xlfn.IFNA(INDEX('Partie 4'!$F$5:$F$28,MATCH($A12,'Partie 4'!$B$5:$B$28,0),1),0) ,_xlfn.IFNA(INDEX('Partie 4'!$F$5:$F$28,MATCH($A12,'Partie 4'!$C$5:$C$28,0),1),0) , _xlfn.IFNA(INDEX('Partie 4'!$B$5:$B$28,MATCH($A12,'Partie 4'!$F$5:$F$28,0),1),0),_xlfn.IFNA(INDEX('Partie 4'!$B$5:$B$28,MATCH($A12,'Partie 4'!$G$5:$G$28,0),1),0)) -> 0 | T12: =SUM(_xlfn.IFNA(INDEX('Partie 4'!$G$5:$G$28,MATCH($A12,'Partie 4'!$B$5:$B$28,0),1),0) ,_xlfn.IFNA(INDEX('Partie 4'!$G$5:$G$28,MATCH($A12,'Partie 4'!$C$5:$C$28,0),1),0) , _xlfn.IFNA(INDEX('Partie 4'!$C$5:$C$28,MATCH($A12,'Partie 4'!$F$5:$F$28,0),1),0),_xlfn.IFNA(INDEX('Partie 4'!$C$5:$C$28,MATCH($A12,'Partie 4'!$G$5:$G$28,0),1),0)) -> 0 | U12: =SUM(_xlfn.IFNA(INDEX('Partie 4'!$J$5:$J$28,MATCH($A12,'Partie 4'!$B$5:$B$28,0),1),0) ,_xlfn.IFNA(INDEX('Partie 4'!$J$5:$J$28,MATCH($A12,'Partie 4'!$C$5:$C$28,0),1),0) , _xlfn.IFNA(INDEX('Partie 4'!$K$5:$K$28,MATCH($A12,'Partie 4'!$F$5:$F$28,0),1),0), _xlfn.IFNA(INDEX('Partie 4'!$K$5:$K$28,MATCH($A12,'Partie 4'!$G$5:$G$28,0),1),0)) -> 0 | V12: =SUM(_xlfn.IFNA(INDEX('Partie 4'!$K$5:$K$28,MATCH($A12,'Partie 4'!$B$5:$B$28,0),1),0) ,_xlfn.IFNA(INDEX('Partie 4'!$K$5:$K$28,MATCH($A12,'Partie 4'!$C$5:$C$28,0),1),0) , _xlfn.IFNA(INDEX('Partie 4'!$J$5:$J$28,MATCH($A12,'Partie 4'!$F$5:$F$28,0),1),0), _xlfn.IFNA(INDEX('Partie 4'!$J$5:$J$28,MATCH($A12,'Partie 4'!$G$5:$G$28,0),1),0)) -> 0 | W12: =SUM(_xlfn.IFNA(INDEX('Partie 5'!$C$5:$C$28,MATCH($A12,'Partie 5'!$B$5:$B$28,0),1),0) , _xlfn.IFNA(INDEX('Partie 5'!$B$5:$B$28,MATCH($A12,'Partie 5'!$C$5:$C$28,0),1),0),_xlfn.IFNA(INDEX('Partie 5'!$F$5:$F$28,MATCH($A12,'Partie 5'!$G$5:$G$28,0),1),0),_xlfn.IFNA(INDEX('Partie 5'!$G$5:$G$28,MATCH($A12,'Partie 5'!$F$5:$F$28,0),1),0)) -> 0 | X12: =SUM(_xlfn.IFNA(INDEX('Partie 5'!$F$5:$F$28,MATCH($A12,'Partie 5'!$B$5:$B$28,0),1),0) ,_xlfn.IFNA(INDEX('Partie 5'!$F$5:$F$28,MATCH($A12,'Partie 5'!$C$5:$C$28,0),1),0) , _xlfn.IFNA(INDEX('Partie 5'!$B$5:$B$28,MATCH($A12,'Partie 5'!$F$5:$F$28,0),1),0),_xlfn.IFNA(INDEX('Partie 5'!$B$5:$B$28,MATCH($A12,'Partie 5'!$G$5:$G$28,0),1),0)) -> 0 | Y12: =SUM(_xlfn.IFNA(INDEX('Partie 5'!$G$5:$G$28,MATCH($A12,'Partie 5'!$B$5:$B$28,0),1),0) ,_xlfn.IFNA(INDEX('Partie 5'!$G$5:$G$28,MATCH($A12,'Partie 5'!$C$5:$C$28,0),1),0) , _xlfn.IFNA(INDEX('Partie 5'!$C$5:$C$28,MATCH($A12,'Partie 5'!$F$5:$F$28,0),1),0),_xlfn.IFNA(INDEX('Partie 5'!$C$5:$C$28,MATCH($A12,'Partie 5'!$G$5:$G$28,0),1),0)) -> 0 | Z12: =SUM(_xlfn.IFNA(INDEX('Partie 5'!$J$5:$J$28,MATCH($A12,'Partie 5'!$B$5:$B$28,0),1),0) ,_xlfn.IFNA(INDEX('Partie 5'!$J$5:$J$28,MATCH($A12,'Partie 5'!$C$5:$C$28,0),1),0) , _xlfn.IFNA(INDEX('Partie 5'!$K$5:$K$28,MATCH($A12,'Partie 5'!$F$5:$F$28,0),1),0), _xlfn.IFNA(INDEX('Partie 5'!$K$5:$K$28,MATCH($A12,'Partie 5'!$G$5:$G$28,0),1),0)) -> 0 | AA12: =SUM(_xlfn.IFNA(INDEX('Partie 5'!$K$5:$K$28,MATCH($A12,'Partie 5'!$B$5:$B$28,0),1),0) ,_xlfn.IFNA(INDEX('Partie 5'!$K$5:$K$28,MATCH($A12,'Partie 5'!$C$5:$C$28,0),1),0) , _xlfn.IFNA(INDEX('Partie 5'!$J$5:$J$28,MATCH($A12,'Partie 5'!$F$5:$F$28,0),1),0), _xlfn.IFNA(INDEX('Partie 5'!$J$5:$J$28,MATCH($A12,'Partie 5'!$G$5:$G$28,0),1),0)) -> 0 | AB12: =SUM(_xlfn.IFNA(INDEX('Partie 6'!$C$5:$C$28,MATCH($A12,'Partie 6'!$B$5:$B$28,0),1),0) , _xlfn.IFNA(INDEX('Partie 6'!$B$5:$B$28,MATCH($A12,'Partie 6'!$C$5:$C$28,0),1),0),_xlfn.IFNA(INDEX('Partie 6'!$F$5:$F$28,MATCH($A12,'Partie 6'!$G$5:$G$28,0),1),0),_xlfn.IFNA(INDEX('Partie 6'!$G$5:$G$28,MATCH($A12,'Partie 6'!$F$5:$F$28,0),1),0)) -> 0 | AC12: =SUM(_xlfn.IFNA(INDEX('Partie 6'!$F$5:$F$28,MATCH($A12,'Partie 6'!$B$5:$B$28,0),1),0) ,_xlfn.IFNA(INDEX('Partie 6'!$F$5:$F$28,MATCH($A12,'Partie 6'!$C$5:$C$28,0),1),0) , _xlfn.IFNA(INDEX('Partie 6'!$B$5:$B$28,MATCH($A12,'Partie 6'!$F$5:$F$28,0),1),0),_xlfn.IFNA(INDEX('Partie 6'!$B$5:$B$28,MATCH($A12,'Partie 6'!$G$5:$G$28,0),1),0)) -> 0 | AD12: =SUM(_xlfn.IFNA(INDEX('Partie 6'!$G$5:$G$28,MATCH($A12,'Partie 6'!$B$5:$B$28,0),1),0) ,_xlfn.IFNA(INDEX('Partie 6'!$G$5:$G$28,MATCH($A12,'Partie 6'!$C$5:$C$28,0),1),0) , _xlfn.IFNA(INDEX('Partie 6'!$C$5:$C$28,MATCH($A12,'Partie 6'!$F$5:$F$28,0),1),0),_xlfn.IFNA(INDEX('Partie 6'!$C$5:$C$28,MATCH($A12,'Partie 6'!$G$5:$G$28,0),1),0)) -> 0 | AE12: =SUM(_xlfn.IFNA(INDEX('Partie 6'!$J$5:$J$28,MATCH($A12,'Partie 6'!$B$5:$B$28,0),1),0) ,_xlfn.IFNA(INDEX('Partie 6'!$J$5:$J$28,MATCH($A12,'Partie 6'!$C$5:$C$28,0),1),0) , _xlfn.IFNA(INDEX('Partie 6'!$K$5:$K$28,MATCH($A12,'Partie 6'!$F$5:$F$28,0),1),0), _xlfn.IFNA(INDEX('Partie 6'!$K$5:$K$28,MATCH($A12,'Partie 6'!$G$5:$G$28,0),1),0)) -> 0 | AF12: =SUM(_xlfn.IFNA(INDEX('Partie 6'!$K$5:$K$28,MATCH($A12,'Partie 6'!$B$5:$B$28,0),1),0) ,_xlfn.IFNA(INDEX('Partie 6'!$K$5:$K$28,MATCH($A12,'Partie 6'!$C$5:$C$28,0),1),0) , _xlfn.IFNA(INDEX('Partie 6'!$J$5:$J$28,MATCH($A12,'Partie 6'!$F$5:$F$28,0),1),0), _xlfn.IFNA(INDEX('Partie 6'!$J$5:$J$28,MATCH($A12,'Partie 6'!$G$5:$G$28,0),1),0)) -> 0 | AG12: =SUM(_xlfn.IFNA(INDEX('Partie 7'!$C$5:$C$28,MATCH($A12,'Partie 7'!$B$5:$B$28,0),1),0) , _xlfn.IFNA(INDEX('Partie 7'!$B$5:$B$28,MATCH($A12,'Partie 7'!$C$5:$C$28,0),1),0),_xlfn.IFNA(INDEX('Partie 7'!$F$5:$F$28,MATCH($A12,'Partie 7'!$G$5:$G$28,0),1),0),_xlfn.IFNA(INDEX('Partie 7'!$G$5:$G$28,MATCH($A12,'Partie 7'!$F$5:$F$28,0),1),0)) -> 0 | AH12: =SUM(_xlfn.IFNA(INDEX('Partie 7'!$F$5:$F$28,MATCH($A12,'Partie 7'!$B$5:$B$28,0),1),0) ,_xlfn.IFNA(INDEX('Partie 7'!$F$5:$F$28,MATCH($A12,'Partie 7'!$C$5:$C$28,0),1),0) , _xlfn.IFNA(INDEX('Partie 7'!$B$5:$B$28,MATCH($A12,'Partie 7'!$F$5:$F$28,0),1),0),_xlfn.IFNA(INDEX('Partie 7'!$B$5:$B$28,MATCH($A12,'Partie 7'!$G$5:$G$28,0),1),0)) -> 0 | AI12: =SUM(_xlfn.IFNA(INDEX('Partie 7'!$G$5:$G$28,MATCH($A12,'Partie 7'!$B$5:$B$28,0),1),0) ,_xlfn.IFNA(INDEX('Partie 7'!$G$5:$G$28,MATCH($A12,'Partie 7'!$C$5:$C$28,0),1),0) , _xlfn.IFNA(INDEX('Partie 7'!$C$5:$C$28,MATCH($A12,'Partie 7'!$F$5:$F$28,0),1),0),_xlfn.IFNA(INDEX('Partie 7'!$C$5:$C$28,MATCH($A12,'Partie 7'!$G$5:$G$28,0),1),0)) -> 0 | AJ12: =SUM(_xlfn.IFNA(INDEX('Partie 7'!$J$5:$J$28,MATCH($A12,'Partie 7'!$B$5:$B$28,0),1),0) ,_xlfn.IFNA(INDEX('Partie 7'!$J$5:$J$28,MATCH($A12,'Partie 7'!$C$5:$C$28,0),1),0) , _xlfn.IFNA(INDEX('Partie 7'!$K$5:$K$28,MATCH($A12,'Partie 7'!$F$5:$F$28,0),1),0), _xlfn.IFNA(INDEX('Partie 7'!$K$5:$K$28,MATCH($A12,'Partie 7'!$G$5:$G$28,0),1),0)) -> 0 | AK12: =SUM(_xlfn.IFNA(INDEX('Partie 7'!$K$5:$K$28,MATCH($A12,'Partie 7'!$B$5:$B$28,0),1),0) ,_xlfn.IFNA(INDEX('Partie 7'!$K$5:$K$28,MATCH($A12,'Partie 7'!$C$5:$C$28,0),1),0) , _xlfn.IFNA(INDEX('Partie 7'!$J$5:$J$28,MATCH($A12,'Partie 7'!$F$5:$F$28,0),1),0), _xlfn.IFNA(INDEX('Partie 7'!$J$5:$J$28,MATCH($A12,'Partie 7'!$G$5:$G$28,0),1),0)) -> 0
A13: 11 | C13: =SUM(_xlfn.IFNA(INDEX('Partie 1'!$C$5:$C$28,MATCH($A13,'Partie 1'!$B$5:$B$28,0),1),0) , _xlfn.IFNA(INDEX('Partie 1'!$B$5:$B$28,MATCH($A13,'Partie 1'!$C$5:$C$28,0),1),0),_xlfn.IFNA(INDEX('Partie 1'!$F$5:$F$28,MATCH($A13,'Partie 1'!$G$5:$G$28,0),1),0),_xlfn.IFNA(INDEX('Partie 1'!$G$5:$G$28,MATCH($A13,'Partie 1'!$F$5:$F$28,0),1),0)) -> 0 | D13: =SUM(_xlfn.IFNA(INDEX('Partie 1'!$F$5:$F$28,MATCH($A13,'Partie 1'!$B$5:$B$28,0),1),0) ,_xlfn.IFNA(INDEX('Partie 1'!$F$5:$F$28,MATCH($A13,'Partie 1'!$C$5:$C$28,0),1),0) , _xlfn.IFNA(INDEX('Partie 1'!$B$5:$B$28,MATCH($A13,'Partie 1'!$F$5:$F$28,0),1),0),_xlfn.IFNA(INDEX('Partie 1'!$B$5:$B$28,MATCH($A13,'Partie 1'!$G$5:$G$28,0),1),0)) -> 0 | E13: =SUM(_xlfn.IFNA(INDEX('Partie 1'!$G$5:$G$28,MATCH($A13,'Partie 1'!$B$5:$B$28,0),1),0) ,_xlfn.IFNA(INDEX('Partie 1'!$G$5:$G$28,MATCH($A13,'Partie 1'!$C$5:$C$28,0),1),0) , _xlfn.IFNA(INDEX('Partie 1'!$C$5:$C$28,MATCH($A13,'Partie 1'!$F$5:$F$28,0),1),0),_xlfn.IFNA(INDEX('Partie 1'!$C$5:$C$28,MATCH($A13,'Partie 1'!$G$5:$G$28,0),1),0)) -> 0 | F13: =SUM(_xlfn.IFNA(INDEX('Partie 1'!$J$5:$J$28,MATCH($A13,'Partie 1'!$B$5:$B$28,0),1),0) ,_xlfn.IFNA(INDEX('Partie 1'!$J$5:$J$28,MATCH($A13,'Partie 1'!$C$5:$C$28,0),1),0) , _xlfn.IFNA(INDEX('Partie 1'!$K$5:$K$28,MATCH($A13,'Partie 1'!$F$5:$F$28,0),1),0), _xlfn.IFNA(INDEX('Partie 1'!$K$5:$K$28,MATCH($A13,'Partie 1'!$G$5:$G$28,0),1),0)) -> 0 | G13: =SUM(_xlfn.IFNA(INDEX('Partie 1'!$K$5:$K$28,MATCH($A13,'Partie 1'!$B$5:$B$28,0),1),0) ,_xlfn.IFNA(INDEX('Partie 1'!$K$5:$K$28,MATCH($A13,'Partie 1'!$C$5:$C$28,0),1),0) , _xlfn.IFNA(INDEX('Partie 1'!$J$5:$J$28,MATCH($A13,'Partie 1'!$F$5:$F$28,0),1),0), _xlfn.IFNA(INDEX('Partie 1'!$J$5:$J$28,MATCH($A13,'Partie 1'!$G$5:$G$28,0),1),0)) -> 0 | H13: =SUM(_xlfn.IFNA(INDEX('Partie 2'!$C$5:$C$28,MATCH($A13,'Partie 2'!$B$5:$B$28,0),1),0) , _xlfn.IFNA(INDEX('Partie 2'!$B$5:$B$28,MATCH($A13,'Partie 2'!$C$5:$C$28,0),1),0),_xlfn.IFNA(INDEX('Partie 2'!$F$5:$F$28,MATCH($A13,'Partie 2'!$G$5:$G$28,0),1),0),_xlfn.IFNA(INDEX('Partie 2'!$G$5:$G$28,MATCH($A13,'Partie 2'!$F$5:$F$28,0),1),0)) -> 0 | I13: =SUM(_xlfn.IFNA(INDEX('Partie 2'!$F$5:$F$28,MATCH($A13,'Partie 2'!$B$5:$B$28,0),1),0) ,_xlfn.IFNA(INDEX('Partie 2'!$F$5:$F$28,MATCH($A13,'Partie 2'!$C$5:$C$28,0),1),0) , _xlfn.IFNA(INDEX('Partie 2'!$B$5:$B$28,MATCH($A13,'Partie 2'!$F$5:$F$28,0),1),0),_xlfn.IFNA(INDEX('Partie 2'!$B$5:$B$28,MATCH($A13,'Partie 2'!$G$5:$G$28,0),1),0)) -> 0 | J13: =SUM(_xlfn.IFNA(INDEX('Partie 2'!$G$5:$G$28,MATCH($A13,'Partie 2'!$B$5:$B$28,0),1),0) ,_xlfn.IFNA(INDEX('Partie 2'!$G$5:$G$28,MATCH($A13,'Partie 2'!$C$5:$C$28,0),1),0) , _xlfn.IFNA(INDEX('Partie 2'!$C$5:$C$28,MATCH($A13,'Partie 2'!$F$5:$F$28,0),1),0),_xlfn.IFNA(INDEX('Partie 2'!$C$5:$C$28,MATCH($A13,'Partie 2'!$G$5:$G$28,0),1),0)) -> 0 | K13: =SUM(_xlfn.IFNA(INDEX('Partie 2'!$J$5:$J$28,MATCH($A13,'Partie 2'!$B$5:$B$28,0),1),0) ,_xlfn.IFNA(INDEX('Partie 2'!$J$5:$J$28,MATCH($A13,'Partie 2'!$C$5:$C$28,0),1),0) , _xlfn.IFNA(INDEX('Partie 2'!$K$5:$K$28,MATCH($A13,'Partie 2'!$F$5:$F$28,0),1),0), _xlfn.IFNA(INDEX('Partie 2'!$K$5:$K$28,MATCH($A13,'Partie 2'!$G$5:$G$28,0),1),0)) -> 0 | L13: =SUM(_xlfn.IFNA(INDEX('Partie 2'!$K$5:$K$28,MATCH($A13,'Partie 2'!$B$5:$B$28,0),1),0) ,_xlfn.IFNA(INDEX('Partie 2'!$K$5:$K$28,MATCH($A13,'Partie 2'!$C$5:$C$28,0),1),0) , _xlfn.IFNA(INDEX('Partie 2'!$J$5:$J$28,MATCH($A13,'Partie 2'!$F$5:$F$28,0),1),0), _xlfn.IFNA(INDEX('Partie 2'!$J$5:$J$28,MATCH($A13,'Partie 2'!$G$5:$G$28,0),1),0)) -> 0 | M13: =SUM(_xlfn.IFNA(INDEX('Partie 3'!$C$5:$C$28,MATCH($A13,'Partie 3'!$B$5:$B$28,0),1),0) , _xlfn.IFNA(INDEX('Partie 3'!$B$5:$B$28,MATCH($A13,'Partie 3'!$C$5:$C$28,0),1),0),_xlfn.IFNA(INDEX('Partie 3'!$F$5:$F$28,MATCH($A13,'Partie 3'!$G$5:$G$28,0),1),0),_xlfn.IFNA(INDEX('Partie 3'!$G$5:$G$28,MATCH($A13,'Partie 3'!$F$5:$F$28,0),1),0)) -> 0 | N13: =SUM(_xlfn.IFNA(INDEX('Partie 3'!$F$5:$F$28,MATCH($A13,'Partie 3'!$B$5:$B$28,0),1),0) ,_xlfn.IFNA(INDEX('Partie 3'!$F$5:$F$28,MATCH($A13,'Partie 3'!$C$5:$C$28,0),1),0) , _xlfn.IFNA(INDEX('Partie 3'!$B$5:$B$28,MATCH($A13,'Partie 3'!$F$5:$F$28,0),1),0),_xlfn.IFNA(INDEX('Partie 3'!$B$5:$B$28,MATCH($A13,'Partie 3'!$G$5:$G$28,0),1),0)) -> 0 | O13: =SUM(_xlfn.IFNA(INDEX('Partie 3'!$G$5:$G$28,MATCH($A13,'Partie 3'!$B$5:$B$28,0),1),0) ,_xlfn.IFNA(INDEX('Partie 3'!$G$5:$G$28,MATCH($A13,'Partie 3'!$C$5:$C$28,0),1),0) , _xlfn.IFNA(INDEX('Partie 3'!$C$5:$C$28,MATCH($A13,'Partie 3'!$F$5:$F$28,0),1),0),_xlfn.IFNA(INDEX('Partie 3'!$C$5:$C$28,MATCH($A13,'Partie 3'!$G$5:$G$28,0),1),0)) -> 0 | P13: =SUM(_xlfn.IFNA(INDEX('Partie 3'!$J$5:$J$28,MATCH($A13,'Partie 3'!$B$5:$B$28,0),1),0) ,_xlfn.IFNA(INDEX('Partie 3'!$J$5:$J$28,MATCH($A13,'Partie 3'!$C$5:$C$28,0),1),0) , _xlfn.IFNA(INDEX('Partie 3'!$K$5:$K$28,MATCH($A13,'Partie 3'!$F$5:$F$28,0),1),0), _xlfn.IFNA(INDEX('Partie 3'!$K$5:$K$28,MATCH($A13,'Partie 3'!$G$5:$G$28,0),1),0)) -> 0 | Q13: =SUM(_xlfn.IFNA(INDEX('Partie 3'!$K$5:$K$28,MATCH($A13,'Partie 3'!$B$5:$B$28,0),1),0) ,_xlfn.IFNA(INDEX('Partie 3'!$K$5:$K$28,MATCH($A13,'Partie 3'!$C$5:$C$28,0),1),0) , _xlfn.IFNA(INDEX('Partie 3'!$J$5:$J$28,MATCH($A13,'Partie 3'!$F$5:$F$28,0),1),0), _xlfn.IFNA(INDEX('Partie 3'!$J$5:$J$28,MATCH($A13,'Partie 3'!$G$5:$G$28,0),1),0)) -> 0 | R13: =SUM(_xlfn.IFNA(INDEX('Partie 4'!$C$5:$C$28,MATCH($A13,'Partie 4'!$B$5:$B$28,0),1),0) , _xlfn.IFNA(INDEX('Partie 4'!$B$5:$B$28,MATCH($A13,'Partie 4'!$C$5:$C$28,0),1),0),_xlfn.IFNA(INDEX('Partie 4'!$F$5:$F$28,MATCH($A13,'Partie 4'!$G$5:$G$28,0),1),0),_xlfn.IFNA(INDEX('Partie 4'!$G$5:$G$28,MATCH($A13,'Partie 4'!$F$5:$F$28,0),1),0)) -> 0 | S13: =SUM(_xlfn.IFNA(INDEX('Partie 4'!$F$5:$F$28,MATCH($A13,'Partie 4'!$B$5:$B$28,0),1),0) ,_xlfn.IFNA(INDEX('Partie 4'!$F$5:$F$28,MATCH($A13,'Partie 4'!$C$5:$C$28,0),1),0) , _xlfn.IFNA(INDEX('Partie 4'!$B$5:$B$28,MATCH($A13,'Partie 4'!$F$5:$F$28,0),1),0),_xlfn.IFNA(INDEX('Partie 4'!$B$5:$B$28,MATCH($A13,'Partie 4'!$G$5:$G$28,0),1),0)) -> 0 | T13: =SUM(_xlfn.IFNA(INDEX('Partie 4'!$G$5:$G$28,MATCH($A13,'Partie 4'!$B$5:$B$28,0),1),0) ,_xlfn.IFNA(INDEX('Partie 4'!$G$5:$G$28,MATCH($A13,'Partie 4'!$C$5:$C$28,0),1),0) , _xlfn.IFNA(INDEX('Partie 4'!$C$5:$C$28,MATCH($A13,'Partie 4'!$F$5:$F$28,0),1),0),_xlfn.IFNA(INDEX('Partie 4'!$C$5:$C$28,MATCH($A13,'Partie 4'!$G$5:$G$28,0),1),0)) -> 0 | U13: =SUM(_xlfn.IFNA(INDEX('Partie 4'!$J$5:$J$28,MATCH($A13,'Partie 4'!$B$5:$B$28,0),1),0) ,_xlfn.IFNA(INDEX('Partie 4'!$J$5:$J$28,MATCH($A13,'Partie 4'!$C$5:$C$28,0),1),0) , _xlfn.IFNA(INDEX('Partie 4'!$K$5:$K$28,MATCH($A13,'Partie 4'!$F$5:$F$28,0),1),0), _xlfn.IFNA(INDEX('Partie 4'!$K$5:$K$28,MATCH($A13,'Partie 4'!$G$5:$G$28,0),1),0)) -> 0 | V13: =SUM(_xlfn.IFNA(INDEX('Partie 4'!$K$5:$K$28,MATCH($A13,'Partie 4'!$B$5:$B$28,0),1),0) ,_xlfn.IFNA(INDEX('Partie 4'!$K$5:$K$28,MATCH($A13,'Partie 4'!$C$5:$C$28,0),1),0) , _xlfn.IFNA(INDEX('Partie 4'!$J$5:$J$28,MATCH($A13,'Partie 4'!$F$5:$F$28,0),1),0), _xlfn.IFNA(INDEX('Partie 4'!$J$5:$J$28,MATCH($A13,'Partie 4'!$G$5:$G$28,0),1),0)) -> 0 | W13: =SUM(_xlfn.IFNA(INDEX('Partie 5'!$C$5:$C$28,MATCH($A13,'Partie 5'!$B$5:$B$28,0),1),0) , _xlfn.IFNA(INDEX('Partie 5'!$B$5:$B$28,MATCH($A13,'Partie 5'!$C$5:$C$28,0),1),0),_xlfn.IFNA(INDEX('Partie 5'!$F$5:$F$28,MATCH($A13,'Partie 5'!$G$5:$G$28,0),1),0),_xlfn.IFNA(INDEX('Partie 5'!$G$5:$G$28,MATCH($A13,'Partie 5'!$F$5:$F$28,0),1),0)) -> 0 | X13: =SUM(_xlfn.IFNA(INDEX('Partie 5'!$F$5:$F$28,MATCH($A13,'Partie 5'!$B$5:$B$28,0),1),0) ,_xlfn.IFNA(INDEX('Partie 5'!$F$5:$F$28,MATCH($A13,'Partie 5'!$C$5:$C$28,0),1),0) , _xlfn.IFNA(INDEX('Partie 5'!$B$5:$B$28,MATCH($A13,'Partie 5'!$F$5:$F$28,0),1),0),_xlfn.IFNA(INDEX('Partie 5'!$B$5:$B$28,MATCH($A13,'Partie 5'!$G$5:$G$28,0),1),0)) -> 0 | Y13: =SUM(_xlfn.IFNA(INDEX('Partie 5'!$G$5:$G$28,MATCH($A13,'Partie 5'!$B$5:$B$28,0),1),0) ,_xlfn.IFNA(INDEX('Partie 5'!$G$5:$G$28,MATCH($A13,'Partie 5'!$C$5:$C$28,0),1),0) , _xlfn.IFNA(INDEX('Partie 5'!$C$5:$C$28,MATCH($A13,'Partie 5'!$F$5:$F$28,0),1),0),_xlfn.IFNA(INDEX('Partie 5'!$C$5:$C$28,MATCH($A13,'Partie 5'!$G$5:$G$28,0),1),0)) -> 0 | Z13: =SUM(_xlfn.IFNA(INDEX('Partie 5'!$J$5:$J$28,MATCH($A13,'Partie 5'!$B$5:$B$28,0),1),0) ,_xlfn.IFNA(INDEX('Partie 5'!$J$5:$J$28,MATCH($A13,'Partie 5'!$C$5:$C$28,0),1),0) , _xlfn.IFNA(INDEX('Partie 5'!$K$5:$K$28,MATCH($A13,'Partie 5'!$F$5:$F$28,0),1),0), _xlfn.IFNA(INDEX('Partie 5'!$K$5:$K$28,MATCH($A13,'Partie 5'!$G$5:$G$28,0),1),0)) -> 0 | AA13: =SUM(_xlfn.IFNA(INDEX('Partie 5'!$K$5:$K$28,MATCH($A13,'Partie 5'!$B$5:$B$28,0),1),0) ,_xlfn.IFNA(INDEX('Partie 5'!$K$5:$K$28,MATCH($A13,'Partie 5'!$C$5:$C$28,0),1),0) , _xlfn.IFNA(INDEX('Partie 5'!$J$5:$J$28,MATCH($A13,'Partie 5'!$F$5:$F$28,0),1),0), _xlfn.IFNA(INDEX('Partie 5'!$J$5:$J$28,MATCH($A13,'Partie 5'!$G$5:$G$28,0),1),0)) -> 0 | AB13: =SUM(_xlfn.IFNA(INDEX('Partie 6'!$C$5:$C$28,MATCH($A13,'Partie 6'!$B$5:$B$28,0),1),0) , _xlfn.IFNA(INDEX('Partie 6'!$B$5:$B$28,MATCH($A13,'Partie 6'!$C$5:$C$28,0),1),0),_xlfn.IFNA(INDEX('Partie 6'!$F$5:$F$28,MATCH($A13,'Partie 6'!$G$5:$G$28,0),1),0),_xlfn.IFNA(INDEX('Partie 6'!$G$5:$G$28,MATCH($A13,'Partie 6'!$F$5:$F$28,0),1),0)) -> 0 | AC13: =SUM(_xlfn.IFNA(INDEX('Partie 6'!$F$5:$F$28,MATCH($A13,'Partie 6'!$B$5:$B$28,0),1),0) ,_xlfn.IFNA(INDEX('Partie 6'!$F$5:$F$28,MATCH($A13,'Partie 6'!$C$5:$C$28,0),1),0) , _xlfn.IFNA(INDEX('Partie 6'!$B$5:$B$28,MATCH($A13,'Partie 6'!$F$5:$F$28,0),1),0),_xlfn.IFNA(INDEX('Partie 6'!$B$5:$B$28,MATCH($A13,'Partie 6'!$G$5:$G$28,0),1),0)) -> 0 | AD13: =SUM(_xlfn.IFNA(INDEX('Partie 6'!$G$5:$G$28,MATCH($A13,'Partie 6'!$B$5:$B$28,0),1),0) ,_xlfn.IFNA(INDEX('Partie 6'!$G$5:$G$28,MATCH($A13,'Partie 6'!$C$5:$C$28,0),1),0) , _xlfn.IFNA(INDEX('Partie 6'!$C$5:$C$28,MATCH($A13,'Partie 6'!$F$5:$F$28,0),1),0),_xlfn.IFNA(INDEX('Partie 6'!$C$5:$C$28,MATCH($A13,'Partie 6'!$G$5:$G$28,0),1),0)) -> 0 | AE13: =SUM(_xlfn.IFNA(INDEX('Partie 6'!$J$5:$J$28,MATCH($A13,'Partie 6'!$B$5:$B$28,0),1),0) ,_xlfn.IFNA(INDEX('Partie 6'!$J$5:$J$28,MATCH($A13,'Partie 6'!$C$5:$C$28,0),1),0) , _xlfn.IFNA(INDEX('Partie 6'!$K$5:$K$28,MATCH($A13,'Partie 6'!$F$5:$F$28,0),1),0), _xlfn.IFNA(INDEX('Partie 6'!$K$5:$K$28,MATCH($A13,'Partie 6'!$G$5:$G$28,0),1),0)) -> 0 | AF13: =SUM(_xlfn.IFNA(INDEX('Partie 6'!$K$5:$K$28,MATCH($A13,'Partie 6'!$B$5:$B$28,0),1),0) ,_xlfn.IFNA(INDEX('Partie 6'!$K$5:$K$28,MATCH($A13,'Partie 6'!$C$5:$C$28,0),1),0) , _xlfn.IFNA(INDEX('Partie 6'!$J$5:$J$28,MATCH($A13,'Partie 6'!$F$5:$F$28,0),1),0), _xlfn.IFNA(INDEX('Partie 6'!$J$5:$J$28,MATCH($A13,'Partie 6'!$G$5:$G$28,0),1),0)) -> 0 | AG13: =SUM(_xlfn.IFNA(INDEX('Partie 7'!$C$5:$C$28,MATCH($A13,'Partie 7'!$B$5:$B$28,0),1),0) , _xlfn.IFNA(INDEX('Partie 7'!$B$5:$B$28,MATCH($A13,'Partie 7'!$C$5:$C$28,0),1),0),_xlfn.IFNA(INDEX('Partie 7'!$F$5:$F$28,MATCH($A13,'Partie 7'!$G$5:$G$28,0),1),0),_xlfn.IFNA(INDEX('Partie 7'!$G$5:$G$28,MATCH($A13,'Partie 7'!$F$5:$F$28,0),1),0)) -> 0 | AH13: =SUM(_xlfn.IFNA(INDEX('Partie 7'!$F$5:$F$28,MATCH($A13,'Partie 7'!$B$5:$B$28,0),1),0) ,_xlfn.IFNA(INDEX('Partie 7'!$F$5:$F$28,MATCH($A13,'Partie 7'!$C$5:$C$28,0),1),0) , _xlfn.IFNA(INDEX('Partie 7'!$B$5:$B$28,MATCH($A13,'Partie 7'!$F$5:$F$28,0),1),0),_xlfn.IFNA(INDEX('Partie 7'!$B$5:$B$28,MATCH($A13,'Partie 7'!$G$5:$G$28,0),1),0)) -> 0 | AI13: =SUM(_xlfn.IFNA(INDEX('Partie 7'!$G$5:$G$28,MATCH($A13,'Partie 7'!$B$5:$B$28,0),1),0) ,_xlfn.IFNA(INDEX('Partie 7'!$G$5:$G$28,MATCH($A13,'Partie 7'!$C$5:$C$28,0),1),0) , _xlfn.IFNA(INDEX('Partie 7'!$C$5:$C$28,MATCH($A13,'Partie 7'!$F$5:$F$28,0),1),0),_xlfn.IFNA(INDEX('Partie 7'!$C$5:$C$28,MATCH($A13,'Partie 7'!$G$5:$G$28,0),1),0)) -> 0 | AJ13: =SUM(_xlfn.IFNA(INDEX('Partie 7'!$J$5:$J$28,MATCH($A13,'Partie 7'!$B$5:$B$28,0),1),0) ,_xlfn.IFNA(INDEX('Partie 7'!$J$5:$J$28,MATCH($A13,'Partie 7'!$C$5:$C$28,0),1),0) , _xlfn.IFNA(INDEX('Partie 7'!$K$5:$K$28,MATCH($A13,'Partie 7'!$F$5:$F$28,0),1),0), _xlfn.IFNA(INDEX('Partie 7'!$K$5:$K$28,MATCH($A13,'Partie 7'!$G$5:$G$28,0),1),0)) -> 0 | AK13: =SUM(_xlfn.IFNA(INDEX('Partie 7'!$K$5:$K$28,MATCH($A13,'Partie 7'!$B$5:$B$28,0),1),0) ,_xlfn.IFNA(INDEX('Partie 7'!$K$5:$K$28,MATCH($A13,'Partie 7'!$C$5:$C$28,0),1),0) , _xlfn.IFNA(INDEX('Partie 7'!$J$5:$J$28,MATCH($A13,'Partie 7'!$F$5:$F$28,0),1),0), _xlfn.IFNA(INDEX('Partie 7'!$J$5:$J$28,MATCH($A13,'Partie 7'!$G$5:$G$28,0),1),0)) -> 0
A14: 12 | C14: =SUM(_xlfn.IFNA(INDEX('Partie 1'!$C$5:$C$28,MATCH($A14,'Partie 1'!$B$5:$B$28,0),1),0) , _xlfn.IFNA(INDEX('Partie 1'!$B$5:$B$28,MATCH($A14,'Partie 1'!$C$5:$C$28,0),1),0),_xlfn.IFNA(INDEX('Partie 1'!$F$5:$F$28,MATCH($A14,'Partie 1'!$G$5:$G$28,0),1),0),_xlfn.IFNA(INDEX('Partie 1'!$G$5:$G$28,MATCH($A14,'Partie 1'!$F$5:$F$28,0),1),0)) -> 0 | D14: =SUM(_xlfn.IFNA(INDEX('Partie 1'!$F$5:$F$28,MATCH($A14,'Partie 1'!$B$5:$B$28,0),1),0) ,_xlfn.IFNA(INDEX('Partie 1'!$F$5:$F$28,MATCH($A14,'Partie 1'!$C$5:$C$28,0),1),0) , _xlfn.IFNA(INDEX('Partie 1'!$B$5:$B$28,MATCH($A14,'Partie 1'!$F$5:$F$28,0),1),0),_xlfn.IFNA(INDEX('Partie 1'!$B$5:$B$28,MATCH($A14,'Partie 1'!$G$5:$G$28,0),1),0)) -> 0 | E14: =SUM(_xlfn.IFNA(INDEX('Partie 1'!$G$5:$G$28,MATCH($A14,'Partie 1'!$B$5:$B$28,0),1),0) ,_xlfn.IFNA(INDEX('Partie 1'!$G$5:$G$28,MATCH($A14,'Partie 1'!$C$5:$C$28,0),1),0) , _xlfn.IFNA(INDEX('Partie 1'!$C$5:$C$28,MATCH($A14,'Partie 1'!$F$5:$F$28,0),1),0),_xlfn.IFNA(INDEX('Partie 1'!$C$5:$C$28,MATCH($A14,'Partie 1'!$G$5:$G$28,0),1),0)) -> 0 | F14: =SUM(_xlfn.IFNA(INDEX('Partie 1'!$J$5:$J$28,MATCH($A14,'Partie 1'!$B$5:$B$28,0),1),0) ,_xlfn.IFNA(INDEX('Partie 1'!$J$5:$J$28,MATCH($A14,'Partie 1'!$C$5:$C$28,0),1),0) , _xlfn.IFNA(INDEX('Partie 1'!$K$5:$K$28,MATCH($A14,'Partie 1'!$F$5:$F$28,0),1),0), _xlfn.IFNA(INDEX('Partie 1'!$K$5:$K$28,MATCH($A14,'Partie 1'!$G$5:$G$28,0),1),0)) -> 0 | G14: =SUM(_xlfn.IFNA(INDEX('Partie 1'!$K$5:$K$28,MATCH($A14,'Partie 1'!$B$5:$B$28,0),1),0) ,_xlfn.IFNA(INDEX('Partie 1'!$K$5:$K$28,MATCH($A14,'Partie 1'!$C$5:$C$28,0),1),0) , _xlfn.IFNA(INDEX('Partie 1'!$J$5:$J$28,MATCH($A14,'Partie 1'!$F$5:$F$28,0),1),0), _xlfn.IFNA(INDEX('Partie 1'!$J$5:$J$28,MATCH($A14,'Partie 1'!$G$5:$G$28,0),1),0)) -> 0 | H14: =SUM(_xlfn.IFNA(INDEX('Partie 2'!$C$5:$C$28,MATCH($A14,'Partie 2'!$B$5:$B$28,0),1),0) , _xlfn.IFNA(INDEX('Partie 2'!$B$5:$B$28,MATCH($A14,'Partie 2'!$C$5:$C$28,0),1),0),_xlfn.IFNA(INDEX('Partie 2'!$F$5:$F$28,MATCH($A14,'Partie 2'!$G$5:$G$28,0),1),0),_xlfn.IFNA(INDEX('Partie 2'!$G$5:$G$28,MATCH($A14,'Partie 2'!$F$5:$F$28,0),1),0)) -> 0 | I14: =SUM(_xlfn.IFNA(INDEX('Partie 2'!$F$5:$F$28,MATCH($A14,'Partie 2'!$B$5:$B$28,0),1),0) ,_xlfn.IFNA(INDEX('Partie 2'!$F$5:$F$28,MATCH($A14,'Partie 2'!$C$5:$C$28,0),1),0) , _xlfn.IFNA(INDEX('Partie 2'!$B$5:$B$28,MATCH($A14,'Partie 2'!$F$5:$F$28,0),1),0),_xlfn.IFNA(INDEX('Partie 2'!$B$5:$B$28,MATCH($A14,'Partie 2'!$G$5:$G$28,0),1),0)) -> 0 | J14: =SUM(_xlfn.IFNA(INDEX('Partie 2'!$G$5:$G$28,MATCH($A14,'Partie 2'!$B$5:$B$28,0),1),0) ,_xlfn.IFNA(INDEX('Partie 2'!$G$5:$G$28,MATCH($A14,'Partie 2'!$C$5:$C$28,0),1),0) , _xlfn.IFNA(INDEX('Partie 2'!$C$5:$C$28,MATCH($A14,'Partie 2'!$F$5:$F$28,0),1),0),_xlfn.IFNA(INDEX('Partie 2'!$C$5:$C$28,MATCH($A14,'Partie 2'!$G$5:$G$28,0),1),0)) -> 0 | K14: =SUM(_xlfn.IFNA(INDEX('Partie 2'!$J$5:$J$28,MATCH($A14,'Partie 2'!$B$5:$B$28,0),1),0) ,_xlfn.IFNA(INDEX('Partie 2'!$J$5:$J$28,MATCH($A14,'Partie 2'!$C$5:$C$28,0),1),0) , _xlfn.IFNA(INDEX('Partie 2'!$K$5:$K$28,MATCH($A14,'Partie 2'!$F$5:$F$28,0),1),0), _xlfn.IFNA(INDEX('Partie 2'!$K$5:$K$28,MATCH($A14,'Partie 2'!$G$5:$G$28,0),1),0)) -> 0 | L14: =SUM(_xlfn.IFNA(INDEX('Partie 2'!$K$5:$K$28,MATCH($A14,'Partie 2'!$B$5:$B$28,0),1),0) ,_xlfn.IFNA(INDEX('Partie 2'!$K$5:$K$28,MATCH($A14,'Partie 2'!$C$5:$C$28,0),1),0) , _xlfn.IFNA(INDEX('Partie 2'!$J$5:$J$28,MATCH($A14,'Partie 2'!$F$5:$F$28,0),1),0), _xlfn.IFNA(INDEX('Partie 2'!$J$5:$J$28,MATCH($A14,'Partie 2'!$G$5:$G$28,0),1),0)) -> 0 | M14: =SUM(_xlfn.IFNA(INDEX('Partie 3'!$C$5:$C$28,MATCH($A14,'Partie 3'!$B$5:$B$28,0),1),0) , _xlfn.IFNA(INDEX('Partie 3'!$B$5:$B$28,MATCH($A14,'Partie 3'!$C$5:$C$28,0),1),0),_xlfn.IFNA(INDEX('Partie 3'!$F$5:$F$28,MATCH($A14,'Partie 3'!$G$5:$G$28,0),1),0),_xlfn.IFNA(INDEX('Partie 3'!$G$5:$G$28,MATCH($A14,'Partie 3'!$F$5:$F$28,0),1),0)) -> 0 | N14: =SUM(_xlfn.IFNA(INDEX('Partie 3'!$F$5:$F$28,MATCH($A14,'Partie 3'!$B$5:$B$28,0),1),0) ,_xlfn.IFNA(INDEX('Partie 3'!$F$5:$F$28,MATCH($A14,'Partie 3'!$C$5:$C$28,0),1),0) , _xlfn.IFNA(INDEX('Partie 3'!$B$5:$B$28,MATCH($A14,'Partie 3'!$F$5:$F$28,0),1),0),_xlfn.IFNA(INDEX('Partie 3'!$B$5:$B$28,MATCH($A14,'Partie 3'!$G$5:$G$28,0),1),0)) -> 0 | O14: =SUM(_xlfn.IFNA(INDEX('Partie 3'!$G$5:$G$28,MATCH($A14,'Partie 3'!$B$5:$B$28,0),1),0) ,_xlfn.IFNA(INDEX('Partie 3'!$G$5:$G$28,MATCH($A14,'Partie 3'!$C$5:$C$28,0),1),0) , _xlfn.IFNA(INDEX('Partie 3'!$C$5:$C$28,MATCH($A14,'Partie 3'!$F$5:$F$28,0),1),0),_xlfn.IFNA(INDEX('Partie 3'!$C$5:$C$28,MATCH($A14,'Partie 3'!$G$5:$G$28,0),1),0)) -> 0 | P14: =SUM(_xlfn.IFNA(INDEX('Partie 3'!$J$5:$J$28,MATCH($A14,'Partie 3'!$B$5:$B$28,0),1),0) ,_xlfn.IFNA(INDEX('Partie 3'!$J$5:$J$28,MATCH($A14,'Partie 3'!$C$5:$C$28,0),1),0) , _xlfn.IFNA(INDEX('Partie 3'!$K$5:$K$28,MATCH($A14,'Partie 3'!$F$5:$F$28,0),1),0), _xlfn.IFNA(INDEX('Partie 3'!$K$5:$K$28,MATCH($A14,'Partie 3'!$G$5:$G$28,0),1),0)) -> 0 | Q14: =SUM(_xlfn.IFNA(INDEX('Partie 3'!$K$5:$K$28,MATCH($A14,'Partie 3'!$B$5:$B$28,0),1),0) ,_xlfn.IFNA(INDEX('Partie 3'!$K$5:$K$28,MATCH($A14,'Partie 3'!$C$5:$C$28,0),1),0) , _xlfn.IFNA(INDEX('Partie 3'!$J$5:$J$28,MATCH($A14,'Partie 3'!$F$5:$F$28,0),1),0), _xlfn.IFNA(INDEX('Partie 3'!$J$5:$J$28,MATCH($A14,'Partie 3'!$G$5:$G$28,0),1),0)) -> 0 | R14: =SUM(_xlfn.IFNA(INDEX('Partie 4'!$C$5:$C$28,MATCH($A14,'Partie 4'!$B$5:$B$28,0),1),0) , _xlfn.IFNA(INDEX('Partie 4'!$B$5:$B$28,MATCH($A14,'Partie 4'!$C$5:$C$28,0),1),0),_xlfn.IFNA(INDEX('Partie 4'!$F$5:$F$28,MATCH($A14,'Partie 4'!$G$5:$G$28,0),1),0),_xlfn.IFNA(INDEX('Partie 4'!$G$5:$G$28,MATCH($A14,'Partie 4'!$F$5:$F$28,0),1),0)) -> 0 | S14: =SUM(_xlfn.IFNA(INDEX('Partie 4'!$F$5:$F$28,MATCH($A14,'Partie 4'!$B$5:$B$28,0),1),0) ,_xlfn.IFNA(INDEX('Partie 4'!$F$5:$F$28,MATCH($A14,'Partie 4'!$C$5:$C$28,0),1),0) , _xlfn.IFNA(INDEX('Partie 4'!$B$5:$B$28,MATCH($A14,'Partie 4'!$F$5:$F$28,0),1),0),_xlfn.IFNA(INDEX('Partie 4'!$B$5:$B$28,MATCH($A14,'Partie 4'!$G$5:$G$28,0),1),0)) -> 0 | T14: =SUM(_xlfn.IFNA(INDEX('Partie 4'!$G$5:$G$28,MATCH($A14,'Partie 4'!$B$5:$B$28,0),1),0) ,_xlfn.IFNA(INDEX('Partie 4'!$G$5:$G$28,MATCH($A14,'Partie 4'!$C$5:$C$28,0),1),0) , _xlfn.IFNA(INDEX('Partie 4'!$C$5:$C$28,MATCH($A14,'Partie 4'!$F$5:$F$28,0),1),0),_xlfn.IFNA(INDEX('Partie 4'!$C$5:$C$28,MATCH($A14,'Partie 4'!$G$5:$G$28,0),1),0)) -> 0 | U14: =SUM(_xlfn.IFNA(INDEX('Partie 4'!$J$5:$J$28,MATCH($A14,'Partie 4'!$B$5:$B$28,0),1),0) ,_xlfn.IFNA(INDEX('Partie 4'!$J$5:$J$28,MATCH($A14,'Partie 4'!$C$5:$C$28,0),1),0) , _xlfn.IFNA(INDEX('Partie 4'!$K$5:$K$28,MATCH($A14,'Partie 4'!$F$5:$F$28,0),1),0), _xlfn.IFNA(INDEX('Partie 4'!$K$5:$K$28,MATCH($A14,'Partie 4'!$G$5:$G$28,0),1),0)) -> 0 | V14: =SUM(_xlfn.IFNA(INDEX('Partie 4'!$K$5:$K$28,MATCH($A14,'Partie 4'!$B$5:$B$28,0),1),0) ,_xlfn.IFNA(INDEX('Partie 4'!$K$5:$K$28,MATCH($A14,'Partie 4'!$C$5:$C$28,0),1),0) , _xlfn.IFNA(INDEX('Partie 4'!$J$5:$J$28,MATCH($A14,'Partie 4'!$F$5:$F$28,0),1),0), _xlfn.IFNA(INDEX('Partie 4'!$J$5:$J$28,MATCH($A14,'Partie 4'!$G$5:$G$28,0),1),0)) -> 0 | W14: =SUM(_xlfn.IFNA(INDEX('Partie 5'!$C$5:$C$28,MATCH($A14,'Partie 5'!$B$5:$B$28,0),1),0) , _xlfn.IFNA(INDEX('Partie 5'!$B$5:$B$28,MATCH($A14,'Partie 5'!$C$5:$C$28,0),1),0),_xlfn.IFNA(INDEX('Partie 5'!$F$5:$F$28,MATCH($A14,'Partie 5'!$G$5:$G$28,0),1),0),_xlfn.IFNA(INDEX('Partie 5'!$G$5:$G$28,MATCH($A14,'Partie 5'!$F$5:$F$28,0),1),0)) -> 0 | X14: =SUM(_xlfn.IFNA(INDEX('Partie 5'!$F$5:$F$28,MATCH($A14,'Partie 5'!$B$5:$B$28,0),1),0) ,_xlfn.IFNA(INDEX('Partie 5'!$F$5:$F$28,MATCH($A14,'Partie 5'!$C$5:$C$28,0),1),0) , _xlfn.IFNA(INDEX('Partie 5'!$B$5:$B$28,MATCH($A14,'Partie 5'!$F$5:$F$28,0),1),0),_xlfn.IFNA(INDEX('Partie 5'!$B$5:$B$28,MATCH($A14,'Partie 5'!$G$5:$G$28,0),1),0)) -> 0 | Y14: =SUM(_xlfn.IFNA(INDEX('Partie 5'!$G$5:$G$28,MATCH($A14,'Partie 5'!$B$5:$B$28,0),1),0) ,_xlfn.IFNA(INDEX('Partie 5'!$G$5:$G$28,MATCH($A14,'Partie 5'!$C$5:$C$28,0),1),0) , _xlfn.IFNA(INDEX('Partie 5'!$C$5:$C$28,MATCH($A14,'Partie 5'!$F$5:$F$28,0),1),0),_xlfn.IFNA(INDEX('Partie 5'!$C$5:$C$28,MATCH($A14,'Partie 5'!$G$5:$G$28,0),1),0)) -> 0 | Z14: =SUM(_xlfn.IFNA(INDEX('Partie 5'!$J$5:$J$28,MATCH($A14,'Partie 5'!$B$5:$B$28,0),1),0) ,_xlfn.IFNA(INDEX('Partie 5'!$J$5:$J$28,MATCH($A14,'Partie 5'!$C$5:$C$28,0),1),0) , _xlfn.IFNA(INDEX('Partie 5'!$K$5:$K$28,MATCH($A14,'Partie 5'!$F$5:$F$28,0),1),0), _xlfn.IFNA(INDEX('Partie 5'!$K$5:$K$28,MATCH($A14,'Partie 5'!$G$5:$G$28,0),1),0)) -> 0 | AA14: =SUM(_xlfn.IFNA(INDEX('Partie 5'!$K$5:$K$28,MATCH($A14,'Partie 5'!$B$5:$B$28,0),1),0) ,_xlfn.IFNA(INDEX('Partie 5'!$K$5:$K$28,MATCH($A14,'Partie 5'!$C$5:$C$28,0),1),0) , _xlfn.IFNA(INDEX('Partie 5'!$J$5:$J$28,MATCH($A14,'Partie 5'!$F$5:$F$28,0),1),0), _xlfn.IFNA(INDEX('Partie 5'!$J$5:$J$28,MATCH($A14,'Partie 5'!$G$5:$G$28,0),1),0)) -> 0 | AB14: =SUM(_xlfn.IFNA(INDEX('Partie 6'!$C$5:$C$28,MATCH($A14,'Partie 6'!$B$5:$B$28,0),1),0) , _xlfn.IFNA(INDEX('Partie 6'!$B$5:$B$28,MATCH($A14,'Partie 6'!$C$5:$C$28,0),1),0),_xlfn.IFNA(INDEX('Partie 6'!$F$5:$F$28,MATCH($A14,'Partie 6'!$G$5:$G$28,0),1),0),_xlfn.IFNA(INDEX('Partie 6'!$G$5:$G$28,MATCH($A14,'Partie 6'!$F$5:$F$28,0),1),0)) -> 0 | AC14: =SUM(_xlfn.IFNA(INDEX('Partie 6'!$F$5:$F$28,MATCH($A14,'Partie 6'!$B$5:$B$28,0),1),0) ,_xlfn.IFNA(INDEX('Partie 6'!$F$5:$F$28,MATCH($A14,'Partie 6'!$C$5:$C$28,0),1),0) , _xlfn.IFNA(INDEX('Partie 6'!$B$5:$B$28,MATCH($A14,'Partie 6'!$F$5:$F$28,0),1),0),_xlfn.IFNA(INDEX('Partie 6'!$B$5:$B$28,MATCH($A14,'Partie 6'!$G$5:$G$28,0),1),0)) -> 0 | AD14: =SUM(_xlfn.IFNA(INDEX('Partie 6'!$G$5:$G$28,MATCH($A14,'Partie 6'!$B$5:$B$28,0),1),0) ,_xlfn.IFNA(INDEX('Partie 6'!$G$5:$G$28,MATCH($A14,'Partie 6'!$C$5:$C$28,0),1),0) , _xlfn.IFNA(INDEX('Partie 6'!$C$5:$C$28,MATCH($A14,'Partie 6'!$F$5:$F$28,0),1),0),_xlfn.IFNA(INDEX('Partie 6'!$C$5:$C$28,MATCH($A14,'Partie 6'!$G$5:$G$28,0),1),0)) -> 0 | AE14: =SUM(_xlfn.IFNA(INDEX('Partie 6'!$J$5:$J$28,MATCH($A14,'Partie 6'!$B$5:$B$28,0),1),0) ,_xlfn.IFNA(INDEX('Partie 6'!$J$5:$J$28,MATCH($A14,'Partie 6'!$C$5:$C$28,0),1),0) , _xlfn.IFNA(INDEX('Partie 6'!$K$5:$K$28,MATCH($A14,'Partie 6'!$F$5:$F$28,0),1),0), _xlfn.IFNA(INDEX('Partie 6'!$K$5:$K$28,MATCH($A14,'Partie 6'!$G$5:$G$28,0),1),0)) -> 0 | AF14: =SUM(_xlfn.IFNA(INDEX('Partie 6'!$K$5:$K$28,MATCH($A14,'Partie 6'!$B$5:$B$28,0),1),0) ,_xlfn.IFNA(INDEX('Partie 6'!$K$5:$K$28,MATCH($A14,'Partie 6'!$C$5:$C$28,0),1),0) , _xlfn.IFNA(INDEX('Partie 6'!$J$5:$J$28,MATCH($A14,'Partie 6'!$F$5:$F$28,0),1),0), _xlfn.IFNA(INDEX('Partie 6'!$J$5:$J$28,MATCH($A14,'Partie 6'!$G$5:$G$28,0),1),0)) -> 0 | AG14: =SUM(_xlfn.IFNA(INDEX('Partie 7'!$C$5:$C$28,MATCH($A14,'Partie 7'!$B$5:$B$28,0),1),0) , _xlfn.IFNA(INDEX('Partie 7'!$B$5:$B$28,MATCH($A14,'Partie 7'!$C$5:$C$28,0),1),0),_xlfn.IFNA(INDEX('Partie 7'!$F$5:$F$28,MATCH($A14,'Partie 7'!$G$5:$G$28,0),1),0),_xlfn.IFNA(INDEX('Partie 7'!$G$5:$G$28,MATCH($A14,'Partie 7'!$F$5:$F$28,0),1),0)) -> 0 | AH14: =SUM(_xlfn.IFNA(INDEX('Partie 7'!$F$5:$F$28,MATCH($A14,'Partie 7'!$B$5:$B$28,0),1),0) ,_xlfn.IFNA(INDEX('Partie 7'!$F$5:$F$28,MATCH($A14,'Partie 7'!$C$5:$C$28,0),1),0) , _xlfn.IFNA(INDEX('Partie 7'!$B$5:$B$28,MATCH($A14,'Partie 7'!$F$5:$F$28,0),1),0),_xlfn.IFNA(INDEX('Partie 7'!$B$5:$B$28,MATCH($A14,'Partie 7'!$G$5:$G$28,0),1),0)) -> 0 | AI14: =SUM(_xlfn.IFNA(INDEX('Partie 7'!$G$5:$G$28,MATCH($A14,'Partie 7'!$B$5:$B$28,0),1),0) ,_xlfn.IFNA(INDEX('Partie 7'!$G$5:$G$28,MATCH($A14,'Partie 7'!$C$5:$C$28,0),1),0) , _xlfn.IFNA(INDEX('Partie 7'!$C$5:$C$28,MATCH($A14,'Partie 7'!$F$5:$F$28,0),1),0),_xlfn.IFNA(INDEX('Partie 7'!$C$5:$C$28,MATCH($A14,'Partie 7'!$G$5:$G$28,0),1),0)) -> 0 | AJ14: =SUM(_xlfn.IFNA(INDEX('Partie 7'!$J$5:$J$28,MATCH($A14,'Partie 7'!$B$5:$B$28,0),1),0) ,_xlfn.IFNA(INDEX('Partie 7'!$J$5:$J$28,MATCH($A14,'Partie 7'!$C$5:$C$28,0),1),0) , _xlfn.IFNA(INDEX('Partie 7'!$K$5:$K$28,MATCH($A14,'Partie 7'!$F$5:$F$28,0),1),0), _xlfn.IFNA(INDEX('Partie 7'!$K$5:$K$28,MATCH($A14,'Partie 7'!$G$5:$G$28,0),1),0)) -> 0 | AK14: =SUM(_xlfn.IFNA(INDEX('Partie 7'!$K$5:$K$28,MATCH($A14,'Partie 7'!$B$5:$B$28,0),1),0) ,_xlfn.IFNA(INDEX('Partie 7'!$K$5:$K$28,MATCH($A14,'Partie 7'!$C$5:$C$28,0),1),0) , _xlfn.IFNA(INDEX('Partie 7'!$J$5:$J$28,MATCH($A14,'Partie 7'!$F$5:$F$28,0),1),0), _xlfn.IFNA(INDEX('Partie 7'!$J$5:$J$28,MATCH($A14,'Partie 7'!$G$5:$G$28,0),1),0)) -> 0
... A50: 48 | C50: =SUM(_xlfn.IFNA(INDEX('Partie 1'!$C$5:$C$28,MATCH($A50,'Partie 1'!$B$5:$B$28,0),1),0) , _xlfn.IFNA(INDEX('Partie 1'!$B$5:$B$28,MATCH($A50,'Partie 1'!$C$5:$C$28,0),1),0),_xlfn.IFNA(INDEX('Partie 1'!$F$5:$F$28,MATCH($A50,'Partie 1'!$G$5:$G$28,0),1),0),_xlfn.IFNA(INDEX('Partie 1'!$G$5:$G$28,MATCH($A50,'Partie 1'!$F$5:$F$28,0),1),0)) -> 0 | D50: =SUM(_xlfn.IFNA(INDEX('Partie 1'!$F$5:$F$28,MATCH($A50,'Partie 1'!$B$5:$B$28,0),1),0) ,_xlfn.IFNA(INDEX('Partie 1'!$F$5:$F$28,MATCH($A50,'Partie 1'!$C$5:$C$28,0),1),0) , _xlfn.IFNA(INDEX('Partie 1'!$B$5:$B$28,MATCH($A50,'Partie 1'!$F$5:$F$28,0),1),0),_xlfn.IFNA(INDEX('Partie 1'!$B$5:$B$28,MATCH($A50,'Partie 1'!$G$5:$G$28,0),1),0)) -> 0 | E50: =SUM(_xlfn.IFNA(INDEX('Partie 1'!$G$5:$G$28,MATCH($A50,'Partie 1'!$B$5:$B$28,0),1),0) ,_xlfn.IFNA(INDEX('Partie 1'!$G$5:$G$28,MATCH($A50,'Partie 1'!$C$5:$C$28,0),1),0) , _xlfn.IFNA(INDEX('Partie 1'!$C$5:$C$28,MATCH($A50,'Partie 1'!$F$5:$F$28,0),1),0),_xlfn.IFNA(INDEX('Partie 1'!$C$5:$C$28,MATCH($A50,'Partie 1'!$G$5:$G$28,0),1),0)) -> 0 | F50: =SUM(_xlfn.IFNA(INDEX('Partie 1'!$J$5:$J$28,MATCH($A50,'Partie 1'!$B$5:$B$28,0),1),0) ,_xlfn.IFNA(INDEX('Partie 1'!$J$5:$J$28,MATCH($A50,'Partie 1'!$C$5:$C$28,0),1),0) , _xlfn.IFNA(INDEX('Partie 1'!$K$5:$K$28,MATCH($A50,'Partie 1'!$F$5:$F$28,0),1),0), _xlfn.IFNA(INDEX('Partie 1'!$K$5:$K$28,MATCH($A50,'Partie 1'!$G$5:$G$28,0),1),0)) -> 0 | G50: =SUM(_xlfn.IFNA(INDEX('Partie 1'!$K$5:$K$28,MATCH($A50,'Partie 1'!$B$5:$B$28,0),1),0) ,_xlfn.IFNA(INDEX('Partie 1'!$K$5:$K$28,MATCH($A50,'Partie 1'!$C$5:$C$28,0),1),0) , _xlfn.IFNA(INDEX('Partie 1'!$J$5:$J$28,MATCH($A50,'Partie 1'!$F$5:$F$28,0),1),0), _xlfn.IFNA(INDEX('Partie 1'!$J$5:$J$28,MATCH($A50,'Partie 1'!$G$5:$G$28,0),1),0)) -> 0 | H50: =SUM(_xlfn.IFNA(INDEX('Partie 2'!$C$5:$C$28,MATCH($A50,'Partie 2'!$B$5:$B$28,0),1),0) , _xlfn.IFNA(INDEX('Partie 2'!$B$5:$B$28,MATCH($A50,'Partie 2'!$C$5:$C$28,0),1),0),_xlfn.IFNA(INDEX('Partie 2'!$F$5:$F$28,MATCH($A50,'Partie 2'!$G$5:$G$28,0),1),0),_xlfn.IFNA(INDEX('Partie 2'!$G$5:$G$28,MATCH($A50,'Partie 2'!$F$5:$F$28,0),1),0)) -> 0 | I50: =SUM(_xlfn.IFNA(INDEX('Partie 2'!$F$5:$F$28,MATCH($A50,'Partie 2'!$B$5:$B$28,0),1),0) ,_xlfn.IFNA(INDEX('Partie 2'!$F$5:$F$28,MATCH($A50,'Partie 2'!$C$5:$C$28,0),1),0) , _xlfn.IFNA(INDEX('Partie 2'!$B$5:$B$28,MATCH($A50,'Partie 2'!$F$5:$F$28,0),1),0),_xlfn.IFNA(INDEX('Partie 2'!$B$5:$B$28,MATCH($A50,'Partie 2'!$G$5:$G$28,0),1),0)) -> 0 | J50: =SUM(_xlfn.IFNA(INDEX('Partie 2'!$G$5:$G$28,MATCH($A50,'Partie 2'!$B$5:$B$28,0),1),0) ,_xlfn.IFNA(INDEX('Partie 2'!$G$5:$G$28,MATCH($A50,'Partie 2'!$C$5:$C$28,0),1),0) , _xlfn.IFNA(INDEX('Partie 2'!$C$5:$C$28,MATCH($A50,'Partie 2'!$F$5:$F$28,0),1),0),_xlfn.IFNA(INDEX('Partie 2'!$C$5:$C$28,MATCH($A50,'Partie 2'!$G$5:$G$28,0),1),0)) -> 0 | K50: =SUM(_xlfn.IFNA(INDEX('Partie 2'!$J$5:$J$28,MATCH($A50,'Partie 2'!$B$5:$B$28,0),1),0) ,_xlfn.IFNA(INDEX('Partie 2'!$J$5:$J$28,MATCH($A50,'Partie 2'!$C$5:$C$28,0),1),0) , _xlfn.IFNA(INDEX('Partie 2'!$K$5:$K$28,MATCH($A50,'Partie 2'!$F$5:$F$28,0),1),0), _xlfn.IFNA(INDEX('Partie 2'!$K$5:$K$28,MATCH($A50,'Partie 2'!$G$5:$G$28,0),1),0)) -> 0 | L50: =SUM(_xlfn.IFNA(INDEX('Partie 2'!$K$5:$K$28,MATCH($A50,'Partie 2'!$B$5:$B$28,0),1),0) ,_xlfn.IFNA(INDEX('Partie 2'!$K$5:$K$28,MATCH($A50,'Partie 2'!$C$5:$C$28,0),1),0) , _xlfn.IFNA(INDEX('Partie 2'!$J$5:$J$28,MATCH($A50,'Partie 2'!$F$5:$F$28,0),1),0), _xlfn.IFNA(INDEX('Partie 2'!$J$5:$J$28,MATCH($A50,'Partie 2'!$G$5:$G$28,0),1),0)) -> 0 | M50: =SUM(_xlfn.IFNA(INDEX('Partie 3'!$C$5:$C$28,MATCH($A50,'Partie 3'!$B$5:$B$28,0),1),0) , _xlfn.IFNA(INDEX('Partie 3'!$B$5:$B$28,MATCH($A50,'Partie 3'!$C$5:$C$28,0),1),0),_xlfn.IFNA(INDEX('Partie 3'!$F$5:$F$28,MATCH($A50,'Partie 3'!$G$5:$G$28,0),1),0),_xlfn.IFNA(INDEX('Partie 3'!$G$5:$G$28,MATCH($A50,'Partie 3'!$F$5:$F$28,0),1),0)) -> 0 | N50: =SUM(_xlfn.IFNA(INDEX('Partie 3'!$F$5:$F$28,MATCH($A50,'Partie 3'!$B$5:$B$28,0),1),0) ,_xlfn.IFNA(INDEX('Partie 3'!$F$5:$F$28,MATCH($A50,'Partie 3'!$C$5:$C$28,0),1),0) , _xlfn.IFNA(INDEX('Partie 3'!$B$5:$B$28,MATCH($A50,'Partie 3'!$F$5:$F$28,0),1),0),_xlfn.IFNA(INDEX('Partie 3'!$B$5:$B$28,MATCH($A50,'Partie 3'!$G$5:$G$28,0),1),0)) -> 0 | O50: =SUM(_xlfn.IFNA(INDEX('Partie 3'!$G$5:$G$28,MATCH($A50,'Partie 3'!$B$5:$B$28,0),1),0) ,_xlfn.IFNA(INDEX('Partie 3'!$G$5:$G$28,MATCH($A50,'Partie 3'!$C$5:$C$28,0),1),0) , _xlfn.IFNA(INDEX('Partie 3'!$C$5:$C$28,MATCH($A50,'Partie 3'!$F$5:$F$28,0),1),0),_xlfn.IFNA(INDEX('Partie 3'!$C$5:$C$28,MATCH($A50,'Partie 3'!$G$5:$G$28,0),1),0)) -> 0 | P50: =SUM(_xlfn.IFNA(INDEX('Partie 3'!$J$5:$J$28,MATCH($A50,'Partie 3'!$B$5:$B$28,0),1),0) ,_xlfn.IFNA(INDEX('Partie 3'!$J$5:$J$28,MATCH($A50,'Partie 3'!$C$5:$C$28,0),1),0) , _xlfn.IFNA(INDEX('Partie 3'!$K$5:$K$28,MATCH($A50,'Partie 3'!$F$5:$F$28,0),1),0), _xlfn.IFNA(INDEX('Partie 3'!$K$5:$K$28,MATCH($A50,'Partie 3'!$G$5:$G$28,0),1),0)) -> 0 | Q50: =SUM(_xlfn.IFNA(INDEX('Partie 3'!$K$5:$K$28,MATCH($A50,'Partie 3'!$B$5:$B$28,0),1),0) ,_xlfn.IFNA(INDEX('Partie 3'!$K$5:$K$28,MATCH($A50,'Partie 3'!$C$5:$C$28,0),1),0) , _xlfn.IFNA(INDEX('Partie 3'!$J$5:$J$28,MATCH($A50,'Partie 3'!$F$5:$F$28,0),1),0), _xlfn.IFNA(INDEX('Partie 3'!$J$5:$J$28,MATCH($A50,'Partie 3'!$G$5:$G$28,0),1),0)) -> 0 | R50: =SUM(_xlfn.IFNA(INDEX('Partie 4'!$C$5:$C$28,MATCH($A50,'Partie 4'!$B$5:$B$28,0),1),0) , _xlfn.IFNA(INDEX('Partie 4'!$B$5:$B$28,MATCH($A50,'Partie 4'!$C$5:$C$28,0),1),0),_xlfn.IFNA(INDEX('Partie 4'!$F$5:$F$28,MATCH($A50,'Partie 4'!$G$5:$G$28,0),1),0),_xlfn.IFNA(INDEX('Partie 4'!$G$5:$G$28,MATCH($A50,'Partie 4'!$F$5:$F$28,0),1),0)) -> 0 | S50: =SUM(_xlfn.IFNA(INDEX('Partie 4'!$F$5:$F$28,MATCH($A50,'Partie 4'!$B$5:$B$28,0),1),0) ,_xlfn.IFNA(INDEX('Partie 4'!$F$5:$F$28,MATCH($A50,'Partie 4'!$C$5:$C$28,0),1),0) , _xlfn.IFNA(INDEX('Partie 4'!$B$5:$B$28,MATCH($A50,'Partie 4'!$F$5:$F$28,0),1),0),_xlfn.IFNA(INDEX('Partie 4'!$B$5:$B$28,MATCH($A50,'Partie 4'!$G$5:$G$28,0),1),0)) -> 0 | T50: =SUM(_xlfn.IFNA(INDEX('Partie 4'!$G$5:$G$28,MATCH($A50,'Partie 4'!$B$5:$B$28,0),1),0) ,_xlfn.IFNA(INDEX('Partie 4'!$G$5:$G$28,MATCH($A50,'Partie 4'!$C$5:$C$28,0),1),0) , _xlfn.IFNA(INDEX('Partie 4'!$C$5:$C$28,MATCH($A50,'Partie 4'!$F$5:$F$28,0),1),0),_xlfn.IFNA(INDEX('Partie 4'!$C$5:$C$28,MATCH($A50,'Partie 4'!$G$5:$G$28,0),1),0)) -> 0 | U50: =SUM(_xlfn.IFNA(INDEX('Partie 4'!$J$5:$J$28,MATCH($A50,'Partie 4'!$B$5:$B$28,0),1),0) ,_xlfn.IFNA(INDEX('Partie 4'!$J$5:$J$28,MATCH($A50,'Partie 4'!$C$5:$C$28,0),1),0) , _xlfn.IFNA(INDEX('Partie 4'!$K$5:$K$28,MATCH($A50,'Partie 4'!$F$5:$F$28,0),1),0), _xlfn.IFNA(INDEX('Partie 4'!$K$5:$K$28,MATCH($A50,'Partie 4'!$G$5:$G$28,0),1),0)) -> 0 | V50: =SUM(_xlfn.IFNA(INDEX('Partie 4'!$K$5:$K$28,MATCH($A50,'Partie 4'!$B$5:$B$28,0),1),0) ,_xlfn.IFNA(INDEX('Partie 4'!$K$5:$K$28,MATCH($A50,'Partie 4'!$C$5:$C$28,0),1),0) , _xlfn.IFNA(INDEX('Partie 4'!$J$5:$J$28,MATCH($A50,'Partie 4'!$F$5:$F$28,0),1),0), _xlfn.IFNA(INDEX('Partie 4'!$J$5:$J$28,MATCH($A50,'Partie 4'!$G$5:$G$28,0),1),0)) -> 0 | W50: =SUM(_xlfn.IFNA(INDEX('Partie 5'!$C$5:$C$28,MATCH($A50,'Partie 5'!$B$5:$B$28,0),1),0) , _xlfn.IFNA(INDEX('Partie 5'!$B$5:$B$28,MATCH($A50,'Partie 5'!$C$5:$C$28,0),1),0),_xlfn.IFNA(INDEX('Partie 5'!$F$5:$F$28,MATCH($A50,'Partie 5'!$G$5:$G$28,0),1),0),_xlfn.IFNA(INDEX('Partie 5'!$G$5:$G$28,MATCH($A50,'Partie 5'!$F$5:$F$28,0),1),0)) -> 0 | X50: =SUM(_xlfn.IFNA(INDEX('Partie 5'!$F$5:$F$28,MATCH($A50,'Partie 5'!$B$5:$B$28,0),1),0) ,_xlfn.IFNA(INDEX('Partie 5'!$F$5:$F$28,MATCH($A50,'Partie 5'!$C$5:$C$28,0),1),0) , _xlfn.IFNA(INDEX('Partie 5'!$B$5:$B$28,MATCH($A50,'Partie 5'!$F$5:$F$28,0),1),0),_xlfn.IFNA(INDEX('Partie 5'!$B$5:$B$28,MATCH($A50,'Partie 5'!$G$5:$G$28,0),1),0)) -> 0 | Y50: =SUM(_xlfn.IFNA(INDEX('Partie 5'!$G$5:$G$28,MATCH($A50,'Partie 5'!$B$5:$B$28,0),1),0) ,_xlfn.IFNA(INDEX('Partie 5'!$G$5:$G$28,MATCH($A50,'Partie 5'!$C$5:$C$28,0),1),0) , _xlfn.IFNA(INDEX('Partie 5'!$C$5:$C$28,MATCH($A50,'Partie 5'!$F$5:$F$28,0),1),0),_xlfn.IFNA(INDEX('Partie 5'!$C$5:$C$28,MATCH($A50,'Partie 5'!$G$5:$G$28,0),1),0)) -> 0 | Z50: =SUM(_xlfn.IFNA(INDEX('Partie 5'!$J$5:$J$28,MATCH($A50,'Partie 5'!$B$5:$B$28,0),1),0) ,_xlfn.IFNA(INDEX('Partie 5'!$J$5:$J$28,MATCH($A50,'Partie 5'!$C$5:$C$28,0),1),0) , _xlfn.IFNA(INDEX('Partie 5'!$K$5:$K$28,MATCH($A50,'Partie 5'!$F$5:$F$28,0),1),0), _xlfn.IFNA(INDEX('Partie 5'!$K$5:$K$28,MATCH($A50,'Partie 5'!$G$5:$G$28,0),1),0)) -> 0 | AA50: =SUM(_xlfn.IFNA(INDEX('Partie 5'!$K$5:$K$28,MATCH($A50,'Partie 5'!$B$5:$B$28,0),1),0) ,_xlfn.IFNA(INDEX('Partie 5'!$K$5:$K$28,MATCH($A50,'Partie 5'!$C$5:$C$28,0),1),0) , _xlfn.IFNA(INDEX('Partie 5'!$J$5:$J$28,MATCH($A50,'Partie 5'!$F$5:$F$28,0),1),0), _xlfn.IFNA(INDEX('Partie 5'!$J$5:$J$28,MATCH($A50,'Partie 5'!$G$5:$G$28,0),1),0)) -> 0 | AB50: =SUM(_xlfn.IFNA(INDEX('Partie 6'!$C$5:$C$28,MATCH($A50,'Partie 6'!$B$5:$B$28,0),1),0) , _xlfn.IFNA(INDEX('Partie 6'!$B$5:$B$28,MATCH($A50,'Partie 6'!$C$5:$C$28,0),1),0),_xlfn.IFNA(INDEX('Partie 6'!$F$5:$F$28,MATCH($A50,'Partie 6'!$G$5:$G$28,0),1),0),_xlfn.IFNA(INDEX('Partie 6'!$G$5:$G$28,MATCH($A50,'Partie 6'!$F$5:$F$28,0),1),0)) -> 0 | AC50: =SUM(_xlfn.IFNA(INDEX('Partie 6'!$F$5:$F$28,MATCH($A50,'Partie 6'!$B$5:$B$28,0),1),0) ,_xlfn.IFNA(INDEX('Partie 6'!$F$5:$F$28,MATCH($A50,'Partie 6'!$C$5:$C$28,0),1),0) , _xlfn.IFNA(INDEX('Partie 6'!$B$5:$B$28,MATCH($A50,'Partie 6'!$F$5:$F$28,0),1),0),_xlfn.IFNA(INDEX('Partie 6'!$B$5:$B$28,MATCH($A50,'Partie 6'!$G$5:$G$28,0),1),0)) -> 0 | AD50: =SUM(_xlfn.IFNA(INDEX('Partie 6'!$G$5:$G$28,MATCH($A50,'Partie 6'!$B$5:$B$28,0),1),0) ,_xlfn.IFNA(INDEX('Partie 6'!$G$5:$G$28,MATCH($A50,'Partie 6'!$C$5:$C$28,0),1),0) , _xlfn.IFNA(INDEX('Partie 6'!$C$5:$C$28,MATCH($A50,'Partie 6'!$F$5:$F$28,0),1),0),_xlfn.IFNA(INDEX('Partie 6'!$C$5:$C$28,MATCH($A50,'Partie 6'!$G$5:$G$28,0),1),0)) -> 0 | AE50: =SUM(_xlfn.IFNA(INDEX('Partie 6'!$J$5:$J$28,MATCH($A50,'Partie 6'!$B$5:$B$28,0),1),0) ,_xlfn.IFNA(INDEX('Partie 6'!$J$5:$J$28,MATCH($A50,'Partie 6'!$C$5:$C$28,0),1),0) , _xlfn.IFNA(INDEX('Partie 6'!$K$5:$K$28,MATCH($A50,'Partie 6'!$F$5:$F$28,0),1),0), _xlfn.IFNA(INDEX('Partie 6'!$K$5:$K$28,MATCH($A50,'Partie 6'!$G$5:$G$28,0),1),0)) -> 0 | AF50: =SUM(_xlfn.IFNA(INDEX('Partie 6'!$K$5:$K$28,MATCH($A50,'Partie 6'!$B$5:$B$28,0),1),0) ,_xlfn.IFNA(INDEX('Partie 6'!$K$5:$K$28,MATCH($A50,'Partie 6'!$C$5:$C$28,0),1),0) , _xlfn.IFNA(INDEX('Partie 6'!$J$5:$J$28,MATCH($A50,'Partie 6'!$F$5:$F$28,0),1),0), _xlfn.IFNA(INDEX('Partie 6'!$J$5:$J$28,MATCH($A50,'Partie 6'!$G$5:$G$28,0),1),0)) -> 0 | AG50: =SUM(_xlfn.IFNA(INDEX('Partie 7'!$C$5:$C$28,MATCH($A50,'Partie 7'!$B$5:$B$28,0),1),0) , _xlfn.IFNA(INDEX('Partie 7'!$B$5:$B$28,MATCH($A50,'Partie 7'!$C$5:$C$28,0),1),0),_xlfn.IFNA(INDEX('Partie 7'!$F$5:$F$28,MATCH($A50,'Partie 7'!$G$5:$G$28,0),1),0),_xlfn.IFNA(INDEX('Partie 7'!$G$5:$G$28,MATCH($A50,'Partie 7'!$F$5:$F$28,0),1),0)) -> 0 | AH50: =SUM(_xlfn.IFNA(INDEX('Partie 7'!$F$5:$F$28,MATCH($A50,'Partie 7'!$B$5:$B$28,0),1),0) ,_xlfn.IFNA(INDEX('Partie 7'!$F$5:$F$28,MATCH($A50,'Partie 7'!$C$5:$C$28,0),1),0) , _xlfn.IFNA(INDEX('Partie 7'!$B$5:$B$28,MATCH($A50,'Partie 7'!$F$5:$F$28,0),1),0),_xlfn.IFNA(INDEX('Partie 7'!$B$5:$B$28,MATCH($A50,'Partie 7'!$G$5:$G$28,0),1),0)) -> 0 | AI50: =SUM(_xlfn.IFNA(INDEX('Partie 7'!$G$5:$G$28,MATCH($A50,'Partie 7'!$B$5:$B$28,0),1),0) ,_xlfn.IFNA(INDEX('Partie 7'!$G$5:$G$28,MATCH($A50,'Partie 7'!$C$5:$C$28,0),1),0) , _xlfn.IFNA(INDEX('Partie 7'!$C$5:$C$28,MATCH($A50,'Partie 7'!$F$5:$F$28,0),1),0),_xlfn.IFNA(INDEX('Partie 7'!$C$5:$C$28,MATCH($A50,'Partie 7'!$G$5:$G$28,0),1),0)) -> 0 | AJ50: =SUM(_xlfn.IFNA(INDEX('Partie 7'!$J$5:$J$28,MATCH($A50,'Partie 7'!$B$5:$B$28,0),1),0) ,_xlfn.IFNA(INDEX('Partie 7'!$J$5:$J$28,MATCH($A50,'Partie 7'!$C$5:$C$28,0),1),0) , _xlfn.IFNA(INDEX('Partie 7'!$K$5:$K$28,MATCH($A50,'Partie 7'!$F$5:$F$28,0),1),0), _xlfn.IFNA(INDEX('Partie 7'!$K$5:$K$28,MATCH($A50,'Partie 7'!$G$5:$G$28,0),1),0)) -> 0 | AK50: =SUM(_xlfn.IFNA(INDEX('Partie 7'!$K$5:$K$28,MATCH($A50,'Partie 7'!$B$5:$B$28,0),1),0) ,_xlfn.IFNA(INDEX('Partie 7'!$K$5:$K$28,MATCH($A50,'Partie 7'!$C$5:$C$28,0),1),0) , _xlfn.IFNA(INDEX('Partie 7'!$J$5:$J$28,MATCH($A50,'Partie 7'!$F$5:$F$28,0),1),0), _xlfn.IFNA(INDEX('Partie 7'!$J$5:$J$28,MATCH($A50,'Partie 7'!$G$5:$G$28,0),1),0)) -> 0

Sheet Stats
A1: =Équipe!A1 -> Équipe | C1: Victoire | D1: Défaite | E1: Points marqués | F1: Points encaissés | G1: Différence | H1: Total Points | I1: Position
A2: =Équipe!A2 -> N° | B2: =Équipe!B2 -> Nom | K2: Nombre Partie | L2: 7
A3: =Équipe!A3 -> 1 | B3: =Équipe!B3 -> 0 | C3: =SUM(IF(Équipe!F3=13,1,0),IF(Équipe!K3=13,1,0),IF(Équipe!P3=13,1,0),IF(Équipe!U3=13,1,0),IF(Équipe!Z3=13,1,0),IF(Équipe!AE3=13,1,0),IF(Équipe!AJ3=13,1,0)) -> 0 | D3: =$L$2-C3 -> 7 | E3: =SUM(Équipe!F3,Équipe!K3,Équipe!P3,Équipe!U3,Équipe!Z3,Équipe!AE3,Équipe!AJ3) -> 0 | F3: =SUM(Équipe!G3,Équipe!L3,Équipe!Q3,Équipe!V3,Équipe!AA3,Équipe!AF3,Équipe!AK3) -> 0 | G3: =E3-F3 -> 0 | H3: =IF(B3<>"",100*C3+G3,-1000) -> -1000 | I3: =RANK(H3,$H$3:$H$50,0) -> 1
A4: =Équipe!A4 -> 2 | B4: =Équipe!B4 -> 0 | C4: =SUM(IF(Équipe!F4=13,1,0),IF(Équipe!K4=13,1,0),IF(Équipe!P4=13,1,0),IF(Équipe!U4=13,1,0),IF(Équipe!Z4=13,1,0),IF(Équipe!AE4=13,1,0),IF(Équipe!AJ4=13,1,0)) -> 0 | D4: =$L$2-C4 -> 7 | E4: =SUM(Équipe!F4,Équipe!K4,Équipe!P4,Équipe!U4,Équipe!Z4,Équipe!AE4,Équipe!AJ4) -> 0 | F4: =SUM(Équipe!G4,Équipe!L4,Équipe!Q4,Équipe!V4,Équipe!AA4,Équipe!AF4,Équipe!AK4) -> 0 | G4: =E4-F4 -> 0 | H4: =IF(B4<>"",100*C4+G4,-1000) -> -1000 | I4: =RANK(H4,$H$3:$H$50,0) -> 1
A5: =Équipe!A5 -> 3 | B5: =Équipe!B5 -> 0 | C5: =SUM(IF(Équipe!F5=13,1,0),IF(Équipe!K5=13,1,0),IF(Équipe!P5=13,1,0),IF(Équipe!U5=13,1,0),IF(Équipe!Z5=13,1,0),IF(Équipe!AE5=13,1,0),IF(Équipe!AJ5=13,1,0)) -> 0 | D5: =$L$2-C5 -> 7 | E5: =SUM(Équipe!F5,Équipe!K5,Équipe!P5,Équipe!U5,Équipe!Z5,Équipe!AE5,Équipe!AJ5) -> 0 | F5: =SUM(Équipe!G5,Équipe!L5,Équipe!Q5,Équipe!V5,Équipe!AA5,Équipe!AF5,Équipe!AK5) -> 0 | G5: =E5-F5 -> 0 | H5: =IF(B5<>"",100*C5+G5,-1000) -> -1000 | I5: =RANK(H5,$H$3:$H$50,0) -> 1
A6: =Équipe!A6 -> 4 | B6: =Équipe!B6 -> 0 | C6: =SUM(IF(Équipe!F6=13,1,0),IF(Équipe!K6=13,1,0),IF(Équipe!P6=13,1,0),IF(Équipe!U6=13,1,0),IF(Équipe!Z6=13,1,0),IF(Équipe!AE6=13,1,0),IF(Équipe!AJ6=13,1,0)) -> 0 | D6: =$L$2-C6 -> 7 | E6: =SUM(Équipe!F6,Équipe!K6,Équipe!P6,Équipe!U6,Équipe!Z6,Équipe!AE6,Équipe!AJ6) -> 0 | F6: =SUM(Équipe!G6,Équipe!L6,Équipe!Q6,Équipe!V6,Équipe!AA6,Équipe!AF6,Équipe!AK6) -> 0 | G6: =E6-F6 -> 0 | H6: =IF(B6<>"",100*C6+G6,-1000) -> -1000 | I6: =RANK(H6,$H$3:$H$50,0) -> 1
A7: =Équipe!A7 -> 5 | B7: =Équipe!B7 -> 0 | C7: =SUM(IF(Équipe!F7=13,1,0),IF(Équipe!K7=13,1,0),IF(Équipe!P7=13,1,0),IF(Équipe!U7=13,1,0),IF(Équipe!Z7=13,1,0),IF(Équipe!AE7=13,1,0),IF(Équipe!AJ7=13,1,0)) -> 0 | D7: =$L$2-C7 -> 7 | E7: =SUM(Équipe!F7,Équipe!K7,Équipe!P7,Équipe!U7,Équipe!Z7,Équipe!AE7,Équipe!AJ7) -> 0 | F7: =SUM(Équipe!G7,Équipe!L7,Équipe!Q7,Équipe!V7,Équipe!AA7,Équipe!AF7,Équipe!AK7) -> 0 | G7: =E7-F7 -> 0 | H7: =IF(B7<>"",100*C7+G7,-1000) -> -1000 | I7: =RANK(H7,$H$3:$H$50,0) -> 1
A8: =Équipe!A8 -> 6 | B8: =Équipe!B8 -> 0 | C8: =SUM(IF(Équipe!F8=13,1,0),IF(Équipe!K8=13,1,0),IF(Équipe!P8=13,1,0),IF(Équipe!U8=13,1,0),IF(Équipe!Z8=13,1,0),IF(Équipe!AE8=13,1,0),IF(Équipe!AJ8=13,1,0)) -> 0 | D8: =$L$2-C8 -> 7 | E8: =SUM(Équipe!F8,Équipe!K8,Équipe!P8,Équipe!U8,Équipe!Z8,Équipe!AE8,Équipe!AJ8) -> 0 | F8: =SUM(Équipe!G8,Équipe!L8,Équipe!Q8,Équipe!V8,Équipe!AA8,Équipe!AF8,Équipe!AK8) -> 0 | G8: =E8-F8 -> 0 | H8: =IF(B8<>"",100*C8+G8,-1000) -> -1000 | I8: =RANK(H8,$H$3:$H$50,0) -> 1
A9: =Équipe!A9 -> 7 | B9: =Équipe!B9 -> 0 | C9: =SUM(IF(Équipe!F9=13,1,0),IF(Équipe!K9=13,1,0),IF(Équipe!P9=13,1,0),IF(Équipe!U9=13,1,0),IF(Équipe!Z9=13,1,0),IF(Équipe!AE9=13,1,0),IF(Équipe!AJ9=13,1,0)) -> 0 | D9: =$L$2-C9 -> 7 | E9: =SUM(Équipe!F9,Équipe!K9,Équipe!P9,Équipe!U9,Équipe!Z9,Équipe!AE9,Équipe!AJ9) -> 0 | F9: =SUM(Équipe!G9,Équipe!L9,Équipe!Q9,Équipe!V9,Équipe!AA9,Équipe!AF9,Équipe!AK9) -> 0 | G9: =E9-F9 -> 0 | H9: =IF(B9<>"",100*C9+G9,-1000) -> -1000 | I9: =RANK(H9,$H$3:$H$50,0) -> 1
A10: =Équipe!A10 -> 8 | B10: =Équipe!B10 -> 0 | C10: =SUM(IF(Équipe!F10=13,1,0),IF(Équipe!K10=13,1,0),IF(Équipe!P10=13,1,0),IF(Équipe!U10=13,1,0),IF(Équipe!Z10=13,1,0),IF(Équipe!AE10=13,1,0),IF(Équipe!AJ10=13,1,0)) -> 0 | D10: =$L$2-C10 -> 7 | E10: =SUM(Équipe!F10,Équipe!K10,Équipe!P10,Équipe!U10,Équipe!Z10,Équipe!AE10,Équipe!AJ10) -> 0 | F10: =SUM(Équipe!G10,Équipe!L10,Équipe!Q10,Équipe!V10,Équipe!AA10,Équipe!AF10,Équipe!AK10) -> 0 | G10: =E10-F10 -> 0 | H10: =IF(B10<>"",100*C10+G10,-1000) -> -1000 | I10: =RANK(H10,$H$3:$H$50,0) -> 1
A11: =Équipe!A11 -> 9 | B11: =Équipe!B11 -> 0 | C11: =SUM(IF(Équipe!F11=13,1,0),IF(Équipe!K11=13,1,0),IF(Équipe!P11=13,1,0),IF(Équipe!U11=13,1,0),IF(Équipe!Z11=13,1,0),IF(Équipe!AE11=13,1,0),IF(Équipe!AJ11=13,1,0)) -> 0 | D11: =$L$2-C11 -> 7 | E11: =SUM(Équipe!F11,Équipe!K11,Équipe!P11,Équipe!U11,Équipe!Z11,Équipe!AE11,Équipe!AJ11) -> 0 | F11: =SUM(Équipe!G11,Équipe!L11,Équipe!Q11,Équipe!V11,Équipe!AA11,Équipe!AF11,Équipe!AK11) -> 0 | G11: =E11-F11 -> 0 | H11: =IF(B11<>"",100*C11+G11,-1000) -> -1000 | I11: =RANK(H11,$H$3:$H$50,0) -> 1
A12: =Équipe!A12 -> 10 | B12: =Équipe!B12 -> 0 | C12: =SUM(IF(Équipe!F12=13,1,0),IF(Équipe!K12=13,1,0),IF(Équipe!P12=13,1,0),IF(Équipe!U12=13,1,0),IF(Équipe!Z12=13,1,0),IF(Équipe!AE12=13,1,0),IF(Équipe!AJ12=13,1,0)) -> 0 | D12: =$L$2-C12 -> 7 | E12: =SUM(Équipe!F12,Équipe!K12,Équipe!P12,Équipe!U12,Équipe!Z12,Équipe!AE12,Équipe!AJ12) -> 0 | F12: =SUM(Équipe!G12,Équipe!L12,Équipe!Q12,Équipe!V12,Équipe!AA12,Équipe!AF12,Équipe!AK12) -> 0 | G12: =E12-F12 -> 0 | H12: =IF(B12<>"",100*C12+G12,-1000) -> -1000 | I12: =RANK(H12,$H$3:$H$50,0) -> 1
A13: =Équipe!A13 -> 11 | B13: =Équipe!B13 -> 0 | C13: =SUM(IF(Équipe!F13=13,1,0),IF(Équipe!K13=13,1,0),IF(Équipe!P13=13,1,0),IF(Équipe!U13=13,1,0),IF(Équipe!Z13=13,1,0),IF(Équipe!AE13=13,1,0),IF(Équipe!AJ13=13,1,0)) -> 0 | D13: =$L$2-C13 -> 7 | E13: =SUM(Équipe!F13,Équipe!K13,Équipe!P13,Équipe!U13,Équipe!Z13,Équipe!AE13,Équipe!AJ13) -> 0 | F13: =SUM(Équipe!G13,Équipe!L13,Équipe!Q13,Équipe!V13,Équipe!AA13,Équipe!AF13,Équipe!AK13) -> 0 | G13: =E13-F13 -> 0 | H13: =IF(B13<>"",100*C13+G13,-1000) -> -1000 | I13: =RANK(H13,$H$3:$H$50,0) -> 1
A14: =Équipe!A14 -> 12 | B14: =Équipe!B14 -> 0 | C14: =SUM(IF(Équipe!F14=13,1,0),IF(Équipe!K14=13,1,0),IF(Équipe!P14=13,1,0),IF(Équipe!U14=13,1,0),IF(Équipe!Z14=13,1,0),IF(Équipe!AE14=13,1,0),IF(Équipe!AJ14=13,1,0)) -> 0 | D14: =$L$2-C14 -> 7 | E14: =SUM(Équipe!F14,Équipe!K14,Équipe!P14,Équipe!U14,Équipe!Z14,Équipe!AE14,Équipe!AJ14) -> 0 | F14: =SUM(Équipe!G14,Équipe!L14,Équipe!Q14,Équipe!V14,Équipe!AA14,Équipe!AF14,Équipe!AK14) -> 0 | G14: =E14-F14 -> 0 | H14: =IF(B14<>"",100*C14+G14,-1000) -> -1000 | I14: =RANK(H14,$H$3:$H$50,0) -> 1
... A50: =Équipe!A50 -> 48 | B50: =Équipe!B50 -> 0 | C50: =SUM(IF(Équipe!F50=13,1,0),IF(Équipe!K50=13,1,0),IF(Équipe!P50=13,1,0),IF(Équipe!U50=13,1,0),IF(Équipe!Z50=13,1,0),IF(Équipe!AE50=13,1,0),IF(Équipe!AJ50=13,1,0)) -> 0 | D50: =$L$2-C50 -> 7 | E50: =SUM(Équipe!F50,Équipe!K50,Équipe!P50,Équipe!U50,Équipe!Z50,Équipe!AE50,Équipe!AJ50) -> 0 | F50: =SUM(Équipe!G50,Équipe!L50,Équipe!Q50,Équipe!V50,Équipe!AA50,Équipe!AF50,Équipe!AK50) -> 0 | G50: =E50-F50 -> 0 | H50: =IF(B50<>"",100*C50+G50,-1000) -> -1000 | I50: =RANK(H50,$H$3:$H$50,0) -> 1

Sheet Classement
A1: Place | B1: Équipe | D1: Classement Corrigé
B2: N° | C2: Nom | D2: N° | E2: Nom
A3: 1 | B3: =_xlfn.IFNA(INDEX(Stats!$A$3:$A$50,MATCH(A3,Stats!$I$3:$I$50,0),1),0) -> 1 | C3: =_xlfn.IFNA(INDEX(Stats!$B$3:$B$52,MATCH(A3,Stats!$I$3:$I$52,0),1),0) -> 0 | D3: =B3 -> 1 | E3: =C3 -> 0
A4: 2 | B4: =_xlfn.IFNA(INDEX(Stats!$A$3:$A$50,MATCH(A4,Stats!$I$3:$I$50,0),1),0) -> 0 | C4: =_xlfn.IFNA(INDEX(Stats!$B$3:$B$52,MATCH(A4,Stats!$I$3:$I$52,0),1),0) -> 0 | D4: =B4 -> 0 | E4: =C4 -> 0
A5: 3 | B5: =_xlfn.IFNA(INDEX(Stats!$A$3:$A$50,MATCH(A5,Stats!$I$3:$I$50,0),1),0) -> 0 | C5: =_xlfn.IFNA(INDEX(Stats!$B$3:$B$52,MATCH(A5,Stats!$I$3:$I$52,0),1),0) -> 0 | D5: =B5 -> 0 | E5: =C5 -> 0
A6: 4 | B6: =_xlfn.IFNA(INDEX(Stats!$A$3:$A$50,MATCH(A6,Stats!$I$3:$I$50,0),1),0) -> 0 | C6: =_xlfn.IFNA(INDEX(Stats!$B$3:$B$52,MATCH(A6,Stats!$I$3:$I$52,0),1),0) -> 0 | D6: =B6 -> 0 | E6: =C6 -> 0
A7: 5 | B7: =_xlfn.IFNA(INDEX(Stats!$A$3:$A$50,MATCH(A7,Stats!$I$3:$I$50,0),1),0) -> 0 | C7: =_xlfn.IFNA(INDEX(Stats!$B$3:$B$52,MATCH(A7,Stats!$I$3:$I$52,0),1),0) -> 0 | D7: =B7 -> 0 | E7: =C7 -> 0 | G7: SI cellule Vide alors il y a une égalité avec le rang supérieur, une correction manuelle est nécessaire
A8: 6 | B8: =_xlfn.IFNA(INDEX(Stats!$A$3:$A$50,MATCH(A8,Stats!$I$3:$I$50,0),1),0) -> 0 | C8: =_xlfn.IFNA(INDEX(Stats!$B$3:$B$52,MATCH(A8,Stats!$I$3:$I$52,0),1),0) -> 0 | D8: =B8 -> 0 | E8: =C8 -> 0 | G8: L’équipe qui a marqué le plus de points passe devant
A9: 7 | B9: =_xlfn.IFNA(INDEX(Stats!$A$3:$A$50,MATCH(A9,Stats!$I$3:$I$50,0),1),0) -> 0 | C9: =_xlfn.IFNA(INDEX(Stats!$B$3:$B$52,MATCH(A9,Stats!$I$3:$I$52,0),1),0) -> 0 | D9: =B9 -> 0 | E9: =C9 -> 0 | G9: Si même nombre de point, les 2 équipes sont à égalités au rang supérieur et il n’y a personne à ce rang
A10: 8 | B10: =_xlfn.IFNA(INDEX(Stats!$A$3:$A$50,MATCH(A10,Stats!$I$3:$I$50,0),1),0) -> 0 | C10: =_xlfn.IFNA(INDEX(Stats!$B$3:$B$52,MATCH(A10,Stats!$I$3:$I$52,0),1),0) -> 0 | D10: =B10 -> 0 | E10: =C10 -> 0
A11: 9 | B11: =_xlfn.IFNA(INDEX(Stats!$A$3:$A$50,MATCH(A11,Stats!$I$3:$I$50,0),1),0) -> 0 | C11: =_xlfn.IFNA(INDEX(Stats!$B$3:$B$52,MATCH(A11,Stats!$I$3:$I$52,0),1),0) -> 0 | D11: =B11 -> 0 | E11: =C11 -> 0
A12: 10 | B12: =_xlfn.IFNA(INDEX(Stats!$A$3:$A$50,MATCH(A12,Stats!$I$3:$I$50,0),1),0) -> 0 | C12: =_xlfn.IFNA(INDEX(Stats!$B$3:$B$52,MATCH(A12,Stats!$I$3:$I$52,0),1),0) -> 0 | D12: =B12 -> 0 | E12: =C12 -> 0
A13: 11 | B13: =_xlfn.IFNA(INDEX(Stats!$A$3:$A$50,MATCH(A13,Stats!$I$3:$I$50,0),1),0) -> 0 | C13: =_xlfn.IFNA(INDEX(Stats!$B$3:$B$52,MATCH(A13,Stats!$I$3:$I$52,0),1),0) -> 0 | D13: =B13 -> 0 | E13: =C13 -> 0
A14: 12 | B14: =_xlfn.IFNA(INDEX(Stats!$A$3:$A$50,MATCH(A14,Stats!$I$3:$I$50,0),1),0) -> 0 | C14: =_xlfn.IFNA(INDEX(Stats!$B$3:$B$52,MATCH(A14,Stats!$I$3:$I$52,0),1),0) -> 0 | D14: =B14 -> 0 | E14: =C14 -> 0
A15: 13 | B15: =_xlfn.IFNA(INDEX(Stats!$A$3:$A$50,MATCH(A15,Stats!$I$3:$I$50,0),1),0) -> 0 | C15: =_xlfn.IFNA(INDEX(Stats!$B$3:$B$52,MATCH(A15,Stats!$I$3:$I$52,0),1),0) -> 0 | D15: =B15 -> 0 | E15: =C15 -> 0
A16: 14 | B16: =_xlfn.IFNA(INDEX(Stats!$A$3:$A$50,MATCH(A16,Stats!$I$3:$I$50,0),1),0) -> 0 | C16: =_xlfn.IFNA(INDEX(Stats!$B$3:$B$52,MATCH(A16,Stats!$I$3:$I$52,0),1),0) -> 0 | D16: =B16 -> 0 | E16: =C16 -> 0
A17: 15 | B17: =_xlfn.IFNA(INDEX(Stats!$A$3:$A$50,MATCH(A17,Stats!$I$3:$I$50,0),1),0) -> 0 | C17: =_xlfn.IFNA(INDEX(Stats!$B$3:$B$52,MATCH(A17,Stats!$I$3:$I$52,0),1),0) -> 0 | D17: =B17 -> 0 | E17: =C17 -> 0
A18: 16 | B18: =_xlfn.IFNA(INDEX(Stats!$A$3:$A$50,MATCH(A18,Stats!$I$3:$I$50,0),1),0) -> 0 | C18: =_xlfn.IFNA(INDEX(Stats!$B$3:$B$52,MATCH(A18,Stats!$I$3:$I$52,0),1),0) -> 0 | D18: =B18 -> 0 | E18: =C18 -> 0
A19: 17 | B19: =_xlfn.IFNA(INDEX(Stats!$A$3:$A$50,MATCH(A19,Stats!$I$3:$I$50,0),1),0) -> 0 | C19: =_xlfn.IFNA(INDEX(Stats!$B$3:$B$52,MATCH(A19,Stats!$I$3:$I$52,0),1),0) -> 0 | D19: =B19 -> 0 | E19: =C19 -> 0
A20: 18 | B20: =_xlfn.IFNA(INDEX(Stats!$A$3:$A$50,MATCH(A20,Stats!$I$3:$I$50,0),1),0) -> 0 | C20: =_xlfn.IFNA(INDEX(Stats!$B$3:$B$52,MATCH(A20,Stats!$I$3:$I$52,0),1),0) -> 0 | D20: =B20 -> 0 | E20: =C20 -> 0
A21: 19 | B21: =_xlfn.IFNA(INDEX(Stats!$A$3:$A$50,MATCH(A21,Stats!$I$3:$I$50,0),1),0) -> 0 | C21: =_xlfn.IFNA(INDEX(Stats!$B$3:$B$52,MATCH(A21,Stats!$I$3:$I$52,0),1),0) -> 0 | D21: =B21 -> 0 | E21: =C21 -> 0
... A50: 48 | B50: =_xlfn.IFNA(INDEX(Stats!$A$3:$A$50,MATCH(A50,Stats!$I$3:$I$50,0),1),0) -> 0 | C50: =_xlfn.IFNA(INDEX(Stats!$B$3:$B$52,MATCH(A50,Stats!$I$3:$I$52,0),1),0) -> 0 | D50: =B50 -> 0 | E50: =C50 -> 0

Sheet Partie 1
A1: Partie 1 | M1: Tirage Match (F9 pour relancer) (SHIT+CTRL+V Valeurs Seulement) | X1: Tirage Équipe | AE1: =IF(Équipe!B3<>0,Équipe!A3,"") | AF1: =IF(Équipe!B3<>0,RAND(),"") | AG1: =IF(Équipe!B3<>0,RANK(AF1,$AF$1:INDIRECT("$AF$"&0+COUNTA(AE$1:AE$50)+1-COUNTBLANK(AE$1:AE$50))),"") | AJ1: =IF(AND(Y3<>0,Y3<>""),Y3,"") | AK1: =IF(AND(AA3<>0,AA3<>""),AA3,"") | AL1: =IF(AND(AJ1<>"-",AJ1<>""),RAND(),"") | AM1: =IF(AND(AJ1<>0,AJ1<>""),RANK(AL1,$AL$1:INDIRECT("$AL$"&0+COUNTA(AJ$1:AJ$50)+1-COUNTBLANK(AJ$1:AJ$50))),"")
N2: Équipe 1 | R2: Équipe 2 | Y2: Joueur 1 | AA2: Joueur 2 | AE2: =IF(Équipe!B4<>0,Équipe!A4,"") | AF2: =IF(Équipe!B4<>0,RAND(),"") | AG2: =IF(Équipe!B4<>0,RANK(AF2,$AF$1:INDIRECT("$AF$"&0+COUNTA(AE$1:AE$50)+1-COUNTBLANK(AE$1:AE$50))),"") | AJ2: =IF(AND(Y4<>0,Y4<>""),Y4,"") | AK2: =IF(AND(AA4<>0,AA4<>""),AA4,"") | AL2: =IF(AND(AJ2<>"-",AJ2<>""),RAND(),"") | AM2: =IF(AND(AJ2<>0,AJ2<>""),RANK(AL2,$AL$1:INDIRECT("$AL$"&0+COUNTA(AJ$1:AJ$50)+1-COUNTBLANK(AJ$1:AJ$50))),"")
A3: Terrain | B3: Équipe 1 | F3: Équipe 2 | J3: Score | X3: =IF(ROW(X3)<=QUOTIENT(COUNTA($AE$1:$AE$50)-COUNTBLANK($AE$1:$AE$50),2)+MOD(COUNTA($AE$1:$AE$50)-COUNTBLANK($AE$1:$AE$50),2)+2,IF(ROW(X3)<>3,X2+2,1),"") | Y3: =_xlfn.IFNA(INDEX($AE$1:$AE$50,MATCH(X3,$AG$1:$AG$50,0),1),"") | Z3: =_xlfn.IFNA(INDEX(Équipe!$B$3:$B$52,MATCH(Y3,Équipe!$A$3:$A$52,0),1),"") | AA3: =_xlfn.IFNA(INDEX($AE$1:$AE$50,MATCH(AC3,$AG$1:$AG$50,0),1),"") | AB3: =_xlfn.IFNA(INDEX(Équipe!$B$3:$B$52,MATCH(AA3,Équipe!$A$3:$A$52,0),1),"") | AC3: =IF(ROW(AC3)<=QUOTIENT(COUNTA($AE$1:$AE$50)-COUNTBLANK($AE$1:$AE$50),2)+MOD(COUNTA($AE$1:$AE$50)-COUNTBLANK($AE$1:$AE$50),2)+2,X3+1,"") | AE3: =IF(Équipe!B5<>0,Équipe!A5,"") | AF3: =IF(Équipe!B5<>0,RAND(),"") | AG3: =IF(Équipe!B5<>0,RANK(AF3,$AF$1:INDIRECT("$AF$"&0+COUNTA(AE$1:AE$50)+1-COUNTBLANK(AE$1:AE$50))),"") | AJ3: =IF(AND(Y5<>0,Y5<>""),Y5,"") | AK3: =IF(AND(AA5<>0,AA5<>""),AA5,"") | AL3: =IF(AND(AJ3<>"-",AJ3<>""),RAND(),"") | AM3: =IF(AND(AJ3<>0,AJ3<>""),RANK(AL3,$AL$1:INDIRECT("$AL$"&0+COUNTA(AJ$1:AJ$50)+1-COUNTBLANK(AJ$1:AJ$50))),"")
J4: Eq.1 | K4: Eq.2 | M4: =IF(ROW(M4)<=QUOTIENT(COUNTA($AJ$1:$AJ$50)-COUNTBLANK($AJ$1:$AJ$50),2)+MOD(COUNTA($AJ$1:$AJ$50)-COUNTBLANK($AJ$1:$AJ$50),2)+3,IF(ROW(M4)<>4,M3+2,1),"") | N4: =_xlfn.IFNA(INDEX($AJ$1:$AJ$50,MATCH(M4,$AM$1:$AM$50,0),1),"") | O4: =_xlfn.IFNA(INDEX($AK$1:$AK$50,MATCH(M4,$AM$1:$AM$50,0),1),"") | P4: =_xlfn.IFNA(INDEX(Équipe!$B$3:$B$52,MATCH(N4,Équipe!$A$3:$A$52,0),1),"") | Q4: =_xlfn.IFNA(INDEX(Équipe!$B$3:$B$52,MATCH(O4,Équipe!$A$3:$A$52,0),1),"") | R4: =_xlfn.IFNA(INDEX($AJ$1:$AJ$50,MATCH(V4,$AM$1:$AM$50,0),1),"") | S4: =_xlfn.IFNA(INDEX($AK$1:$AK$50,MATCH(V4,$AM$1:$AM$50,0),1),"") | T4: =_xlfn.IFNA(INDEX(Équipe!$B$3:$B$52,MATCH(R4,Équipe!$A$3:$A$52,0),1),"") | U4: =_xlfn.IFNA(INDEX(Équipe!$B$3:$B$52,MATCH(S4,Équipe!$A$3:$A$52,0),1),"") | V4: =IF(ROW(V4)<=QUOTIENT(COUNTA($AJ$1:$AJ$50)-COUNTBLANK($AJ$1:$AJ$50),2)+MOD(COUNTA($AJ$1:$AJ$50)-COUNTBLANK($AJ$1:$AJ$50),2)+3,M4+1,"") | X4: =IF(ROW(X4)<=QUOTIENT(COUNTA($AE$1:$AE$50)-COUNTBLANK($AE$1:$AE$50),2)+MOD(COUNTA($AE$1:$AE$50)-COUNTBLANK($AE$1:$AE$50),2)+2,IF(ROW(X4)<>3,X3+2,1),"") | Y4: =_xlfn.IFNA(INDEX($AE$1:$AE$50,MATCH(X4,$AG$1:$AG$50,0),1),"") | Z4: =_xlfn.IFNA(INDEX(Équipe!$B$3:$B$52,MATCH(Y4,Équipe!$A$3:$A$52,0),1),"") | AA4: =_xlfn.IFNA(INDEX($AE$1:$AE$50,MATCH(AC4,$AG$1:$AG$50,0),1),"") | AB4: =_xlfn.IFNA(INDEX(Équipe!$B$3:$B$52,MATCH(AA4,Équipe!$A$3:$A$52,0),1),"") | AC4: =IF(ROW(AC4)<=QUOTIENT(COUNTA($AE$1:$AE$50)-COUNTBLANK($AE$1:$AE$50),2)+MOD(COUNTA($AE$1:$AE$50)-COUNTBLANK($AE$1:$AE$50),2)+2,X4+1,"") | AE4: =IF(Équipe!B6<>0,Équipe!A6,"") | AF4: =IF(Équipe!B6<>0,RAND(),"") | AG4: =IF(Équipe!B6<>0,RANK(AF4,$AF$1:INDIRECT("$AF$"&0+COUNTA(AE$1:AE$50)+1-COUNTBLANK(AE$1:AE$50))),"") | AJ4: =IF(AND(Y6<>0,Y6<>""),Y6,"") | AK4: =IF(AND(AA6<>0,AA6<>""),AA6,"") | AL4: =IF(AND(AJ4<>"-",AJ4<>""),RAND(),"") | AM4: =IF(AND(AJ4<>0,AJ4<>""),RANK(AL4,$AL$1:INDIRECT("$AL$"&0+COUNTA(AJ$1:AJ$50)+1-COUNTBLANK(AJ$1:AJ$50))),"")
A5: =IF(ROW(A5)-4<=Procédure!$K$3,ROW(A5)-4,IF(ROW(A5)-(QUOTIENT(ROW(A5)-4,Procédure!$K$3)*Procédure!$K$3)-4<>0,ROW(A5)-(QUOTIENT(ROW(A5)-4,Procédure!$K$3)*Procédure!$K$3)-4,ROW(A5)-(QUOTIENT(ROW(A5)-4,Procédure!$K$3)*Procédure!$K$3)-4+Procédure!$K$3)) -> 1 | M5: =IF(ROW(M5)<=QUOTIENT(COUNTA($AJ$1:$AJ$50)-COUNTBLANK($AJ$1:$AJ$50),2)+MOD(COUNTA($AJ$1:$AJ$50)-COUNTBLANK($AJ$1:$AJ$50),2)+3,IF(ROW(M5)<>4,M4+2,1),"") | N5: =_xlfn.IFNA(INDEX($AJ$1:$AJ$50,MATCH(M5,$AM$1:$AM$50,0),1),"") | O5: =_xlfn.IFNA(INDEX($AK$1:$AK$50,MATCH(M5,$AM$1:$AM$50,0),1),"") | P5: =_xlfn.IFNA(INDEX(Équipe!$B$3:$B$52,MATCH(N5,Équipe!$A$3:$A$52,0),1),"") | Q5: =_xlfn.IFNA(INDEX(Équipe!$B$3:$B$52,MATCH(O5,Équipe!$A$3:$A$52,0),1),"") | R5: =_xlfn.IFNA(INDEX($AJ$1:$AJ$50,MATCH(V5,$AM$1:$AM$50,0),1),"") | S5: =_xlfn.IFNA(INDEX($AK$1:$AK$50,MATCH(V5,$AM$1:$AM$50,0),1),"") | T5: =_xlfn.IFNA(INDEX(Équipe!$B$3:$B$52,MATCH(R5,Équipe!$A$3:$A$52,0),1),"") | U5: =_xlfn.IFNA(INDEX(Équipe!$B$3:$B$52,MATCH(S5,Équipe!$A$3:$A$52,0),1),"") | V5: =IF(ROW(V5)<=QUOTIENT(COUNTA($AJ$1:$AJ$50)-COUNTBLANK($AJ$1:$AJ$50),2)+MOD(COUNTA($AJ$1:$AJ$50)-COUNTBLANK($AJ$1:$AJ$50),2)+3,M5+1,"") | X5: =IF(ROW(X5)<=QUOTIENT(COUNTA($AE$1:$AE$50)-COUNTBLANK($AE$1:$AE$50),2)+MOD(COUNTA($AE$1:$AE$50)-COUNTBLANK($AE$1:$AE$50),2)+2,IF(ROW(X5)<>3,X4+2,1),"") | Y5: =_xlfn.IFNA(INDEX($AE$1:$AE$50,MATCH(X5,$AG$1:$AG$50,0),1),"") | Z5: =_xlfn.IFNA(INDEX(Équipe!$B$3:$B$52,MATCH(Y5,Équipe!$A$3:$A$52,0),1),"") | AA5: =_xlfn.IFNA(INDEX($AE$1:$AE$50,MATCH(AC5,$AG$1:$AG$50,0),1),"") | AB5: =_xlfn.IFNA(INDEX(Équipe!$B$3:$B$52,MATCH(AA5,Équipe!$A$3:$A$52,0),1),"") | AC5: =IF(ROW(AC5)<=QUOTIENT(COUNTA($AE$1:$AE$50)-COUNTBLANK($AE$1:$AE$50),2)+MOD(COUNTA($AE$1:$AE$50)-COUNTBLANK($AE$1:$AE$50),2)+2,X5+1,"") | AE5: =IF(Équipe!B7<>0,Équipe!A7,"") | AF5: =IF(Équipe!B7<>0,RAND(),"") | AG5: =IF(Équipe!B7<>0,RANK(AF5,$AF$1:INDIRECT("$AF$"&0+COUNTA(AE$1:AE$50)+1-COUNTBLANK(AE$1:AE$50))),"") | AJ5: =IF(AND(Y7<>0,Y7<>""),Y7,"") | AK5: =IF(AND(AA7<>0,AA7<>""),AA7,"") | AL5: =IF(AND(AJ5<>"-",AJ5<>""),RAND(),"") | AM5: =IF(AND(AJ5<>0,AJ5<>""),RANK(AL5,$AL$1:INDIRECT("$AL$"&0+COUNTA(AJ$1:AJ$50)+1-COUNTBLANK(AJ$1:AJ$50))),"")
A6: =IF(ROW(A6)-4<=Procédure!$K$3,ROW(A6)-4,IF(ROW(A6)-(QUOTIENT(ROW(A6)-4,Procédure!$K$3)*Procédure!$K$3)-4<>0,ROW(A6)-(QUOTIENT(ROW(A6)-4,Procédure!$K$3)*Procédure!$K$3)-4,ROW(A6)-(QUOTIENT(ROW(A6)-4,Procédure!$K$3)*Procédure!$K$3)-4+Procédure!$K$3)) -> 2 | M6: =IF(ROW(M6)<=QUOTIENT(COUNTA($AJ$1:$AJ$50)-COUNTBLANK($AJ$1:$AJ$50),2)+MOD(COUNTA($AJ$1:$AJ$50)-COUNTBLANK($AJ$1:$AJ$50),2)+3,IF(ROW(M6)<>4,M5+2,1),"") | N6: =_xlfn.IFNA(INDEX($AJ$1:$AJ$50,MATCH(M6,$AM$1:$AM$50,0),1),"") | O6: =_xlfn.IFNA(INDEX($AK$1:$AK$50,MATCH(M6,$AM$1:$AM$50,0),1),"") | P6: =_xlfn.IFNA(INDEX(Équipe!$B$3:$B$52,MATCH(N6,Équipe!$A$3:$A$52,0),1),"") | Q6: =_xlfn.IFNA(INDEX(Équipe!$B$3:$B$52,MATCH(O6,Équipe!$A$3:$A$52,0),1),"") | R6: =_xlfn.IFNA(INDEX($AJ$1:$AJ$50,MATCH(V6,$AM$1:$AM$50,0),1),"") | S6: =_xlfn.IFNA(INDEX($AK$1:$AK$50,MATCH(V6,$AM$1:$AM$50,0),1),"") | T6: =_xlfn.IFNA(INDEX(Équipe!$B$3:$B$52,MATCH(R6,Équipe!$A$3:$A$52,0),1),"") | U6: =_xlfn.IFNA(INDEX(Équipe!$B$3:$B$52,MATCH(S6,Équipe!$A$3:$A$52,0),1),"") | V6: =IF(ROW(V6)<=QUOTIENT(COUNTA($AJ$1:$AJ$50)-COUNTBLANK($AJ$1:$AJ$50),2)+MOD(COUNTA($AJ$1:$AJ$50)-COUNTBLANK($AJ$1:$AJ$50),2)+3,M6+1,"") | X6: =IF(ROW(X6)<=QUOTIENT(COUNTA($AE$1:$AE$50)-COUNTBLANK($AE$1:$AE$50),2)+MOD(COUNTA($AE$1:$AE$50)-COUNTBLANK($AE$1:$AE$50),2)+2,IF(ROW(X6)<>3,X5+2,1),"") | Y6: =_xlfn.IFNA(INDEX($AE$1:$AE$50,MATCH(X6,$AG$1:$AG$50,0),1),"") | Z6: =_xlfn.IFNA(INDEX(Équipe!$B$3:$B$52,MATCH(Y6,Équipe!$A$3:$A$52,0),1),"") | AA6: =_xlfn.IFNA(INDEX($AE$1:$AE$50,MATCH(AC6,$AG$1:$AG$50,0),1),"") | AB6: =_xlfn.IFNA(INDEX(Équipe!$B$3:$B$52,MATCH(AA6,Équipe!$A$3:$A$52,0),1),"") | AC6: =IF(ROW(AC6)<=QUOTIENT(COUNTA($AE$1:$AE$50)-COUNTBLANK($AE$1:$AE$50),2)+MOD(COUNTA($AE$1:$AE$50)-COUNTBLANK($AE$1:$AE$50),2)+2,X6+1,"") | AE6: =IF(Équipe!B8<>0,Équipe!A8,"") | AF6: =IF(Équipe!B8<>0,RAND(),"") | AG6: =IF(Équipe!B8<>0,RANK(AF6,$AF$1:INDIRECT("$AF$"&0+COUNTA(AE$1:AE$50)+1-COUNTBLANK(AE$1:AE$50))),"") | AJ6: =IF(AND(Y8<>0,Y8<>""),Y8,"") | AK6: =IF(AND(AA8<>0,AA8<>""),AA8,"") | AL6: =IF(AND(AJ6<>"-",AJ6<>""),RAND(),"") | AM6: =IF(AND(AJ6<>0,AJ6<>""),RANK(AL6,$AL$1:INDIRECT("$AL$"&0+COUNTA(AJ$1:AJ$50)+1-COUNTBLANK(AJ$1:AJ$50))),"")
A7: =IF(ROW(A7)-4<=Procédure!$K$3,ROW(A7)-4,IF(ROW(A7)-(QUOTIENT(ROW(A7)-4,Procédure!$K$3)*Procédure!$K$3)-4<>0,ROW(A7)-(QUOTIENT(ROW(A7)-4,Procédure!$K$3)*Procédure!$K$3)-4,ROW(A7)-(QUOTIENT(ROW(A7)-4,Procédure!$K$3)*Procédure!$K$3)-4+Procédure!$K$3)) -> 3 | M7: =IF(ROW(M7)<=QUOTIENT(COUNTA($AJ$1:$AJ$50)-COUNTBLANK($AJ$1:$AJ$50),2)+MOD(COUNTA($AJ$1:$AJ$50)-COUNTBLANK($AJ$1:$AJ$50),2)+3,IF(ROW(M7)<>4,M6+2,1),"") | N7: =_xlfn.IFNA(INDEX($AJ$1:$AJ$50,MATCH(M7,$AM$1:$AM$50,0),1),"") | O7: =_xlfn.IFNA(INDEX($AK$1:$AK$50,MATCH(M7,$AM$1:$AM$50,0),1),"") | P7: =_xlfn.IFNA(INDEX(Équipe!$B$3:$B$52,MATCH(N7,Équipe!$A$3:$A$52,0),1),"") | Q7: =_xlfn.IFNA(INDEX(Équipe!$B$3:$B$52,MATCH(O7,Équipe!$A$3:$A$52,0),1),"") | R7: =_xlfn.IFNA(INDEX($AJ$1:$AJ$50,MATCH(V7,$AM$1:$AM$50,0),1),"") | S7: =_xlfn.IFNA(INDEX($AK$1:$AK$50,MATCH(V7,$AM$1:$AM$50,0),1),"") | T7: =_xlfn.IFNA(INDEX(Équipe!$B$3:$B$52,MATCH(R7,Équipe!$A$3:$A$52,0),1),"") | U7: =_xlfn.IFNA(INDEX(Équipe!$B$3:$B$52,MATCH(S7,Équipe!$A$3:$A$52,0),1),"") | V7: =IF(ROW(V7)<=QUOTIENT(COUNTA($AJ$1:$AJ$50)-COUNTBLANK($AJ$1:$AJ$50),2)+MOD(COUNTA($AJ$1:$AJ$50)-COUNTBLANK($AJ$1:$AJ$50),2)+3,M7+1,"") | X7: =IF(ROW(X7)<=QUOTIENT(COUNTA($AE$1:$AE$50)-COUNTBLANK($AE$1:$AE$50),2)+MOD(COUNTA($AE$1:$AE$50)-COUNTBLANK($AE$1:$AE$50),2)+2,IF(ROW(X7)<>3,X6+2,1),"") | Y7: =_xlfn.IFNA(INDEX($AE$1:$AE$50,MATCH(X7,$AG$1:$AG$50,0),1),"") | Z7: =_xlfn.IFNA(INDEX(Équipe!$B$3:$B$52,MATCH(Y7,Équipe!$A$3:$A$52,0),1),"") | AA7: =_xlfn.IFNA(INDEX($AE$1:$AE$50,MATCH(AC7,$AG$1:$AG$50,0),1),"") | AB7: =_xlfn.IFNA(INDEX(Équipe!$B$3:$B$52,MATCH(AA7,Équipe!$A$3:$A$52,0),1),"") | AC7: =IF(ROW(AC7)<=QUOTIENT(COUNTA($AE$1:$AE$50)-COUNTBLANK($AE$1:$AE$50),2)+MOD(COUNTA($AE$1:$AE$50)-COUNTBLANK($AE$1:$AE$50),2)+2,X7+1,"") | AE7: =IF(Équipe!B9<>0,Équipe!A9,"") | AF7: =IF(Équipe!B9<>0,RAND(),"") | AG7: =IF(Équipe!B9<>0,RANK(AF7,$AF$1:INDIRECT("$AF$"&0+COUNTA(AE$1:AE$50)+1-COUNTBLANK(AE$1:AE$50))),"") | AJ7: =IF(AND(Y9<>0,Y9<>""),Y9,"") | AK7: =IF(AND(AA9<>0,AA9<>""),AA9,"") | AL7: =IF(AND(AJ7<>"-",AJ7<>""),RAND(),"") | AM7: =IF(AND(AJ7<>0,AJ7<>""),RANK(AL7,$AL$1:INDIRECT("$AL$"&0+COUNTA(AJ$1:AJ$50)+1-COUNTBLANK(AJ$1:AJ$50))),"")
A8: =IF(ROW(A8)-4<=Procédure!$K$3,ROW(A8)-4,IF(ROW(A8)-(QUOTIENT(ROW(A8)-4,Procédure!$K$3)*Procédure!$K$3)-4<>0,ROW(A8)-(QUOTIENT(ROW(A8)-4,Procédure!$K$3)*Procédure!$K$3)-4,ROW(A8)-(QUOTIENT(ROW(A8)-4,Procédure!$K$3)*Procédure!$K$3)-4+Procédure!$K$3)) -> 4 | M8: =IF(ROW(M8)<=QUOTIENT(COUNTA($AJ$1:$AJ$50)-COUNTBLANK($AJ$1:$AJ$50),2)+MOD(COUNTA($AJ$1:$AJ$50)-COUNTBLANK($AJ$1:$AJ$50),2)+3,IF(ROW(M8)<>4,M7+2,1),"") | N8: =_xlfn.IFNA(INDEX($AJ$1:$AJ$50,MATCH(M8,$AM$1:$AM$50,0),1),"") | O8: =_xlfn.IFNA(INDEX($AK$1:$AK$50,MATCH(M8,$AM$1:$AM$50,0),1),"") | P8: =_xlfn.IFNA(INDEX(Équipe!$B$3:$B$52,MATCH(N8,Équipe!$A$3:$A$52,0),1),"") | Q8: =_xlfn.IFNA(INDEX(Équipe!$B$3:$B$52,MATCH(O8,Équipe!$A$3:$A$52,0),1),"") | R8: =_xlfn.IFNA(INDEX($AJ$1:$AJ$50,MATCH(V8,$AM$1:$AM$50,0),1),"") | S8: =_xlfn.IFNA(INDEX($AK$1:$AK$50,MATCH(V8,$AM$1:$AM$50,0),1),"") | T8: =_xlfn.IFNA(INDEX(Équipe!$B$3:$B$52,MATCH(R8,Équipe!$A$3:$A$52,0),1),"") | U8: =_xlfn.IFNA(INDEX(Équipe!$B$3:$B$52,MATCH(S8,Équipe!$A$3:$A$52,0),1),"") | V8: =IF(ROW(V8)<=QUOTIENT(COUNTA($AJ$1:$AJ$50)-COUNTBLANK($AJ$1:$AJ$50),2)+MOD(COUNTA($AJ$1:$AJ$50)-COUNTBLANK($AJ$1:$AJ$50),2)+3,M8+1,"") | X8: =IF(ROW(X8)<=QUOTIENT(COUNTA($AE$1:$AE$50)-COUNTBLANK($AE$1:$AE$50),2)+MOD(COUNTA($AE$1:$AE$50)-COUNTBLANK($AE$1:$AE$50),2)+2,IF(ROW(X8)<>3,X7+2,1),"") | Y8: =_xlfn.IFNA(INDEX($AE$1:$AE$50,MATCH(X8,$AG$1:$AG$50,0),1),"") | Z8: =_xlfn.IFNA(INDEX(Équipe!$B$3:$B$52,MATCH(Y8,Équipe!$A$3:$A$52,0),1),"") | AA8: =_xlfn.IFNA(INDEX($AE$1:$AE$50,MATCH(AC8,$AG$1:$AG$50,0),1),"") | AB8: =_xlfn.IFNA(INDEX(Équipe!$B$3:$B$52,MATCH(AA8,Équipe!$A$3:$A$52,0),1),"") | AC8: =IF(ROW(AC8)<=QUOTIENT(COUNTA($AE$1:$AE$50)-COUNTBLANK($AE$1:$AE$50),2)+MOD(COUNTA($AE$1:$AE$50)-COUNTBLANK($AE$1:$AE$50),2)+2,X8+1,"") | AE8: =IF(Équipe!B10<>0,Équipe!A10,"") | AF8: =IF(Équipe!B10<>0,RAND(),"") | AG8: =IF(Équipe!B10<>0,RANK(AF8,$AF$1:INDIRECT("$AF$"&0+COUNTA(AE$1:AE$50)+1-COUNTBLANK(AE$1:AE$50))),"") | AJ8: =IF(AND(Y10<>0,Y10<>""),Y10,"") | AK8: =IF(AND(AA10<>0,AA10<>""),AA10,"") | AL8: =IF(AND(AJ8<>"-",AJ8<>""),RAND(),"") | AM8: =IF(AND(AJ8<>0,AJ8<>""),RANK(AL8,$AL$1:INDIRECT("$AL$"&0+COUNTA(AJ$1:AJ$50)+1-COUNTBLANK(AJ$1:AJ$50))),"")
A9: =IF(ROW(A9)-4<=Procédure!$K$3,ROW(A9)-4,IF(ROW(A9)-(QUOTIENT(ROW(A9)-4,Procédure!$K$3)*Procédure!$K$3)-4<>0,ROW(A9)-(QUOTIENT(ROW(A9)-4,Procédure!$K$3)*Procédure!$K$3)-4,ROW(A9)-(QUOTIENT(ROW(A9)-4,Procédure!$K$3)*Procédure!$K$3)-4+Procédure!$K$3)) -> 5 | M9: =IF(ROW(M9)<=QUOTIENT(COUNTA($AJ$1:$AJ$50)-COUNTBLANK($AJ$1:$AJ$50),2)+MOD(COUNTA($AJ$1:$AJ$50)-COUNTBLANK($AJ$1:$AJ$50),2)+3,IF(ROW(M9)<>4,M8+2,1),"") | N9: =_xlfn.IFNA(INDEX($AJ$1:$AJ$50,MATCH(M9,$AM$1:$AM$50,0),1),"") | O9: =_xlfn.IFNA(INDEX($AK$1:$AK$50,MATCH(M9,$AM$1:$AM$50,0),1),"") | P9: =_xlfn.IFNA(INDEX(Équipe!$B$3:$B$52,MATCH(N9,Équipe!$A$3:$A$52,0),1),"") | Q9: =_xlfn.IFNA(INDEX(Équipe!$B$3:$B$52,MATCH(O9,Équipe!$A$3:$A$52,0),1),"") | R9: =_xlfn.IFNA(INDEX($AJ$1:$AJ$50,MATCH(V9,$AM$1:$AM$50,0),1),"") | S9: =_xlfn.IFNA(INDEX($AK$1:$AK$50,MATCH(V9,$AM$1:$AM$50,0),1),"") | T9: =_xlfn.IFNA(INDEX(Équipe!$B$3:$B$52,MATCH(R9,Équipe!$A$3:$A$52,0),1),"") | U9: =_xlfn.IFNA(INDEX(Équipe!$B$3:$B$52,MATCH(S9,Équipe!$A$3:$A$52,0),1),"") | V9: =IF(ROW(V9)<=QUOTIENT(COUNTA($AJ$1:$AJ$50)-COUNTBLANK($AJ$1:$AJ$50),2)+MOD(COUNTA($AJ$1:$AJ$50)-COUNTBLANK($AJ$1:$AJ$50),2)+3,M9+1,"") | X9: =IF(ROW(X9)<=QUOTIENT(COUNTA($AE$1:$AE$50)-COUNTBLANK($AE$1:$AE$50),2)+MOD(COUNTA($AE$1:$AE$50)-COUNTBLANK($AE$1:$AE$50),2)+2,IF(ROW(X9)<>3,X8+2,1),"") | Y9: =_xlfn.IFNA(INDEX($AE$1:$AE$50,MATCH(X9,$AG$1:$AG$50,0),1),"") | Z9: =_xlfn.IFNA(INDEX(Équipe!$B$3:$B$52,MATCH(Y9,Équipe!$A$3:$A$52,0),1),"") | AA9: =_xlfn.IFNA(INDEX($AE$1:$AE$50,MATCH(AC9,$AG$1:$AG$50,0),1),"") | AB9: =_xlfn.IFNA(INDEX(Équipe!$B$3:$B$52,MATCH(AA9,Équipe!$A$3:$A$52,0),1),"") | AC9: =IF(ROW(AC9)<=QUOTIENT(COUNTA($AE$1:$AE$50)-COUNTBLANK($AE$1:$AE$50),2)+MOD(COUNTA($AE$1:$AE$50)-COUNTBLANK($AE$1:$AE$50),2)+2,X9+1,"") | AE9: =IF(Équipe!B11<>0,Équipe!A11,"") | AF9: =IF(Équipe!B11<>0,RAND(),"") | AG9: =IF(Équipe!B11<>0,RANK(AF9,$AF$1:INDIRECT("$AF$"&0+COUNTA(AE$1:AE$50)+1-COUNTBLANK(AE$1:AE$50))),"") | AJ9: =IF(AND(Y11<>0,Y11<>""),Y11,"") | AK9: =IF(AND(AA11<>0,AA11<>""),AA11,"") | AL9: =IF(AND(AJ9<>"-",AJ9<>""),RAND(),"") | AM9: =IF(AND(AJ9<>0,AJ9<>""),RANK(AL9,$AL$1:INDIRECT("$AL$"&0+COUNTA(AJ$1:AJ$50)+1-COUNTBLANK(AJ$1:AJ$50))),"")
A10: =IF(ROW(A10)-4<=Procédure!$K$3,ROW(A10)-4,IF(ROW(A10)-(QUOTIENT(ROW(A10)-4,Procédure!$K$3)*Procédure!$K$3)-4<>0,ROW(A10)-(QUOTIENT(ROW(A10)-4,Procédure!$K$3)*Procédure!$K$3)-4,ROW(A10)-(QUOTIENT(ROW(A10)-4,Procédure!$K$3)*Procédure!$K$3)-4+Procédure!$K$3)) -> 6 | M10: =IF(ROW(M10)<=QUOTIENT(COUNTA($AJ$1:$AJ$50)-COUNTBLANK($AJ$1:$AJ$50),2)+MOD(COUNTA($AJ$1:$AJ$50)-COUNTBLANK($AJ$1:$AJ$50),2)+3,IF(ROW(M10)<>4,M9+2,1),"") | N10: =_xlfn.IFNA(INDEX($AJ$1:$AJ$50,MATCH(M10,$AM$1:$AM$50,0),1),"") | O10: =_xlfn.IFNA(INDEX($AK$1:$AK$50,MATCH(M10,$AM$1:$AM$50,0),1),"") | P10: =_xlfn.IFNA(INDEX(Équipe!$B$3:$B$52,MATCH(N10,Équipe!$A$3:$A$52,0),1),"") | Q10: =_xlfn.IFNA(INDEX(Équipe!$B$3:$B$52,MATCH(O10,Équipe!$A$3:$A$52,0),1),"") | R10: =_xlfn.IFNA(INDEX($AJ$1:$AJ$50,MATCH(V10,$AM$1:$AM$50,0),1),"") | S10: =_xlfn.IFNA(INDEX($AK$1:$AK$50,MATCH(V10,$AM$1:$AM$50,0),1),"") | T10: =_xlfn.IFNA(INDEX(Équipe!$B$3:$B$52,MATCH(R10,Équipe!$A$3:$A$52,0),1),"") | U10: =_xlfn.IFNA(INDEX(Équipe!$B$3:$B$52,MATCH(S10,Équipe!$A$3:$A$52,0),1),"") | V10: =IF(ROW(V10)<=QUOTIENT(COUNTA($AJ$1:$AJ$50)-COUNTBLANK($AJ$1:$AJ$50),2)+MOD(COUNTA($AJ$1:$AJ$50)-COUNTBLANK($AJ$1:$AJ$50),2)+3,M10+1,"") | X10: =IF(ROW(X10)<=QUOTIENT(COUNTA($AE$1:$AE$50)-COUNTBLANK($AE$1:$AE$50),2)+MOD(COUNTA($AE$1:$AE$50)-COUNTBLANK($AE$1:$AE$50),2)+2,IF(ROW(X10)<>3,X9+2,1),"") | Y10: =_xlfn.IFNA(INDEX($AE$1:$AE$50,MATCH(X10,$AG$1:$AG$50,0),1),"") | Z10: =_xlfn.IFNA(INDEX(Équipe!$B$3:$B$52,MATCH(Y10,Équipe!$A$3:$A$52,0),1),"") | AA10: =_xlfn.IFNA(INDEX($AE$1:$AE$50,MATCH(AC10,$AG$1:$AG$50,0),1),"") | AB10: =_xlfn.IFNA(INDEX(Équipe!$B$3:$B$52,MATCH(AA10,Équipe!$A$3:$A$52,0),1),"") | AC10: =IF(ROW(AC10)<=QUOTIENT(COUNTA($AE$1:$AE$50)-COUNTBLANK($AE$1:$AE$50),2)+MOD(COUNTA($AE$1:$AE$50)-COUNTBLANK($AE$1:$AE$50),2)+2,X10+1,"") | AE10: =IF(Équipe!B12<>0,Équipe!A12,"") | AF10: =IF(Équipe!B12<>0,RAND(),"") | AG10: =IF(Équipe!B12<>0,RANK(AF10,$AF$1:INDIRECT("$AF$"&0+COUNTA(AE$1:AE$50)+1-COUNTBLANK(AE$1:AE$50))),"") | AJ10: =IF(AND(Y12<>0,Y12<>""),Y12,"") | AK10: =IF(AND(AA12<>0,AA12<>""),AA12,"") | AL10: =IF(AND(AJ10<>"-",AJ10<>""),RAND(),"") | AM10: =IF(AND(AJ10<>0,AJ10<>""),RANK(AL10,$AL$1:INDIRECT("$AL$"&0+COUNTA(AJ$1:AJ$50)+1-COUNTBLANK(AJ$1:AJ$50))),"")
A11: =IF(ROW(A11)-4<=Procédure!$K$3,ROW(A11)-4,IF(ROW(A11)-(QUOTIENT(ROW(A11)-4,Procédure!$K$3)*Procédure!$K$3)-4<>0,ROW(A11)-(QUOTIENT(ROW(A11)-4,Procédure!$K$3)*Procédure!$K$3)-4,ROW(A11)-(QUOTIENT(ROW(A11)-4,Procédure!$K$3)*Procédure!$K$3)-4+Procédure!$K$3)) -> 7 | M11: =IF(ROW(M11)<=QUOTIENT(COUNTA($AJ$1:$AJ$50)-COUNTBLANK($AJ$1:$AJ$50),2)+MOD(COUNTA($AJ$1:$AJ$50)-COUNTBLANK($AJ$1:$AJ$50),2)+3,IF(ROW(M11)<>4,M10+2,1),"") | N11: =_xlfn.IFNA(INDEX($AJ$1:$AJ$50,MATCH(M11,$AM$1:$AM$50,0),1),"") | O11: =_xlfn.IFNA(INDEX($AK$1:$AK$50,MATCH(M11,$AM$1:$AM$50,0),1),"") | P11: =_xlfn.IFNA(INDEX(Équipe!$B$3:$B$52,MATCH(N11,Équipe!$A$3:$A$52,0),1),"") | Q11: =_xlfn.IFNA(INDEX(Équipe!$B$3:$B$52,MATCH(O11,Équipe!$A$3:$A$52,0),1),"") | R11: =_xlfn.IFNA(INDEX($AJ$1:$AJ$50,MATCH(V11,$AM$1:$AM$50,0),1),"") | S11: =_xlfn.IFNA(INDEX($AK$1:$AK$50,MATCH(V11,$AM$1:$AM$50,0),1),"") | T11: =_xlfn.IFNA(INDEX(Équipe!$B$3:$B$52,MATCH(R11,Équipe!$A$3:$A$52,0),1),"") | U11: =_xlfn.IFNA(INDEX(Équipe!$B$3:$B$52,MATCH(S11,Équipe!$A$3:$A$52,0),1),"") | V11: =IF(ROW(V11)<=QUOTIENT(COUNTA($AJ$1:$AJ$50)-COUNTBLANK($AJ$1:$AJ$50),2)+MOD(COUNTA($AJ$1:$AJ$50)-COUNTBLANK($AJ$1:$AJ$50),2)+3,M11+1,"") | X11: =IF(ROW(X11)<=QUOTIENT(COUNTA($AE$1:$AE$50)-COUNTBLANK($AE$1:$AE$50),2)+MOD(COUNTA($AE$1:$AE$50)-COUNTBLANK($AE$1:$AE$50),2)+2,IF(ROW(X11)<>3,X10+2,1),"") | Y11: =_xlfn.IFNA(INDEX($AE$1:$AE$50,MATCH(X11,$AG$1:$AG$50,0),1),"") | Z11: =_xlfn.IFNA(INDEX(Équipe!$B$3:$B$52,MATCH(Y11,Équipe!$A$3:$A$52,0),1),"") | AA11: =_xlfn.IFNA(INDEX($AE$1:$AE$50,MATCH(AC11,$AG$1:$AG$50,0),1),"") | AB11: =_xlfn.IFNA(INDEX(Équipe!$B$3:$B$52,MATCH(AA11,Équipe!$A$3:$A$52,0),1),"") | AC11: =IF(ROW(AC11)<=QUOTIENT(COUNTA($AE$1:$AE$50)-COUNTBLANK($AE$1:$AE$50),2)+MOD(COUNTA($AE$1:$AE$50)-COUNTBLANK($AE$1:$AE$50),2)+2,X11+1,"") | AE11: =IF(Équipe!B13<>0,Équipe!A13,"") | AF11: =IF(Équipe!B13<>0,RAND(),"") | AG11: =IF(Équipe!B13<>0,RANK(AF11,$AF$1:INDIRECT("$AF$"&0+COUNTA(AE$1:AE$50)+1-COUNTBLANK(AE$1:AE$50))),"") | AJ11: =IF(AND(Y13<>0,Y13<>""),Y13,"") | AK11: =IF(AND(AA13<>0,AA13<>""),AA13,"") | AL11: =IF(AND(AJ11<>"-",AJ11<>""),RAND(),"") | AM11: =IF(AND(AJ11<>0,AJ11<>""),RANK(AL11,$AL$1:INDIRECT("$AL$"&0+COUNTA(AJ$1:AJ$50)+1-COUNTBLANK(AJ$1:AJ$50))),"")
A12: =IF(ROW(A12)-4<=Procédure!$K$3,ROW(A12)-4,IF(ROW(A12)-(QUOTIENT(ROW(A12)-4,Procédure!$K$3)*Procédure!$K$3)-4<>0,ROW(A12)-(QUOTIENT(ROW(A12)-4,Procédure!$K$3)*Procédure!$K$3)-4,ROW(A12)-(QUOTIENT(ROW(A12)-4,Procédure!$K$3)*Procédure!$K$3)-4+Procédure!$K$3)) -> 8 | M12: =IF(ROW(M12)<=QUOTIENT(COUNTA($AJ$1:$AJ$50)-COUNTBLANK($AJ$1:$AJ$50),2)+MOD(COUNTA($AJ$1:$AJ$50)-COUNTBLANK($AJ$1:$AJ$50),2)+3,IF(ROW(M12)<>4,M11+2,1),"") | N12: =_xlfn.IFNA(INDEX($AJ$1:$AJ$50,MATCH(M12,$AM$1:$AM$50,0),1),"") | O12: =_xlfn.IFNA(INDEX($AK$1:$AK$50,MATCH(M12,$AM$1:$AM$50,0),1),"") | P12: =_xlfn.IFNA(INDEX(Équipe!$B$3:$B$52,MATCH(N12,Équipe!$A$3:$A$52,0),1),"") | Q12: =_xlfn.IFNA(INDEX(Équipe!$B$3:$B$52,MATCH(O12,Équipe!$A$3:$A$52,0),1),"") | R12: =_xlfn.IFNA(INDEX($AJ$1:$AJ$50,MATCH(V12,$AM$1:$AM$50,0),1),"") | S12: =_xlfn.IFNA(INDEX($AK$1:$AK$50,MATCH(V12,$AM$1:$AM$50,0),1),"") | T12: =_xlfn.IFNA(INDEX(Équipe!$B$3:$B$52,MATCH(R12,Équipe!$A$3:$A$52,0),1),"") | U12: =_xlfn.IFNA(INDEX(Équipe!$B$3:$B$52,MATCH(S12,Équipe!$A$3:$A$52,0),1),"") | V12: =IF(ROW(V12)<=QUOTIENT(COUNTA($AJ$1:$AJ$50)-COUNTBLANK($AJ$1:$AJ$50),2)+MOD(COUNTA($AJ$1:$AJ$50)-COUNTBLANK($AJ$1:$AJ$50),2)+3,M12+1,"") | X12: =IF(ROW(X12)<=QUOTIENT(COUNTA($AE$1:$AE$50)-COUNTBLANK($AE$1:$AE$50),2)+MOD(COUNTA($AE$1:$AE$50)-COUNTBLANK($AE$1:$AE$50),2)+2,IF(ROW(X12)<>3,X11+2,1),"") | Y12: =_xlfn.IFNA(INDEX($AE$1:$AE$50,MATCH(X12,$AG$1:$AG$50,0),1),"") | Z12: =_xlfn.IFNA(INDEX(Équipe!$B$3:$B$52,MATCH(Y12,Équipe!$A$3:$A$52,0),1),"") | AA12: =_xlfn.IFNA(INDEX($AE$1:$AE$50,MATCH(AC12,$AG$1:$AG$50,0),1),"") | AB12: =_xlfn.IFNA(INDEX(Équipe!$B$3:$B$52,MATCH(AA12,Équipe!$A$3:$A$52,0),1),"") | AC12: =IF(ROW(AC12)<=QUOTIENT(COUNTA($AE$1:$AE$50)-COUNTBLANK($AE$1:$AE$50),2)+MOD(COUNTA($AE$1:$AE$50)-COUNTBLANK($AE$1:$AE$50),2)+2,X12+1,"") | AE12: =IF(Équipe!B14<>0,Équipe!A14,"") | AF12: =IF(Équipe!B14<>0,RAND(),"") | AG12: =IF(Équipe!B14<>0,RANK(AF12,$AF$1:INDIRECT("$AF$"&0+COUNTA(AE$1:AE$50)+1-COUNTBLANK(AE$1:AE$50))),"") | AJ12: =IF(AND(Y14<>0,Y14<>""),Y14,"") | AK12: =IF(AND(AA14<>0,AA14<>""),AA14,"") | AL12: =IF(AND(AJ12<>"-",AJ12<>""),RAND(),"") | AM12: =IF(AND(AJ12<>0,AJ12<>""),RANK(AL12,$AL$1:INDIRECT("$AL$"&0+COUNTA(AJ$1:AJ$50)+1-COUNTBLANK(AJ$1:AJ$50))),"")
A13: =IF(ROW(A13)-4<=Procédure!$K$3,ROW(A13)-4,IF(ROW(A13)-(QUOTIENT(ROW(A13)-4,Procédure!$K$3)*Procédure!$K$3)-4<>0,ROW(A13)-(QUOTIENT(ROW(A13)-4,Procédure!$K$3)*Procédure!$K$3)-4,ROW(A13)-(QUOTIENT(ROW(A13)-4,Procédure!$K$3)*Procédure!$K$3)-4+Procédure!$K$3)) -> 9 | M13: =IF(ROW(M13)<=QUOTIENT(COUNTA($AJ$1:$AJ$50)-COUNTBLANK($AJ$1:$AJ$50),2)+MOD(COUNTA($AJ$1:$AJ$50)-COUNTBLANK($AJ$1:$AJ$50),2)+3,IF(ROW(M13)<>4,M12+2,1),"") | N13: =_xlfn.IFNA(INDEX($AJ$1:$AJ$50,MATCH(M13,$AM$1:$AM$50,0),1),"") | O13: =_xlfn.IFNA(INDEX($AK$1:$AK$50,MATCH(M13,$AM$1:$AM$50,0),1),"") | P13: =_xlfn.IFNA(INDEX(Équipe!$B$3:$B$52,MATCH(N13,Équipe!$A$3:$A$52,0),1),"") | Q13: =_xlfn.IFNA(INDEX(Équipe!$B$3:$B$52,MATCH(O13,Équipe!$A$3:$A$52,0),1),"") | R13: =_xlfn.IFNA(INDEX($AJ$1:$AJ$50,MATCH(V13,$AM$1:$AM$50,0),1),"") | S13: =_xlfn.IFNA(INDEX($AK$1:$AK$50,MATCH(V13,$AM$1:$AM$50,0),1),"") | T13: =_xlfn.IFNA(INDEX(Équipe!$B$3:$B$52,MATCH(R13,Équipe!$A$3:$A$52,0),1),"") | U13: =_xlfn.IFNA(INDEX(Équipe!$B$3:$B$52,MATCH(S13,Équipe!$A$3:$A$52,0),1),"") | V13: =IF(ROW(V13)<=QUOTIENT(COUNTA($AJ$1:$AJ$50)-COUNTBLANK($AJ$1:$AJ$50),2)+MOD(COUNTA($AJ$1:$AJ$50)-COUNTBLANK($AJ$1:$AJ$50),2)+3,M13+1,"") | X13: =IF(ROW(X13)<=QUOTIENT(COUNTA($AE$1:$AE$50)-COUNTBLANK($AE$1:$AE$50),2)+MOD(COUNTA($AE$1:$AE$50)-COUNTBLANK($AE$1:$AE$50),2)+2,IF(ROW(X13)<>3,X12+2,1),"") | Y13: =_xlfn.IFNA(INDEX($AE$1:$AE$50,MATCH(X13,$AG$1:$AG$50,0),1),"") | Z13: =_xlfn.IFNA(INDEX(Équipe!$B$3:$B$52,MATCH(Y13,Équipe!$A$3:$A$52,0),1),"") | AA13: =_xlfn.IFNA(INDEX($AE$1:$AE$50,MATCH(AC13,$AG$1:$AG$50,0),1),"") | AB13: =_xlfn.IFNA(INDEX(Équipe!$B$3:$B$52,MATCH(AA13,Équipe!$A$3:$A$52,0),1),"") | AC13: =IF(ROW(AC13)<=QUOTIENT(COUNTA($AE$1:$AE$50)-COUNTBLANK($AE$1:$AE$50),2)+MOD(COUNTA($AE$1:$AE$50)-COUNTBLANK($AE$1:$AE$50),2)+2,X13+1,"") | AE13: =IF(Équipe!B15<>0,Équipe!A15,"") | AF13: =IF(Équipe!B15<>0,RAND(),"") | AG13: =IF(Équipe!B15<>0,RANK(AF13,$AF$1:INDIRECT("$AF$"&0+COUNTA(AE$1:AE$50)+1-COUNTBLANK(AE$1:AE$50))),"") | AJ13: =IF(AND(Y15<>0,Y15<>""),Y15,"") | AK13: =IF(AND(AA15<>0,AA15<>""),AA15,"") | AL13: =IF(AND(AJ13<>"-",AJ13<>""),RAND(),"") | AM13: =IF(AND(AJ13<>0,AJ13<>""),RANK(AL13,$AL$1:INDIRECT("$AL$"&0+COUNTA(AJ$1:AJ$50)+1-COUNTBLANK(AJ$1:AJ$50))),"")
A14: =IF(ROW(A14)-4<=Procédure!$K$3,ROW(A14)-4,IF(ROW(A14)-(QUOTIENT(ROW(A14)-4,Procédure!$K$3)*Procédure!$K$3)-4<>0,ROW(A14)-(QUOTIENT(ROW(A14)-4,Procédure!$K$3)*Procédure!$K$3)-4,ROW(A14)-(QUOTIENT(ROW(A14)-4,Procédure!$K$3)*Procédure!$K$3)-4+Procédure!$K$3)) -> 10 | M14: =IF(ROW(M14)<=QUOTIENT(COUNTA($AJ$1:$AJ$50)-COUNTBLANK($AJ$1:$AJ$50),2)+MOD(COUNTA($AJ$1:$AJ$50)-COUNTBLANK($AJ$1:$AJ$50),2)+3,IF(ROW(M14)<>4,M13+2,1),"") | N14: =_xlfn.IFNA(INDEX($AJ$1:$AJ$50,MATCH(M14,$AM$1:$AM$50,0),1),"") | O14: =_xlfn.IFNA(INDEX($AK$1:$AK$50,MATCH(M14,$AM$1:$AM$50,0),1),"") | P14: =_xlfn.IFNA(INDEX(Équipe!$B$3:$B$52,MATCH(N14,Équipe!$A$3:$A$52,0),1),"") | Q14: =_xlfn.IFNA(INDEX(Équipe!$B$3:$B$52,MATCH(O14,Équipe!$A$3:$A$52,0),1),"") | R14: =_xlfn.IFNA(INDEX($AJ$1:$AJ$50,MATCH(V14,$AM$1:$AM$50,0),1),"") | S14: =_xlfn.IFNA(INDEX($AK$1:$AK$50,MATCH(V14,$AM$1:$AM$50,0),1),"") | T14: =_xlfn.IFNA(INDEX(Équipe!$B$3:$B$52,MATCH(R14,Équipe!$A$3:$A$52,0),1),"") | U14: =_xlfn.IFNA(INDEX(Équipe!$B$3:$B$52,MATCH(S14,Équipe!$A$3:$A$52,0),1),"") | V14: =IF(ROW(V14)<=QUOTIENT(COUNTA($AJ$1:$AJ$50)-COUNTBLANK($AJ$1:$AJ$50),2)+MOD(COUNTA($AJ$1:$AJ$50)-COUNTBLANK($AJ$1:$AJ$50),2)+3,M14+1,"") | X14: =IF(ROW(X14)<=QUOTIENT(COUNTA($AE$1:$AE$50)-COUNTBLANK($AE$1:$AE$50),2)+MOD(COUNTA($AE$1:$AE$50)-COUNTBLANK($AE$1:$AE$50),2)+2,IF(ROW(X14)<>3,X13+2,1),"") | Y14: =_xlfn.IFNA(INDEX($AE$1:$AE$50,MATCH(X14,$AG$1:$AG$50,0),1),"") | Z14: =_xlfn.IFNA(INDEX(Équipe!$B$3:$B$52,MATCH(Y14,Équipe!$A$3:$A$52,0),1),"") | AA14: =_xlfn.IFNA(INDEX($AE$1:$AE$50,MATCH(AC14,$AG$1:$AG$50,0),1),"") | AB14: =_xlfn.IFNA(INDEX(Équipe!$B$3:$B$52,MATCH(AA14,Équipe!$A$3:$A$52,0),1),"") | AC14: =IF(ROW(AC14)<=QUOTIENT(COUNTA($AE$1:$AE$50)-COUNTBLANK($AE$1:$AE$50),2)+MOD(COUNTA($AE$1:$AE$50)-COUNTBLANK($AE$1:$AE$50),2)+2,X14+1,"") | AE14: =IF(Équipe!B16<>0,Équipe!A16,"") | AF14: =IF(Équipe!B16<>0,RAND(),"") | AG14: =IF(Équipe!B16<>0,RANK(AF14,$AF$1:INDIRECT("$AF$"&0+COUNTA(AE$1:AE$50)+1-COUNTBLANK(AE$1:AE$50))),"") | AJ14: =IF(AND(Y16<>0,Y16<>""),Y16,"") | AK14: =IF(AND(AA16<>0,AA16<>""),AA16,"") | AL14: =IF(AND(AJ14<>"-",AJ14<>""),RAND(),"") | AM14: =IF(AND(AJ14<>0,AJ14<>""),RANK(AL14,$AL$1:INDIRECT("$AL$"&0+COUNTA(AJ$1:AJ$50)+1-COUNTBLANK(AJ$1:AJ$50))),"")
A15: =IF(ROW(A15)-4<=Procédure!$K$3,ROW(A15)-4,IF(ROW(A15)-(QUOTIENT(ROW(A15)-4,Procédure!$K$3)*Procédure!$K$3)-4<>0,ROW(A15)-(QUOTIENT(ROW(A15)-4,Procédure!$K$3)*Procédure!$K$3)-4,ROW(A15)-(QUOTIENT(ROW(A15)-4,Procédure!$K$3)*Procédure!$K$3)-4+Procédure!$K$3)) -> 11 | M15: =IF(ROW(M15)<=QUOTIENT(COUNTA($AJ$1:$AJ$50)-COUNTBLANK($AJ$1:$AJ$50),2)+MOD(COUNTA($AJ$1:$AJ$50)-COUNTBLANK($AJ$1:$AJ$50),2)+3,IF(ROW(M15)<>4,M14+2,1),"") | N15: =_xlfn.IFNA(INDEX($AJ$1:$AJ$50,MATCH(M15,$AM$1:$AM$50,0),1),"") | O15: =_xlfn.IFNA(INDEX($AK$1:$AK$50,MATCH(M15,$AM$1:$AM$50,0),1),"") | P15: =_xlfn.IFNA(INDEX(Équipe!$B$3:$B$52,MATCH(N15,Équipe!$A$3:$A$52,0),1),"") | Q15: =_xlfn.IFNA(INDEX(Équipe!$B$3:$B$52,MATCH(O15,Équipe!$A$3:$A$52,0),1),"") | R15: =_xlfn.IFNA(INDEX($AJ$1:$AJ$50,MATCH(V15,$AM$1:$AM$50,0),1),"") | S15: =_xlfn.IFNA(INDEX($AK$1:$AK$50,MATCH(V15,$AM$1:$AM$50,0),1),"") | T15: =_xlfn.IFNA(INDEX(Équipe!$B$3:$B$52,MATCH(R15,Équipe!$A$3:$A$52,0),1),"") | U15: =_xlfn.IFNA(INDEX(Équipe!$B$3:$B$52,MATCH(S15,Équipe!$A$3:$A$52,0),1),"") | V15: =IF(ROW(V15)<=QUOTIENT(COUNTA($AJ$1:$AJ$50)-COUNTBLANK($AJ$1:$AJ$50),2)+MOD(COUNTA($AJ$1:$AJ$50)-COUNTBLANK($AJ$1:$AJ$50),2)+3,M15+1,"") | X15: =IF(ROW(X15)<=QUOTIENT(COUNTA($AE$1:$AE$50)-COUNTBLANK($AE$1:$AE$50),2)+MOD(COUNTA($AE$1:$AE$50)-COUNTBLANK($AE$1:$AE$50),2)+2,IF(ROW(X15)<>3,X14+2,1),"") | Y15: =_xlfn.IFNA(INDEX($AE$1:$AE$50,MATCH(X15,$AG$1:$AG$50,0),1),"") | Z15: =_xlfn.IFNA(INDEX(Équipe!$B$3:$B$52,MATCH(Y15,Équipe!$A$3:$A$52,0),1),"") | AA15: =_xlfn.IFNA(INDEX($AE$1:$AE$50,MATCH(AC15,$AG$1:$AG$50,0),1),"") | AB15: =_xlfn.IFNA(INDEX(Équipe!$B$3:$B$52,MATCH(AA15,Équipe!$A$3:$A$52,0),1),"") | AC15: =IF(ROW(AC15)<=QUOTIENT(COUNTA($AE$1:$AE$50)-COUNTBLANK($AE$1:$AE$50),2)+MOD(COUNTA($AE$1:$AE$50)-COUNTBLANK($AE$1:$AE$50),2)+2,X15+1,"") | AE15: =IF(Équipe!B17<>0,Équipe!A17,"") | AF15: =IF(Équipe!B17<>0,RAND(),"") | AG15: =IF(Équipe!B17<>0,RANK(AF15,$AF$1:INDIRECT("$AF$"&0+COUNTA(AE$1:AE$50)+1-COUNTBLANK(AE$1:AE$50))),"") | AJ15: =IF(AND(Y17<>0,Y17<>""),Y17,"") | AK15: =IF(AND(AA17<>0,AA17<>""),AA17,"") | AL15: =IF(AND(AJ15<>"-",AJ15<>""),RAND(),"") | AM15: =IF(AND(AJ15<>0,AJ15<>""),RANK(AL15,$AL$1:INDIRECT("$AL$"&0+COUNTA(AJ$1:AJ$50)+1-COUNTBLANK(AJ$1:AJ$50))),"")
