Workbook

Sheet Procédure
A1: Procédures | J1: Nombre de parties gagnantes | K1: 3
A3: Seules les zones en jaune sont à éditer manuellement | J3: Nombre Terrains | K3: 15
B4: Feuille Équipe → nom des équipes
B5: Feuille Stats → nombre de mènes
B6: Feuilles Mènes → Opposition géré par la feuille Tirage au sort → Résultat des matchs
A8: Une exception peut avoir lieu sur la page Classement si 2 équipes finissent à égalité. Dans ce cas, en fonction des valeurs dans la page Classement, il peut être nécessaire d’éditer manuellement pour établir le classement final
A12: Création d’un tournoi
A14: 1 | B14: On renseigne le nom des équipes sur la feuille Équipe
A15: 2 | B15: On renseigne le nombre de mènes du tournoi sur la feuille Stats
A16: 3 | B16: On génère un tirage au sort sur la feuille Tirage au sort
A17: 4 | B17: On copie le tirage généré sur la feuille Mène correspondante En cas de doublon, le match apparait en rouge. Dans ce cas, on regénère un tirage ou on adapte manuellement
A18: 5 | B18: On rentre les scores des matchs, les tableaux se remplissent automatiquement
A19: 6 | B19: A la fin des mènes, on a le classement du tournoi sur la feuille Classement. En cas d’égalité, la ligne inférieure n’est pas remplie. On recherche sur la feuille Stats les équipes dont le classement correspond à la ligne au-dessus de celle vide L’équipe ayant marqué le plus de points passe devant. On corrige manuellement le tableau de la feuille Classement En cas d’égalité parfaite, les 2 équipes sont au même niveau
A20: 7 | B20: Si on veut faire des finales, les tableaux sont générés automatiquement sur la feuille Finales en fonction du classement

Sheet Équipe
A1: Équipe | C1: Partie 1 | H1: Partie 2 | M1: Partie 3 | R1: Partie 4 | W1: Partie 5 | AB1: Partie 6 | AG1: Partie 7
A2: N° | B2: Nom | C2: Part. | D2: Adv. 1 | E2: Adv. 2 | F2: Score | G2: Score Adv. | H2: Part. | I2: Adv. 1 | J2: Adv. 2 | K2: Score | L2: Score Adv. | M2: Part. | N2: Adv. 1 | O2: Adv. 2 | P2: Score | Q2: Score Adv. | R2: Part. | S2: Adv. 1 | T2: Adv. 2 | U2: Score | V2: Score Adv. | W2: Part. | X2: Adv. 1 | Y2: Adv. 2 | Z2: Score. | AA2: Score Ad. | AB2: Part. | AC2: Adv. 1 | AD2: Adv. 2 | AE2: Score. | AF2: Score Ad. | AG2: Part. | AH2: Adv. 1 | AI2: Adv. 2 | AJ2: Score. | AK2: Score Ad.
A3: 1 | C3: =SUM(_xlfn.IFNA(INDEX('Partie 1'!$C$5:$C$28,MATCH($A3,'Partie 1'!$B$5:$B$28,0),1),0) , _xlfn.IFNA(INDEX('Partie 1'!$B$5:$B$28,MATCH($A3,'Partie 1'!$C$5:$C$28,0),1),0),_xlfn.IFNA(INDEX('Partie 1'!$F$5:$F$28,MATCH($A3,'Partie 1'!$G$5:$G$28,0),1),0),_xlfn.IFNA(INDEX('Partie 1'!$G$5:$G$28,MATCH($A3,'Partie 1'!$F$5:$F$28,0),1),0)) -> 0 | D3: =SUM(_xlfn.IFNA(INDEX('Partie 1'!$F$5:$F$28,MATCH($A3,'Partie 1'!$B$5:$B$28,0),1),0) ,_xlfn.IFNA(INDEX('Partie 1'!$F$5:$F$28,MATCH($A3,'Partie 1'!$C$5:$C$28,0),1),0) , _xlfn.IFNA(INDEX('Partie 1'!$B$5:$B$28,MATCH($A3,'Partie 1'!$F$5:$F$28,0),1),0),_xlfn.IFNA(INDEX('Partie 1'!$B$5:$B$28,MATCH($A3,'Partie 1'!$G$5:$G$28,0),1),0)) -> 0 | E3: =SUM(_xlfn.IFNA(INDEX('Partie 1'!$G$5:$G$28,MATCH($A3,'Partie 1'!$B$5:$B$28,0),1),0) ,_xlfn.IFNA(INDEX('Partie 1'!$G$5:$G$28,MATCH($A3,'Partie 1'!$C$5:$C$28,0),1),0) , _xlfn.IFNA(INDEX('Partie 1'!$C$5:$C$28,MATCH($A3,'Partie 1'!$F$5:$F$28,0),1),0),_xlfn.IFNA(INDEX('Partie 1'!$C$5:$C$28,MATCH($A3,'Partie 1'!$G$5:$G$28,0),1),0)) -> 0 | F3: =SUM(_xlfn.IFNA(INDEX('Partie 1'!$J$5:$J$28,MATCH($A3,'Partie 1'!$B$5:$B$28,0),1),0) ,_xlfn.IFNA(INDEX('Partie 1'!$J$5:$J$28,MATCH($A3,'Partie 1'!$C$5:$C$28,0),1),0) , _xlfn.IFNA(INDEX('Partie 1'!$K$5:$K$28,MATCH($A3,'Partie 1'!$F$5:$F$28,0),1),0), _xlfn.IFNA(INDEX('Partie 1'!$K$5:$K$28,MATCH($A3,'Partie 1'!$G$5:$G$28,0),1),0)) -> 0 | G3: =SUM(_xlfn.IFNA(INDEX('Partie 1'!$K$5:$K$28,MATCH($A3,'Partie 1'!$B$5:$B$28,0),1),0) ,_xlfn.IFNA(INDEX('Partie 1'!$K$5:$K$28,MATCH($A3,'Partie 1'!$C$5:$C$28,0),1),0) , _xlfn.IFNA(INDEX('Partie 1'!$J$5:$J$28,MATCH($A3,'Partie 1'!$F$5:$F$28,0),1),0), _xlfn.IFNA(INDEX('Partie 1'!$J$5:$J$28,MATCH($A3,'Partie 1'!$G$5:$G$28,0),1),0)) -> 0 | H3: =SUM(_xlfn.IFNA(INDEX('Partie 2'!$C$5:$C$28,MATCH($A3,'Partie 2'!$B$5:$B$28,0),1),0) , _xlfn.IFNA(INDEX('Partie 2'!$B$5:$B$28,MATCH($A3,'Partie 2'!$C$5:$C$28,0),1),0),_xlfn.IFNA(INDEX('Partie 2'!$F$5:$F$28,MATCH($A3,'Partie 2'!$G$5:$G$28,0),1),0),_xlfn.IFNA(INDEX('Partie 2'!$G$5:$G$28,MATCH($A3,'Partie 2'!$F$5:$F$28,0),1),0)) -> 0 | I3: =SUM(_xlfn.IFNA(INDEX('Partie 2'!$F$5:$F$28,MATCH($A3,'Partie 2'!$B$5:$B$28,0),1),0) ,_xlfn.IFNA(INDEX('Partie 2'!$F$5:$F$28,MATCH($A3,'Partie 2'!$C$5:$C$28,0),1),0) , _xlfn.IFNA(INDEX('Partie 2'!$B$5:$B$28,MATCH($A3,'Partie 2'!$F$5:$F$28,0),1),0),_xlfn.IFNA(INDEX('Partie 2'!$B$5:$B$28,MATCH($A3,'Partie 2'!$G$5:$G$28,0),1),0)) -> 0 | J3: =SUM(_xlfn.IFNA(INDEX('Partie 2'!$G$5:$G$28,MATCH($A3,'Partie 2'!$B$5:$B$28,0),1),0) ,_xlfn.IFNA(INDEX('Partie 2'!$G$5:$G$28,MATCH($A3,'Partie 2'!$C$5:$C$28,0),1),0) , _xlfn.IFNA(INDEX('Partie 2'!$C$5:$C$28,MATCH($A3,'Partie 2'!$F$5:$F$28,0),1),0),_xlfn.IFNA(INDEX('Partie 2'!$C$5:$C$28,MATCH($A3,'Partie 2'!$G$5:$G$28,0),1),0)) -> 0 | K3: =SUM(_xlfn.IFNA(INDEX('Partie 2'!$J$5:$J$28,MATCH($A3,'Partie 2'!$B$5:$B$28,0),1),0) ,_xlfn.IFNA(INDEX('Partie 2'!$J$5:$J$28,MATCH($A3,'Partie 2'!$C$5:$C$28,0),1),0) , _xlfn.IFNA(INDEX('Partie 2'!$K$5:$K$28,MATCH($A3,'Partie 2'!$F$5:$F$28,0),1),0), _xlfn.IFNA(INDEX('Partie 2'!$K$5:$K$28,MATCH($A3,'Partie 2'!$G$5:$G$28,0),1),0)) -> 0 | L3: =SUM(_xlfn.IFNA(INDEX('Partie 2'!$K$5:$K$28,MATCH($A3,'Partie 2'!$B$5:$B$28,0),1),0) ,_xlfn.IFNA(INDEX('Partie 2'!$K$5:$K$28,MATCH($A3,'Partie 2'!$C$5:$C$28,0),1),0) , _xlfn.IFNA(INDEX('Partie 2'!$J$5:$J$28,MATCH($A3,'Partie 2'!$F$5:$F$28,0),1),0), _xlfn.IFNA(INDEX('Partie 2'!$J$5:$J$28,MATCH($A3,'Partie 2'!$G$5:$G$28,0),1),0)) -> 0 | M3: =SUM(_xlfn.IFNA(INDEX('Partie 3'!$C$5:$C$28,MATCH($A3,'Partie 3'!$B$5:$B$28,0),1),0) , _xlfn.IFNA(INDEX('Partie 3'!$B$5:$B$28,MATCH($A3,'Partie 3'!$C$5:$C$28,0),1),0),_xlfn.IFNA(INDEX('Partie 3'!$F$5:$F$28,MATCH($A3,'Partie 3'!$G$5:$G$28,0),1),0),_xlfn.IFNA(INDEX('Partie 3'!$G$5:$G$28,MATCH($A3,'Partie 3'!$F$5:$F$28,0),1),0)) -> 0 | N3: =SUM(_xlfn.IFNA(INDEX('Partie 3'!$F$5:$F$28,MATCH($A3,'Partie 3'!$B$5:$B$28,0),1),0) ,_xlfn.IFNA(INDEX('Partie 3'!$F$5:$F$28,MATCH($A3,'Partie 3'!$C$5:$C$28,0),1),0) , _xlfn.IFNA(INDEX('Partie 3'!$B$5:$B$28,MATCH($A3,'Partie 3'!$F$5:$F$28,0),1),0),_xlfn.IFNA(INDEX('Partie 3'!$B$5:$B$28,MATCH($A3,'Partie 3'!$G$5:$G$28,0),1),0)) -> 0 | O3: =SUM(_xlfn.IFNA(INDEX('Partie 3'!$G$5:$G$28,MATCH($A3,'Partie 3'!$B$5:$B$28,0),1),0) ,_xlfn.IFNA(INDEX('Partie 3'!$G$5:$G$28,MATCH($A3,'Partie 3'!$C$5:$C$28,0),1),0) , _xlfn.IFNA(INDEX('Partie 3'!$C$5:$C$28,MATCH($A3,'Partie 3'!$F$5:$F$28,0),1),0),_xlfn.IFNA(INDEX('Partie 3'!$C$5:$C$28,MATCH($A3,'Partie 3'!$G$5:$G$28,0),1),0)) -> 0 | P3: =SUM(_xlfn.IFNA(INDEX('Partie 3'!$J$5:$J$28,MATCH($A3,'Partie 3'!$B$5:$B$28,0),1),0) ,_xlfn.IFNA(INDEX('Partie 3'!$J$5:$J$28,MATCH($A3,'Partie 3'!$C$5:$C$28,0),1),0) , _xlfn.IFNA(INDEX('Partie 3'!$K$5:$K$28,MATCH($A3,'Partie 3'!$F$5:$F$28,0),1),0), _xlfn.IFNA(INDEX('Partie 3'!$K$5:$K$28,MATCH($A3,'Partie 3'!$G$5:$G$28,0),1),0)) -> 0 | Q3: =SUM(_xlfn.IFNA(INDEX('Partie 3'!$K$5:$K$28,MATCH($A3,'Partie 3'!$B$5:$B$28,0),1),0) ,_xlfn.IFNA(INDEX('Partie 3'!$K$5:$K$28,MATCH($A3,'Partie 3'!$C$5:$C$28,0),1),0) , _xlfn.IFNA(INDEX('Partie 3'!$J$5:$J$28,MATCH($A3,'Partie 3'!$F$5:$F$28,0),1),0), _xlfn.IFNA(INDEX('Partie 3'!$J$5:$J$28,MATCH($A3,'Partie 3'!$G$5:$G$28,0),1),0)) -> 0 | R3: =SUM(_xlfn.IFNA(INDEX('Partie 4'!$C$5:$C$28,MATCH($A3,'Partie 4'!$B$5:$B$28,0),1),0) , _xlfn.IFNA(INDEX('Partie 4'!$B$5:$B$28,MATCH($A3,'Partie 4'!$C$5:$C$28,0),1),0),_xlfn.IFNA(INDEX('Partie 4'!$F$5:$F$28,MATCH($A3,'Partie 4'!$G$5:$G$28,0),1),0),_xlfn.IFNA(INDEX('Partie 4'!$G$5:$G$28,MATCH($A3,'Partie 4'!$F$5:$F$28,0),1),0)) -> 0 | S3: =SUM(_xlfn.IFNA(INDEX('Partie 4'!$F$5:$F$28,MATCH($A3,'Partie 4'!$B$5:$B$28,0),1),0) ,_xlfn.IFNA(INDEX('Partie 4'!$F$5:$F$28,MATCH($A3,'Partie 4'!$C$5:$C$28,0),1),0) , _xlfn.IFNA(INDEX('Partie 4'!$B$5:$B$28,MATCH($A3,'Partie 4'!$F$5:$F$28,0),1),0),_xlfn.IFNA(INDEX('Partie 4'!$B$5:$B$28,MATCH($A3,'Partie 4'!$G$5:$G$28,0),1),0)) -> 0 | T3: =SUM(_xlfn.IFNA(INDEX('Partie 4'!$G$5:$G$28,MATCH($A3,'Partie 4'!$B$5:$B$28,0),1),0) ,_xlfn.IFNA(INDEX('Partie 4'!$G$5:$G$28,MATCH($A3,'Partie 4'!$C$5:$C$28,0),1),0) , _xlfn.IFNA(INDEX('Partie 4'!$C$5:$C$28,MATCH($A3,'Partie 4'!$F$5:$F$28,0),1),0),_xlfn.IFNA(INDEX('Partie 4'!$C$5:$C$28,MATCH($A3,'Partie 4'!$G$5:$G$28,0),1),0)) -> 0 | U3: =SUM(_xlfn.IFNA(INDEX('Partie 4'!$J$5:$J$28,MATCH($A3,'Partie 4'!$B$5:$B$28,0),1),0) ,_xlfn.IFNA(INDEX('Partie 4'!$J$5:$J$28,MATCH($A3,'Partie 4'!$C$5:$C$28,0),1),0) , _xlfn.IFNA(INDEX('Partie 4'!$K$5:$K$28,MATCH($A3,'Partie 4'!$F$5:$F$28,0),1),0), _xlfn.IFNA(INDEX('Partie 4'!$K$5:$K$28,MATCH($A3,'Partie 4'!$G$5:$G$28,0),1),0)) -> 0 | V3: =SUM(_xlfn.IFNA(INDEX('Partie 4'!$K$5:$K$28,MATCH($A3,'Partie 4'!$B$5:$B$28,0),1),0) ,_xlfn.IFNA(INDEX('Partie 4'!$K$5:$K$28,MATCH($A3,'Partie 4'!$C$5:$C$28,0),1),0) , _xlfn.IFNA(INDEX('Partie 4'!$J$5:$J$28,MATCH($A3,'Partie 4'!$F$5:$F$28,0),1),0), _xlfn.IFNA(INDEX('Partie 4'!$J$5:$J$28,MATCH($A3,'Partie 4'!$G$5:$G$28,0),1),0)) -> 0 | W3: =SUM(_xlfn.IFNA(INDEX('Partie 5'!$C$5:$C$28,MATCH($A3,'Partie 5'!$B$5:$B$28,0),1),0) , _xlfn.IFNA(INDEX('Partie 5'!$B$5:$B$28,MATCH($A3,'Partie 5'!$C$5:$C$28,0),1),0),_xlfn.IFNA(INDEX('Partie 5'!$F$5:$F$28,MATCH($A3,'Partie 5'!$G$5:$G$28,0),1),0),_xlfn.IFNA(INDEX('Partie 5'!$G$5:$G$28,MATCH($A3,'Partie 5'!$F$5:$F$28,0),1),0)) -> 0 | X3: =SUM(_xlfn.IFNA(INDEX('Partie 5'!$F$5:$F$28,MATCH($A3,'Partie 5'!$B$5:$B$28,0),1),0) ,_xlfn.IFNA(INDEX('Partie 5'!$F$5:$F$28,MATCH($A3,'Partie 5'!$C$5:$C$28,0),1),0) , _xlfn.IFNA(INDEX('Partie 5'!$B$5:$B$28,MATCH($A3,'Partie 5'!$F$5:$F$28,0),1),0),_xlfn.IFNA(INDEX('Partie 5'!$B$5:$B$28,MATCH($A3,'Partie 5'!$G$5:$G$28,0),1),0)) -> 0 | Y3: =SUM(_xlfn.IFNA(INDEX('Partie 5'!$G$5:$G$28,MATCH($A3,'Partie 5'!$B$5:$B$28,0),1),0) ,_xlfn.IFNA(INDEX('Partie 5'!$G$5:$G$28,MATCH($A3,'Partie 5'!$C$5:$C$28,0),1),0) , _xlfn.IFNA(INDEX('Partie 5'!$C$5:$C$28,MATCH($A3,'Partie 5'!$F$5:$F$28,0),1),0),_xlfn.IFNA(INDEX('Partie 5'!$C$5:$C$28,MATCH($A3,'Partie 5'!$G$5:$G$28,0),1),0)) -> 0 | Z3: =SUM(_xlfn.IFNA(INDEX('Partie 5'!$J$5:$J$28,MATCH($A3,'Partie 5'!$B$5:$B$28,0),1),0) ,_xlfn.IFNA(INDEX('Partie 5'!$J$5:$J$28,MATCH($A3,'Partie 5'!$C$5:$C$28,0),1),0) , _xlfn.IFNA(INDEX('Partie 5'!$K$5:$K$28,MATCH($A3,'Partie 5'!$F$5:$F$28,0),1),0), _xlfn.IFNA(INDEX('Partie 5'!$K$5:$K$28,MATCH($A3,'Partie 5'!$G$5:$G$28,0),1),0)) -> 0 | AA3: =SUM(_xlfn.IFNA(INDEX('Partie 5'!$K$5:$K$28,MATCH($A3,'Partie 5'!$B$5:$B$28,0),1),0) ,_xlfn.IFNA(INDEX('Partie 5'!$K$5:$K$28,MATCH($A3,'Partie 5'!$C$5:$C$28,0),1),0) , _xlfn.IFNA(INDEX('Partie 5'!$J$5:$J$28,MATCH($A3,'Partie 5'!$F$5:$F$28,0),1),0), _xlfn.IFNA(INDEX('Partie 5'!$J$5:$J$28,MATCH($A3,'Partie 5'!$G$5:$G$28,0),1),0)) -> 0 | AB3: =SUM(_xlfn.IFNA(INDEX('Partie 6'!$C$5:$C$28,MATCH($A3,'Partie 6'!$B$5:$B$28,0),1),0) , _xlfn.IFNA(INDEX('Partie 6'!$B$5:$B$28,MATCH($A3,'Partie 6'!$C$5:$C$28,0),1),0),_xlfn.IFNA(INDEX('Partie 6'!$F$5:$F$28,MATCH($A3,'Partie 6'!$G$5:$G$28,0),1),0),_xlfn.IFNA(INDEX('Partie 6'!$G$5:$G$28,MATCH($A3,'Partie 6'!$F$5:$F$28,0),1),0)) -> 0 | AC3: =SUM(_xlfn.IFNA(INDEX('Partie 6'!$F$5:$F$28,MATCH($A3,'Partie 6'!$B$5:$B$28,0),1),0) ,_xlfn.IFNA(INDEX('Partie 6'!$F$5:$F$28,MATCH($A3,'Partie 6'!$C$5:$C$28,0),1),0) , _xlfn.IFNA(INDEX('Partie 6'!$B$5:$B$28,MATCH($A3,'Partie 6'!$F$5:$F$28,0),1),0),_xlfn.IFNA(INDEX('Partie 6'!$B$5:$B$28,MATCH($A3,'Partie 6'!$G$5:$G$28,0),1),0)) -> 0 | AD3: =SUM(_xlfn.IFNA(INDEX('Partie 6'!$G$5:$G$28,MATCH($A3,'Partie 6'!$B$5:$B$28,0),1),0) ,_xlfn.IFNA(INDEX('Partie 6'!$G$5:$G$28,MATCH($A3,'Partie 6'!$C$5:$C$28,0),1),0) , _xlfn.IFNA(INDEX('Partie 6'!$C$5:$C$28,MATCH($A3,'Partie 6'!$F$5:$F$28,0),1),0),_xlfn.IFNA(INDEX('Partie 6'!$C$5:$C$28,MATCH($A3,'Partie 6'!$G$5:$G$28,0),1),0)) -> 0 | AE3: =SUM(_xlfn.IFNA(INDEX('Partie 6'!$J$5:$J$28,MATCH($A3,'Partie 6'!$B$5:$B$28,0),1),0) ,_xlfn.IFNA(INDEX('Partie 6'!$J$5:$J$28,MATCH($A3,'Partie 6'!$C$5:$C$28,0),1),0) , _xlfn.IFNA(INDEX('Partie 6'!$K$5:$K$28,MATCH($A3,'Partie 6'!$F$5:$F$28,0),1),0), _xlfn.IFNA(INDEX('Partie 6'!$K$5:$K$28,MATCH($A3,'Partie 6'!$G$5:$G$28,0),1),0)) -> 0 | AF3: =SUM(_xlfn.IFNA(INDEX('Partie 6'!$K$5:$K$28,MATCH($A3,'Partie 6'!$B$5:$B$28,0),1),0) ,_xlfn.IFNA(INDEX('Partie 6'!$K$5:$K$28,MATCH($A3,'Partie 6'!$C$5:$C$28,0),1),0) , _xlfn.IFNA(INDEX('Partie 6'!$J$5:$J$28,MATCH($A3,'Partie 6'!$F$5:$F$28,0),1),0), _xlfn.IFNA(INDEX('Partie 6'!$J$5:$J$28,MATCH($A3,'Partie 6'!$G$5:$G$28,0),1),0)) -> 0 | AG3: =SUM(_xlfn.IFNA(INDEX('Partie 7'!$C$5:$C$28,MATCH($A3,'Partie 7'!$B$5:$B$28,0),1),0) , _xlfn.IFNA(INDEX('Partie 7'!$B$5:$B$28,MATCH($A3,'Partie 7'!$C$5:$C$28,0),1),0),_xlfn.IFNA(INDEX('Partie 7'!$F$5:$F$28,MATCH($A3,'Partie 7'!$G$5:$G$28,0),1),0),_xlfn.IFNA(INDEX('Partie 7'!$G$5:$G$28,MATCH($A3,'Partie 7'!$F$5:$F$28,0),1),0)) -> 0 | AH3: =SUM(_xlfn.IFNA(INDEX('Partie 7'!$F$5:$F$28,MATCH($A3,'Partie 7'!$B$5:$B$28,0),1),0) ,_xlfn.IFNA(INDEX('Partie 7'!$F$5:$F$28,MATCH($A3,'Partie 7'!$C$5:$C$28,0),1),0) , _xlfn.IFNA(INDEX('Partie 7'!$B$5:$B$28,MATCH($A3,'Partie 7'!$F$5:$F$28,0),1),0),_xlfn.IFNA(INDEX('Partie 7'!$B$5:$B$28,MATCH($A3,'Partie 7'!$G$5:$G$28,0),1),0)) -> 0 | AI3: =SUM(_xlfn.IFNA(INDEX('Partie 7'!$G$5:$G$28,MATCH($A3,'Partie 7'!$B$5:$B$28,0),1),0) ,_xlfn.IFNA(INDEX('Partie 7'!$G$5:$G$28,MATCH($A3,'Partie 7'!$C$5:$C$28,0),1),0) , _xlfn.IFNA(INDEX('Partie 7'!$C$5:$C$28,MATCH($A3,'Partie 7'!$F$5:$F$28,0),1),0),_xlfn.IFNA(INDEX('Partie 7'!$C$5:$C$28,MATCH($A3,'Partie 7'!$G$5:$G$28,0),1),0)) -> 0 | AJ3: =SUM(_xlfn.IFNA(INDEX('Partie 7'!$J$5:$J$28,MATCH($A3,'Partie 7'!$B$5:$B$28,0),1),0) ,_xlfn.IFNA(INDEX('Partie 7'!$J$5:$J$28,MATCH($A3,'Partie 7'!$C$5:$C$28,0),1),0) , _xlfn.IFNA(INDEX('Partie 7'!$K$5:$K$28,MATCH($A3,'Partie 7'!$F$5:$F$28,0),1),0), _xlfn.IFNA(INDEX('Partie 7'!$K$5:$K$28,MATCH($A3,'Partie 7'!$G$5:$G$28,0),1),0)) -> 0 | AK3: =SUM(_xlfn.IFNA(INDEX('Partie 7'!$K$5:$K$28,MATCH($A3,'Partie 7'!$B$5:$B$28,0),1),0) ,_xlfn.IFNA(INDEX('Partie 7'!$K$5:$K$28,MATCH($A3,'Partie 7'!$C$5:$C$28,0),1),0) , _xlfn.IFNA(INDEX('Partie 7'!$J$5:$J$28,MATCH($A3,'Partie 7'!$F$5:$F$28,0),1),0), _xlfn.IFNA(INDEX('Partie 7'!$J$5:$J$28,MATCH($A3,'Partie 7'!$G$5:$G$28,0),1),0)) -> 0
A4: 2 | C4: =SUM(_xlfn.IFNA(INDEX('Partie 1'!$C$5:$C$28,MATCH($A4,'Partie 1'!$B$5:$B$28,0),1),0) , _xlfn.IFNA(INDEX('Partie 1'!$B$5:$B$28,MATCH($A4,'Partie 1'!$C$5:$C$28,0),1),0),_xlfn.IFNA(INDEX('Partie 1'!$F$5:$F$28,MATCH($A4,'Partie 1'!$G$5:$G$28,0),1),0),_xlfn.IFNA(INDEX('Partie 1'!$G$5:$G$28,MATCH($A4,'Partie 1'!$F$5:$F$28,0),1),0)) -> 0 | D4: =SUM(_xlfn.IFNA(INDEX('Partie 1'!$F$5:$F$28,MATCH($A4,'Partie 1'!$B$5:$B$28,0),1),0) ,_xlfn.IFNA(INDEX('Partie 1'!$F$5:$F$28,MATCH($A4,'Partie 1'!$C$5:$C$28,0),1),0) , _xlfn.IFNA(INDEX('Partie 1'!$B$5:$B$28,MATCH($A4,'Partie 1'!$F$5:$F$28,0),1),0),_xlfn.IFNA(INDEX('Partie 1'!$B$5:$B$28,MATCH($A4,'Partie 1'!$G$5:$G$28,0),1),0)) -> 0 | E4: =SUM(_xlfn.IFNA(INDEX('Partie 1'!$G$5:$G$28,MATCH($A4,'Partie 1'!$B$5:$B$28,0),1),0) ,_xlfn.IFNA(INDEX('Partie 1'!$G$5:$G$28,MATCH($A4,'Partie 1'!$C$5:$C$28,0),1),0) , _xlfn.IFNA(INDEX('Partie 1'!$C$5:$C$28,MATCH($A4,'Partie 1'!$F$5:$F$28,0),1),0),_xlfn.IFNA(INDEX('Partie 1'!$C$5:$C$28,MATCH($A4,'Partie 1'!$G$5:$G$28,0),1),0)) -> 0 | F4: =SUM(_xlfn.IFNA(INDEX('Partie 1'!$J$5:$J$28,MATCH($A4,'Partie 1'!$B$5:$B$28,0),1),0) ,_xlfn.IFNA(INDEX('Partie 1'!$J$5:$J$28,MATCH($A4,'Partie 1'!$C$5:$C$28,0),1),0) , _xlfn.IFNA(INDEX('Partie 1'!$K$5:$K$28,MATCH($A4,'Partie 1'!$F$5:$F$28,0),1),0), _xlfn.IFNA(INDEX('Partie 1'!$K$5:$K$28,MATCH($A4,'Partie 1'!$G$5:$G$28,0),1),0)) -> 0 | G4: =SUM(_xlfn.IFNA(INDEX('Partie 1'!$K$5:$K$28,MATCH($A4,'Partie 1'!$B$5:$B$28,0),1),0) ,_xlfn.IFNA(INDEX('Partie 1'!$K$5:$K$28,MATCH($A4,'Partie 1'!$C$5:$C$28,0),1),0) , _xlfn.IFNA(INDEX('Partie 1'!$J$5:$J$28,MATCH($A4,'Partie 1'!$F$5:$F$28,0),1),0), _xlfn.IFNA(INDEX('Partie 1'!$J$5:$J$28,MATCH($A4,'Partie 1'!$G$5:$G$28,0),1),0)) -> 0 | H4: =SUM(_xlfn.IFNA(INDEX('Partie 2'!$C$5:$C$28,MATCH($A4,'Partie 2'!$B$5:$B$28,0),1),0) , _xlfn.IFNA(INDEX('Partie 2'!$B$5:$B$28,MATCH($A4,'Partie 2'!$C$5:$C$28,0),1),0),_xlfn.IFNA(INDEX('Partie 2'!$F$5:$F$28,MATCH($A4,'Partie 2'!$G$5:$G$28,0),1),0),_xlfn.IFNA(INDEX('Partie 2'!$G$5:$G$28,MATCH($A4,'Partie 2'!$F$5:$F$28,0),1),0)) -> 0 | I4: =SUM(_xlfn.IFNA(INDEX('Partie 2'!$F$5:$F$28,MATCH($A4,'Partie 2'!$B$5:$B$28,0),1),0) ,_xlfn.IFNA(INDEX('Partie 2'!$F$5:$F$28,MATCH($A4,'Partie 2'!$C$5:$C$28,0),1),0) , _xlfn.IFNA(INDEX('Partie 2'!$B$5:$B$28,MATCH($A4,'Partie 2'!$F$5:$F$28,0),1),0),_xlfn.IFNA(INDEX('Partie 2'!$B$5:$B$28,MATCH($A4,'Partie 2'!$G$5:$G$28,0),1),0)) -> 0 | J4: =SUM(_xlfn.IFNA(INDEX('Partie 2'!$G$5:$G$28,MATCH($A4,'Partie 2'!$B$5:$B$28,0),1),0) ,_xlfn.IFNA(INDEX('Partie 2'!$G$5:$G$28,MATCH($A4,'Partie 2'!$C$5:$C$28,0),1),0) , _xlfn.IFNA(INDEX('Partie 2'!$C$5:$C$28,MATCH($A4,'Partie 2'!$F$5:$F$28,0),1),0),_xlfn.IFNA(INDEX('Partie 2'!$C$5:$C$28,MATCH($A4,'Partie 2'!$G$5:$G$28,0),1),0)) -> 0 | K4: =SUM(_xlfn.IFNA(INDEX('Partie 2'!$J$5:$J$28,MATCH($A4,'Partie 2'!$B$5:$B$28,0),1),0) ,_xlfn.IFNA(INDEX('Partie 2'!$J$5:$J$28,MATCH($A4,'Partie 2'!$C$5:$C$28,0),1),0) , _xlfn.IFNA(INDEX('Partie 2'!$K$5:$K$28,MATCH($A4,'Partie 2'!$F$5:$F$28,0),1),0), _xlfn.IFNA(INDEX('Partie 2'!$K$5:$K$28,MATCH($A4,'Partie 2'!$G$5:$G$28,0),1),0)) -> 0 | L4: =SUM(_xlfn.IFNA(INDEX('Partie 2'!$K$5:$K$28,MATCH($A4,'Partie 2'!$B$5:$B$28,0),1),0) ,_xlfn.IFNA(INDEX('Partie 2'!$K$5:$K$28,MATCH($A4,'Partie 2'!$C$5:$C$28,0),1),0) , _xlfn.IFNA(INDEX('Partie 2'!$J$5:$J$28,MATCH($A4,'Partie 2'!$F$5:$F$28,0),1),0), _xlfn.IFNA(INDEX('Partie 2'!$J$5:$J$28,MATCH($A4,'Partie 2'!$G$5:$G$28,0),1),0)) -> 0 | M4: =SUM(_xlfn.IFNA(INDEX('Partie 3'!$C$5:$C$28,MATCH($A4,'Partie 3'!$B$5:$B$28,0),1),0) , _xlfn.IFNA(INDEX('Partie 3'!$B$5:$B$28,MATCH($A4,'Partie 3'!$C$5:$C$28,0),1),0),_xlfn.IFNA(INDEX('Partie 3'!$F$5:$F$28,MATCH($A4,'Partie 3'!$G$5:$G$28,0),1),0),_xlfn.IFNA(INDEX('Partie 3'!$G$5:$G$28,MATCH($A4,'Partie 3'!$F$5:$F$28,0),1),0)) -> 0 | N4: =SUM(_xlfn.IFNA(INDEX('Partie 3'!$F$5:$F$28,MATCH($A4,'Partie 3'!$B$5:$B$28,0),1),0) ,_xlfn.IFNA(INDEX('Partie 3'!$F$5:$F$28,MATCH($A4,'Partie 3'!$C$5:$C$28,0),1),0) , _xlfn.IFNA(INDEX('Partie 3'!$B$5:$B$28,MATCH($A4,'Partie 3'!$F$5:$F$28,0),1),0),_xlfn.IFNA(INDEX('Partie 3'!$B$5:$B$28,MATCH($A4,'Partie 3'!$G$5:$G$28,0),1),0)) -> 0 | O4: =SUM(_xlfn.IFNA(INDEX('Partie 3'!$G$5:$G$28,MATCH($A4,'Partie 3'!$B$5:$B$28,0),1),0) ,_xlfn.IFNA(INDEX('Partie 3'!$G$5:$G$28,MATCH($A4,'Partie 3'!$C$5:$C$28,0),1),0) , _xlfn.IFNA(INDEX('Partie 3'!$C$5:$C$28,MATCH($A4,'Partie 3'!$F$5:$F$28,0),1),0),_xlfn.IFNA(INDEX('Partie 3'!$C$5:$C$28,MATCH($A4,'Partie 3'!$G$5:$G$28,0),1),0)) -> 0 | P4: =SUM(_xlfn.IFNA(INDEX('Partie 3'!$J$5:$J$28,MATCH($A4,'Partie 3'!$B$5:$B$28,0),1),0) ,_xlfn.IFNA(INDEX('Partie 3'!$J$5:$J$28,MATCH($A4,'Partie 3'!$C$5:$C$28,0),1),0) , _xlfn.IFNA(INDEX('Partie 3'!$K$5:$K$28,MATCH($A4,'Partie 3'!$F$5:$F$28,0),1),0), _xlfn.IFNA(INDEX('Partie 3'!$K$5:$K$28,MATCH($A4,'Partie 3'!$G$5:$G$28,0),1),0)) -> 0 | Q4: =SUM(_xlfn.IFNA(INDEX('Partie 3'!$K$5:$K$28,MATCH($A4,'Partie 3'!$B$5:$B$28,0),1),0) ,_xlfn.IFNA(INDEX('Partie 3'!$K$5:$K$28,MATCH($A4,'Partie 3'!$C$5:$C$28,0),1),0) , _xlfn.IFNA(INDEX('Partie 3'!$J$5:$J$28,MATCH($A4,'Partie 3'!$F$5:$F$28,0),1),0), _xlfn.IFNA(INDEX('Partie 3'!$J$5:$J$28,MATCH($A4,'Partie 3'!$G$5:$G$28,0),1),0)) -> 0 | R4: =SUM(_xlfn.IFNA(INDEX('Partie 4'!$C$5:$C$28,MATCH($A4,'Partie 4'!$B$5:$B$28,0),1),0) , _xlfn.IFNA(INDEX('Partie 4'!$B$5:$B$28,MATCH($A4,'Partie 4'!$C$5:$C$28,0),1),0),_xlfn.IFNA(INDEX('Partie 4'!$F$5:$F$28,MATCH($A4,'Partie 4'!$G$5:$G$28,0),1),0),_xlfn.IFNA(INDEX('Partie 4'!$G$5:$G$28,MATCH($A4,'Partie 4'!$F$5:$F$28,0),1),0)) -> 0 | S4: =SUM(_xlfn.IFNA(INDEX('Partie 4'!$F$5:$F$28,MATCH($A4,'Partie 4'!$B$5:$B$28,0),1),0) ,_xlfn.IFNA(INDEX('Partie 4'!$F$5:$F$28,MATCH($A4,'Partie 4'!$C$5:$C$28,0),1),0) , _xlfn.IFNA(INDEX('Partie 4'!$B$5:$B$28,MATCH($A4,'Partie 4'!$F$5:$F$28,0),1),0),_xlfn.IFNA(INDEX('Partie 4'!$B$5:$B$28,MATCH($A4,'Partie 4'!$G$5:$G$28,0),1),0)) -> 0 | T4: =SUM(_xlfn.IFNA(INDEX('Partie 4'!$G$5:$G$28,MATCH($A4,'Partie 4'!$B$5:$B$28,0),1),0) ,_xlfn.IFNA(INDEX('Partie 4'!$G$5:$G$28,MATCH($A4,'Partie 4'!$C$5:$C$28,0),1),0) , _xlfn.IFNA(INDEX('Partie 4'!$C$5:$C$28,MATCH($A4,'Partie 4'!$F$5:$F$28,0),1),0),_xlfn.IFNA(INDEX('Partie 4'!$C$5:$C$28,MATCH($A4,'Partie 4'!$G$5:$G$28,0),1),0)) -> 0 | U4: =SUM(_xlfn.IFNA(INDEX('Partie 4'!$J$5:$J$28,MATCH($A4,'Partie 4'!$B$5:$B$28,0),1),0) ,_xlfn.IFNA(INDEX('Partie 4'!$J$5:$J$28,MATCH($A4,'Partie 4'!$C$5:$C$28,0),1),0) , _xlfn.IFNA(INDEX('Partie 4'!$K$5:$K$28,MATCH($A4,'Partie 4'!$F$5:$F$28,0),1),0), _xlfn.IFNA(INDEX('Partie 4'!$K$5:$K$28,MATCH($A4,'Partie 4'!$G$5:$G$28,0),1),0)) -> 0 | V4: =SUM(_xlfn.IFNA(INDEX('Partie 4'!$K$5:$K$28,MATCH($A4,'Partie 4'!$B$5:$B$28,0),1),0) ,_xlfn.IFNA(INDEX('Partie 4'!$K$5:$K$28,MATCH($A4,'Partie 4'!$C$5:$C$28,0),1),0) , _xlfn.IFNA(INDEX('Partie 4'!$J$5:$J$28,MATCH($A4,'Partie 4'!$F$5:$F$28,0),1),0), _xlfn.IFNA(INDEX('Partie 4'!$J$5:$J$28,MATCH($A4,'Partie 4'!$G$5:$G$28,0),1),0)) -> 0 | W4: =SUM(_xlfn.IFNA(INDEX('Partie 5'!$C$5:$C$28,MATCH($A4,'Partie 5'!$B$5:$B$28,0),1),0) , _xlfn.IFNA(INDEX('Partie 5'!$B$5:$B$28,MATCH($A4,'Partie 5'!$C$5:$C$28,0),1),0),_xlfn.IFNA(INDEX('Partie 5'!$F$5:$F$28,MATCH($A4,'Partie 5'!$G$5:$G$28,0),1),0),_xlfn.IFNA(INDEX('Partie 5'!$G$5:$G$28,MATCH($A4,'Partie 5'!$F$5:$F$28,0),1),0)) -> 0 | X4: =SUM(_xlfn.IFNA(INDEX('Partie 5'!$F$5:$F$28,MATCH($A4,'Partie 5'!$B$5:$B$28,0),1),0) ,_xlfn.IFNA(INDEX('Partie 5'!$F$5:$F$28,MATCH($A4,'Partie 5'!$C$5:$C$28,0),1),0) , _xlfn.IFNA(INDEX('Partie 5'!$B$5:$B$28,MATCH($A4,'Partie 5'!$F$5:$F$28,0),1),0),_xlfn.IFNA(INDEX('Partie 5'!$B$5:$B$28,MATCH($A4,'Partie 5'!$G$5:$G$28,0),1),0)) -> 0 | Y4: =SUM(_xlfn.IFNA(INDEX('Partie 5'!$G$5:$G$28,MATCH($A4,'Partie 5'!$B$5:$B$28,0),1),0) ,_xlfn.IFNA(INDEX('Partie 5'!$G$5:$G$28,MATCH($A4,'Partie 5'!$C$5:$C$28,0),1),0) , _xlfn.IFNA(INDEX('Partie 5'!$C$5:$C$28,MATCH($A4,'Partie 5'!$F$5:$F$28,0),1),0),_xlfn.IFNA(INDEX('Partie 5'!$C$5:$C$28,MATCH($A4,'Partie 5'!$G$5:$G$28,0),1),0)) -> 0 | Z4: =SUM(_xlfn.IFNA(INDEX('Partie 5'!$J$5:$J$28,MATCH($A4,'Partie 5'!$B$5:$B$28,0),1),0) ,_xlfn.IFNA(INDEX('Partie 5'!$J$5:$J$28,MATCH($A4,'Partie 5'!$C$5:$C$28,0),1),0) , _xlfn.IFNA(INDEX('Partie 5'!$K$5:$K$28,MATCH($A4,'Partie 5'!$F$5:$F$28,0),1),0), _xlfn.IFNA(INDEX('Partie 5'!$K$5:$K$28,MATCH($A4,'Partie 5'!$G$5:$G$28,0),1),0)) -> 0 | AA4: =SUM(_xlfn.IFNA(INDEX('Partie 5'!$K$5:$K$28,MATCH($A4,'Partie 5'!$B$5:$B$28,0),1),0) ,_xlfn.IFNA(INDEX('Partie 5'!$K$5:$K$28,MATCH($A4,'Partie 5'!$C$5:$C$28,0),1),0) , _xlfn.IFNA(INDEX('Partie 5'!$J$5:$J$28,MATCH($A4,'Partie 5'!$F$5:$F$28,0),1),0), _xlfn.IFNA(INDEX('Partie 5'!$J$5:$J$28,MATCH($A4,'Partie 5'!$G$5:$G$28,0),1),0)) -> 0 | AB4: =SUM(_xlfn.IFNA(INDEX('Partie 6'!$C$5:$C$28,MATCH($A4,'Partie 6'!$B$5:$B$28,0),1),0) , _xlfn.IFNA(INDEX('Partie 6'!$B$5:$B$28,MATCH($A4,'Partie 6'!$C$5:$C$28,0),1),0),_xlfn.IFNA(INDEX('Partie 6'!$F$5:$F$28,MATCH($A4,'Partie 6'!$G$5:$G$28,0),1),0),_xlfn.IFNA(INDEX('Partie 6'!$G$5:$G$28,MATCH($A4,'Partie 6'!$F$5:$F$28,0),1),0)) -> 0 | AC4: =SUM(_xlfn.IFNA(INDEX('Partie 6'!$F$5:$F$28,MATCH($A4,'Partie 6'!$B$5:$B$28,0),1),0) ,_xlfn.IFNA(INDEX('Partie 6'!$F$5:$F$28,MATCH($A4,'Partie 6'!$C$5:$C$28,0),1),0) , _xlfn.IFNA(INDEX('Partie 6'!$B$5:$B$28,MATCH($A4,'Partie 6'!$F$5:$F$28,0),1),0),_xlfn.IFNA(INDEX('Partie 6'!$B$5:$B$28,MATCH($A4,'Partie 6'!$G$5:$G$28,0),1),0)) -> 0 | AD4: =SUM(_xlfn.IFNA(INDEX('Partie 6'!$G$5:$G$28,MATCH($A4,'Partie 6'!$B$5:$B$28,0),1),0) ,_xlfn.IFNA(INDEX('Partie 6'!$G$5:$G$28,MATCH($A4,'Partie 6'!$C$5:$C$28,0),1),0) , _xlfn.IFNA(INDEX('Partie 6'!$C$5:$C$28,MATCH($A4,'Partie 6'!$F$5:$F$28,0),1),0),_xlfn.IFNA(INDEX('Partie 6'!$C$5:$C$28,MATCH($A4,'Partie 6'!$G$5:$G$28,0),1),0)) -> 0 | AE4: =SUM(_xlfn.IFNA(INDEX('Partie 6'!$J$5:$J$28,MATCH($A4,'Partie 6'!$B$5:$B$28,0),1),0) ,_xlfn.IFNA(INDEX('Partie 6'!$J$5:$J$28,MATCH($A4,'Partie 6'!$C$5:$C$28,0),1),0) , _xlfn.IFNA(INDEX('Partie 6'!$K$5:$K$28,MATCH($A4,'Partie 6'!$F$5:$F$28,0),1),0), _xlfn.IFNA(INDEX('Partie 6'!$K$5:$K$28,MATCH($A4,'Partie 6'!$G$5:$G$28,0),1),0)) -> 0 | AF4: =SUM(_xlfn.IFNA(INDEX('Partie 6'!$K$5:$K$28,MATCH($A4,'Partie 6'!$B$5:$B$28,0),1),0) ,_xlfn.IFNA(INDEX('Partie 6'!$K$5:$K$28,MATCH($A4,'Partie 6'!$C$5:$C$28,0),1),0) , _xlfn.IFNA(INDEX('Partie 6'!$J$5:$J$28,MATCH($A4,'Partie 6'!$F$5:$F$28,0),1),0), _xlfn.IFNA(INDEX('Partie 6'!$J$5:$J$28,MATCH($A4,'Partie 6'!$G$5:$G$28,0),1),0)) -> 0 | AG4: =SUM(_xlfn.IFNA(INDEX('Partie 7'!$C$5:$C$28,MATCH($A4,'Partie 7'!$B$5:$B$28,0),1),0) , _xlfn.IFNA(INDEX('Partie 7'!$B$5:$B$28,MATCH($A4,'Partie 7'!$C$5:$C$28,0),1),0),_xlfn.IFNA(INDEX('Partie 7'!$F$5:$F$28,MATCH($A4,'Partie 7'!$G$5:$G$28,0),1),0),_xlfn.IFNA(INDEX('Partie 7'!$G$5:$G$28,MATCH($A4,'Partie 7'!$F$5:$F$28,0),1),0)) -> 0 | AH4: =SUM(_xlfn.IFNA(INDEX('Partie 7'!$F$5:$F$28,MATCH($A4,'Partie 7'!$B$5:$B$28,0),1),0) ,_xlfn.IFNA(INDEX('Partie 7'!$F$5:$F$28,MATCH($A4,'Partie 7'!$C$5:$C$28,0),1),0) , _xlfn.IFNA(INDEX('Partie 7'!$B$5:$B$28,MATCH($A4,'Partie 7'!$F$5:$F$28,0),1),0),_xlfn.IFNA(INDEX('Partie 7'!$B$5:$B$28,MATCH($A4,'Partie 7'!$G$5:$G$28,0),1),0)) -> 0 | AI4: =SUM(_xlfn.IFNA(INDEX('Partie 7'!$G$5:$G$28,MATCH($A4,'Partie 7'!$B$5:$B$28,0),1),0) ,_xlfn.IFNA(INDEX('Partie 7'!$G$5:$G$28,MATCH($A4,'Partie 7'!$C$5:$C$28,0),1),0) , _xlfn.IFNA(INDEX('Partie 7'!$C$5:$C$28,MATCH($A4,'Partie 7'!$F$5:$F$28,0),1),0),_xlfn.IFNA(INDEX('Partie 7'!$C$5:$C$28,MATCH($A4,'Partie 7'!$G$5:$G$28,0),1),0)) -> 0 | AJ4: =SUM(_xlfn.IFNA(INDEX('Partie 7'!$J$5:$J$28,MATCH($A4,'Partie 7'!$B$5:$B$28,0),1),0) ,_xlfn.IFNA(INDEX('Partie 7'!$J$5:$J$28,MATCH($A4,'Partie 7'!$C$5:$C$28,0),1),0) , _xlfn.IFNA(INDEX('Partie 7'!$K$5:$K$28,MATCH($A4,'Partie 7'!$F$5:$F$28,0),1),0), _xlfn.IFNA(INDEX('Partie 7'!$K$5:$K$28,MATCH($A4,'Partie 7'!$G$5:$G$28,0),1),0)) -> 0 | AK4: =SUM(_xlfn.IFNA(INDEX('Partie 7'!$K$5:$K$28,MATCH($A4,'Partie 7'!$B$5:$B$28,0),1),0) ,_xlfn.IFNA(INDEX('Partie 7'!$K$5:$K$28,MATCH($A4,'Partie 7'!$C$5:$C$28,0),1),0) , _xlfn.IFNA(INDEX('Partie 7'!$J$5:$J$28,MATCH($A4,'Partie 7'!$F$5:$F$28,0),1),0), _xlfn.IFNA(INDEX('Partie 7'!$J$5:$J$28,MATCH($A4,'Partie 7'!$G$5:$G$28,0),1),0)) -> 0
A5: 3 | C5: =SUM(_xlfn.IFNA(INDEX('Partie 1'!$C$5:$C$28,MATCH($A5,'Partie 1'!$B$5:$B$28,0),1),0) , _xlfn.IFNA(INDEX('Partie 1'!$B$5:$B$28,MATCH($A5,'Partie 1'!$C$5:$C$28,0),1),0),_xlfn.IFNA(INDEX('Partie 1'!$F$5:$F$28,MATCH($A5,'Partie 1'!$G$5:$G$28,0),1),0),_xlfn.IFNA(INDEX('Partie 1'!$G$5:$G$28,MATCH($A5,'Partie 1'!$F$5:$F$28,0),1),0)) -> 0 | D5: =SUM(_xlfn.IFNA(INDEX('Partie 1'!$F$5:$F$28,MATCH($A5,'Partie 1'!$B$5:$B$28,0),1),0) ,_xlfn.IFNA(INDEX('Partie 1'!$F$5:$F$28,MATCH($A5,'Partie 1'!$C$5:$C$28,0),1),0) , _xlfn.IFNA(INDEX('Partie 1'!$B$5:$B$28,MATCH($A5,'Partie 1'!$F$5:$F$28,0),1),0),_xlfn.IFNA(INDEX('Partie 1'!$B$5:$B$28,MATCH($A5,'Partie 1'!$G$5:$G$28,0),1),0)) -> 0 | E5: =SUM(_xlfn.IFNA(INDEX('Partie 1'!$G$5:$G$28,MATCH($A5,'Partie 1'!$B$5:$B$28,0),1),0) ,_xlfn.IFNA(INDEX('Partie 1'!$G$5:$G$28,MATCH($A5,'Partie 1'!$C$5:$C$28,0),1),0) , _xlfn.IFNA(INDEX('Partie 1'!$C$5:$C$28,MATCH($A5,'Partie 1'!$F$5:$F$28,0),1),0),_xlfn.IFNA(INDEX('Partie 1'!$C$5:$C$28,MATCH($A5,'Partie 1'!$G$5:$G$28,0),1),0)) -> 0 | F5: =SUM(_xlfn.IFNA(INDEX('Partie 1'!$J$5:$J$28,MATCH($A5,'Partie 1'!$B$5:$B$28,0),1),0) ,_xlfn.IFNA(INDEX('Partie 1'!$J$5:$J$28,MATCH($A5,'Partie 1'!$C$5:$C$28,0),1),0) , _xlfn.IFNA(INDEX('Partie 1'!$K$5:$K$28,MATCH($A5,'Partie 1'!$F$5:$F$28,0),1),0), _xlfn.IFNA(INDEX('Partie 1'!$K$5:$K$28,MATCH($A5,'Partie 1'!$G$5:$G$28,0),1),0)) -> 0 | G5: =SUM(_xlfn.IFNA(INDEX('Partie 1'!$K$5:$K$28,MATCH($A5,'Partie 1'!$B$5:$B$28,0),1),0) ,_xlfn.IFNA(INDEX('Partie 1'!$K$5:$K$28,MATCH($A5,'Partie 1'!$C$5:$C$28,0),1),0) , _xlfn.IFNA(INDEX('Partie 1'!$J$5:$J$28,MATCH($A5,'Partie 1'!$F$5:$F$28,0),1),0), _xlfn.IFNA(INDEX('Partie 1'!$J$5:$J$28,MATCH($A5,'Partie 1'!$G$5:$G$28,0),1),0)) -> 0 | H5: =SUM(_xlfn.IFNA(INDEX('Partie 2'!$C$5:$C$28,MATCH($A5,'Partie 2'!$B$5:$B$28,0),1),0) , _xlfn.IFNA(INDEX('Partie 2'!$B$5:$B$28,MATCH($A5,'Partie 2'!$C$5:$C$28,0),1),0),_xlfn.IFNA(INDEX('Partie 2'!$F$5:$F$28,MATCH($A5,'Partie 2'!$G$5:$G$28,0),1),0),_xlfn.IFNA(INDEX('Partie 2'!$G$5:$G$28,MATCH($A5,'Partie 2'!$F$5:$F$28,0),1),0)) -> 0 | I5: =SUM(_xlfn.IFNA(INDEX('Partie 2'!$F$5:$F$28,MATCH($A5,'Partie 2'!$B$5:$B$28,0),1),0) ,_xlfn.IFNA(INDEX('Partie 2'!$F$5:$F$28,MATCH($A5,'Partie 2'!$C$5:$C$28,0),1),0) , _xlfn.IFNA(INDEX('Partie 2'!$B$5:$B$28,MATCH($A5,'Partie 2'!$F$5:$F$28,0),1),0),_xlfn.IFNA(INDEX('Partie 2'!$B$5:$B$28,MATCH($A5,'Partie 2'!$G$5:$G$28,0),1),0)) -> 0 | J5: =SUM(_xlfn.IFNA(INDEX('Partie 2'!$G$5:$G$28,MATCH($A5,'Partie 2'!$B$5:$B$28,0),1),0) ,_xlfn.IFNA(INDEX('Partie 2'!$G$5:$G$28,MATCH($A5,'Partie 2'!$C$5:$C$28,0),1),0) , _xlfn.IFNA(INDEX('Partie 2'!$C$5:$C$28,MATCH($A5,'Partie 2'!$F$5:$F$28,0),1),0),_xlfn.IFNA(INDEX('Partie 2'!$C$5:$C$28,MATCH($A5,'Partie 2'!$G$5:$G$28,0),1),0)) -> 0 | K5: =SUM(_xlfn.IFNA(INDEX('Partie 2'!$J$5:$J$28,MATCH($A5,'Partie 2'!$B$5:$B$28,0),1),0) ,_xlfn.IFNA(INDEX('Partie 2'!$J$5:$J$28,MATCH($A5,'Partie 2'!$C$5:$C$28,0),1),0) , _xlfn.IFNA(INDEX('Partie 2'!$K$5:$K$28,MATCH($A5,'Partie 2'!$F$5:$F$28,0),1),0), _xlfn.IFNA(INDEX('Partie 2'!$K$5:$K$28,MATCH($A5,'Partie 2'!$G$5:$G$28,0),1),0)) -> 0 | L5: =SUM(_xlfn.IFNA(INDEX('Partie 2'!$K$5:$K$28,MATCH($A5,'Partie 2'!$B$5:$B$28,0),1),0) ,_xlfn.IFNA(INDEX('Partie 2'!$K$5:$K$28,MATCH($A5,'Partie 2'!$C$5:$C$28,0),1),0) , _xlfn.IFNA(INDEX('Partie 2'!$J$5:$J$28,MATCH($A5,'Partie 2'!$F$5:$F$28,0),1),0), _xlfn.IFNA(INDEX('Partie 2'!$J$5:$J$28,MATCH($A5,'Partie 2'!$G$5:$G$28,0),1),0)) -> 0 | M5: =SUM(_xlfn.IFNA(INDEX('Partie 3'!$C$5:$C$28,MATCH($A5,'Partie 3'!$B$5:$B$28,0),1),0) , _xlfn.IFNA(INDEX('Partie 3'!$B$5:$B$28,MATCH($A5,'Partie 3'!$C$5:$C$28,0),1),0),_xlfn.IFNA(INDEX('Partie 3'!$F$5:$F$28,MATCH($A5,'Partie 3'!$G$5:$G$28,0),1),0),_xlfn.IFNA(INDEX('Partie 3'!$G$5:$G$28,MATCH($A5,'Partie 3'!$F$5:$F$28,0),1),0)) -> 0 | N5: =SUM(_xlfn.IFNA(INDEX('Partie 3'!$F$5:$F$28,MATCH($A5,'Partie 3'!$B$5:$B$28,0),1),0) ,_xlfn.IFNA(INDEX('Partie 3'!$F$5:$F$28,MATCH($A5,'Partie 3'!$C$5:$C$28,0),1),0) , _xlfn.IFNA(INDEX('Partie 3'!$B$5:$B$28,MATCH($A5,'Partie 3'!$F$5:$F$28,0),1),0),_xlfn.IFNA(INDEX('Partie 3'!$B$5:$B$28,MATCH($A5,'Partie 3'!$G$5:$G$28,0),1),0)) -> 0 | O5: =SUM(_xlfn.IFNA(INDEX('Partie 3'!$G$5:$G$28,MATCH($A5,'Partie 3'!$B$5:$B$28,0),1),0) ,_xlfn.IFNA(INDEX('Partie 3'!$G$5:$G$28,MATCH($A5,'Partie 3'!$C$5:$C$28,0),1),0) , _xlfn.IFNA(INDEX('Partie 3'!$C$5:$C$28,MATCH($A5,'Partie 3'!$F$5:$F$28,0),1),0),_xlfn.IFNA(INDEX('Partie 3'!$C$5:$C$28,MATCH($A5,'Partie 3'!$G$5:$G$28,0),1),0)) -> 0 | P5: =SUM(_xlfn.IFNA(INDEX('Partie 3'!$J$5:$J$28,MATCH($A5,'Partie 3'!$B$5:$B$28,0),1),0) ,_xlfn.IFNA(INDEX('Partie 3'!$J$5:$J$28,MATCH($A5,'Partie 3'!$C$5:$C$28,0),1),0) , _xlfn.IFNA(INDEX('Partie 3'!$K$5:$K$28,MATCH($A5,'Partie 3'!$F$5:$F$28,0),1),0), _xlfn.IFNA(INDEX('Partie 3'!$K$5:$K$28,MATCH($A5,'Partie 3'!$G$5:$G$28,0),1),0)) -> 0 | Q5: =SUM(_xlfn.IFNA(INDEX('Partie 3'!$K$5:$K$28,MATCH($A5,'Partie 3'!$B$5:$B$28,0),1),0) ,_xlfn.IFNA(INDEX('Partie 3'!$K$5:$K$28,MATCH($A5,'Partie 3'!$C$5:$C$28,0),1),0) , _xlfn.IFNA(INDEX('Partie 3'!$J$5:$J$28,MATCH($A5,'Partie 3'!$F$5:$F$28,0),1),0), _xlfn.IFNA(INDEX('Partie 3'!$J$5:$J$28,MATCH($A5,'Partie 3'!$G$5:$G$28,0),1),0)) -> 0 | R5: =SUM(_xlfn.IFNA(INDEX('Partie 4'!$C$5:$C$28,MATCH($A5,'Partie 4'!$B$5:$B$28,0),1),0) , _xlfn.IFNA(INDEX('Partie 4'!$B$5:$B$28,MATCH($A5,'Partie 4'!$C$5:$C$28,0),1),0),_xlfn.IFNA(INDEX('Partie 4'!$F$5:$F$28,MATCH($A5,'Partie 4'!$G$5:$G$28,0),1),0),_xlfn.IFNA(INDEX('Partie 4'!$G$5:$G$28,MATCH($A5,'Partie 4'!$F$5:$F$28,0),1),0)) -> 0 | S5: =SUM(_xlfn.IFNA(INDEX('Partie 4'!$F$5:$F$28,MATCH($A5,'Partie 4'!$B$5:$B$28,0),1),0) ,_xlfn.IFNA(INDEX('Partie 4'!$F$5:$F$28,MATCH($A5,'Partie 4'!$C$5:$C$28,0),1),0) , _xlfn.IFNA(INDEX('Partie 4'!$B$5:$B$28,MATCH($A5,'Partie 4'!$F$5:$F$28,0),1),0),_xlfn.IFNA(INDEX('Partie 4'!$B$5:$B$28,MATCH($A5,'Partie 4'!$G$5:$G$28,0),1),0)) -> 0 | T5: =SUM(_xlfn.IFNA(INDEX('Partie 4'!$G$5:$G$28,MATCH($A5,'Partie 4'!$B$5:$B$28,0),1),0) ,_xlfn.IFNA(INDEX('Partie 4'!$G$5:$G$28,MATCH($A5,'Partie 4'!$C$5:$C$28,0),1),0) , _xlfn.IFNA(INDEX('Partie 4'!$C$5:$C$28,MATCH($A5,'Partie 4'!$F$5:$F$28,0),1),0),_xlfn.IFNA(INDEX('Partie 4'!$C$5:$C$28,MATCH($A5,'Partie 4'!$G$5:$G$28,0),1),0)) -> 0 | U5: =SUM(_xlfn.IFNA(INDEX('Partie 4'!$J$5:$J$28,MATCH($A5,'Partie 4'!$B$5:$B$28,0),1),0) ,_xlfn.IFNA(INDEX('Partie 4'!$J$5:$J$28,MATCH($A5,'Partie 4'!$C$5:$C$28,0),1),0) , _xlfn.IFNA(INDEX('Partie 4'!$K$5:$K$28,MATCH($A5,'Partie 4'!$F$5:$F$28,0),1),0), _xlfn.IFNA(INDEX('Partie 4'!$K$5:$K$28,MATCH($A5,'Partie 4'!$G$5:$G$28,0),1),0)) -> 0 | V5: =SUM(_xlfn.IFNA(INDEX('Partie 4'!$K$5:$K$28,MATCH($A5,'Partie 4'!$B$5:$B$28,0),1),0) ,_xlfn.IFNA(INDEX('Partie 4'!$K$5:$K$28,MATCH($A5,'Partie 4'!$C$5:$C$28,0),1),0) , _xlfn.IFNA(INDEX('Partie 4'!$J$5:$J$28,MATCH($A5,'Partie 4'!$F$5:$F$28,0),1),0), _xlfn.IFNA(INDEX('Partie 4'!$J$5:$J$28,MATCH($A5,'Partie 4'!$G$5:$G$28,0),1),0)) -> 0 | W5: =SUM(_xlfn.IFNA(INDEX('Partie 5'!$C$5:$C$28,MATCH($A5,'Partie 5'!$B$5:$B$28,0),1),0) , _xlfn.IFNA(INDEX('Partie 5'!$B$5:$B$28,MATCH($A5,'Partie 5'!$C$5:$C$28,0),1),0),_xlfn.IFNA(INDEX('Partie 5'!$F$5:$F$28,MATCH($A5,'Partie 5'!$G$5:$G$28,0),1),0),_xlfn.IFNA(INDEX('Partie 5'!$G$5:$G$28,MATCH($A5,'Partie 5'!$F$5:$F$28,0),1),0)) -> 0 | X5: =SUM(_xlfn.IFNA(INDEX('Partie 5'!$F$5:$F$28,MATCH($A5,'Partie 5'!$B$5:$B$28,0),1),0) ,_xlfn.IFNA(INDEX('Partie 5'!$F$5:$F$28,MATCH($A5,'Partie 5'!$C$5:$C$28,0),1),0) , _xlfn.IFNA(INDEX('Partie 5'!$B$5:$B$28,MATCH($A5,'Partie 5'!$F$5:$F$28,0),1),0),_xlfn.IFNA(INDEX('Partie 5'!$B$5:$B$28,MATCH($A5,'Partie 5'!$G$5:$G$28,0),1),0)) -> 0 | Y5: =SUM(_xlfn.IFNA(INDEX('Partie 5'!$G$5:$G$28,MATCH($A5,'Partie 5'!$B$5:$B$28,0),1),0) ,_xlfn.IFNA(INDEX('Partie 5'!$G$5:$G$28,MATCH($A5,'Partie 5'!$C$5:$C$28,0),1),0) , _xlfn.IFNA(INDEX('Partie 5'!$C$5:$C$28,MATCH($A5,'Partie 5'!$F$5:$F$28,0),1),0),_xlfn.IFNA(INDEX('Partie 5'!$C$5:$C$28,MATCH($A5,'Partie 5'!$G$5:$G$28,0),1),0)) -> 0 | Z5: =SUM(_xlfn.IFNA(INDEX('Partie 5'!$J$5:$J$28,MATCH($A5,'Partie 5'!$B$5:$B$28,0),1),0) ,_xlfn.IFNA(INDEX('Partie 5'!$J$5:$J$28,MATCH($A5,'Partie 5'!$C$5:$C$28,0),1),0) , _xlfn.IFNA(INDEX('Partie 5'!$K$5:$K$28,MATCH($A5,'Partie 5'!$F$5:$F$28,0),1),0), _xlfn.IFNA(INDEX('Partie 5'!$K$5:$K$28,MATCH($A5,'Partie 5'!$G$5:$G$28,0),1),0)) -> 0 | AA5: =SUM(_xlfn.IFNA(INDEX('Partie 5'!$K$5:$K$28,MATCH($A5,'Partie 5'!$B$5:$B$28,0),1),0) ,_xlfn.IFNA(INDEX('Partie 5'!$K$5:$K$28,MATCH($A5,'Partie 5'!$C$5:$C$28,0),1),0) , _xlfn.IFNA(INDEX('Partie 5'!$J$5:$J$28,MATCH($A5,'Partie 5'!$F$5:$F$28,0),1),0), _xlfn.IFNA(INDEX('Partie 5'!$J$5:$J$28,MATCH($A5,'Partie 5'!$G$5:$G$28,0),1),0)) -> 0 | AB5: =SUM(_xlfn.IFNA(INDEX('Partie 6'!$C$5:$C$28,MATCH($A5,'Partie 6'!$B$5:$B$28,0),1),0) , _xlfn.IFNA(INDEX('Partie 6'!$B$5:$B$28,MATCH($A5,'Partie 6'!$C$5:$C$28,0),1),0),_xlfn.IFNA(INDEX('Partie 6'!$F$5:$F$28,MATCH($A5,'Partie 6'!$G$5:$G$28,0),1),0),_xlfn.IFNA(INDEX('Partie 6'!$G$5:$G$28,MATCH($A5,'Partie 6'!$F$5:$F$28,0),1),0)) -> 0 | AC5: =SUM(_xlfn.IFNA(INDEX('Partie 6'!$F$5:$F$28,MATCH($A5,'Partie 6'!$B$5:$B$28,0),1),0) ,_xlfn.IFNA(INDEX('Partie 6'!$F$5:$F$28,MATCH($A5,'Partie 6'!$C$5:$C$28,0),1),0) , _xlfn.IFNA(INDEX('Partie 6'!$B$5:$B$28,MATCH($A5,'Partie 6'!$F$5:$F$28,0),1),0),_xlfn.IFNA(INDEX('Partie 6'!$B$5:$B$28,MATCH($A5,'Partie 6'!$G$5:$G$28,0),1),0)) -> 0 | AD5: =SUM(_xlfn.IFNA(INDEX('Partie 6'!$G$5:$G$28,MATCH($A5,'Partie 6'!$B$5:$B$28,0),1),0) ,_xlfn.IFNA(INDEX('Partie 6'!$G$5:$G$28,MATCH($A5,'Partie 6'!$C$5:$C$28,0),1),0) , _xlfn.IFNA(INDEX('Partie 6'!$C$5:$C$28,MATCH($A5,'Partie 6'!$F$5:$F$28,0),1),0),_xlfn.IFNA(INDEX('Partie 6'!$C$5:$C$28,MATCH($A5,'Partie 6'!$G$5:$G$28,0),1),0)) -> 0 | AE5: =SUM(_xlfn.IFNA(INDEX('Partie 6'!$J$5:$J$28,MATCH($A5,'Partie 6'!$B$5:$B$28,0),1),0) ,_xlfn.IFNA(INDEX('Partie 6'!$J$5:$J$28,MATCH($A5,'Partie 6'!$C$5:$C$28,0),1),0) , _xlfn.IFNA(INDEX('Partie 6'!$K$5:$K$28,MATCH($A5,'Partie 6'!$F$5:$F$28,0),1),0), _xlfn.IFNA(INDEX('Partie 6'!$K$5:$K$28,MATCH($A5,'Partie 6'!$G$5:$G$28,0),1),0)) -> 0 | AF5: =SUM(_xlfn.IFNA(INDEX('Partie 6'!$K$5:$K$28,MATCH($A5,'Partie 6'!$B$5:$B$28,0),1),0) ,_xlfn.IFNA(INDEX('Partie 6'!$K$5:$K$28,MATCH($A5,'Partie 6'!$C$5:$C$28,0),1),0) , _xlfn.IFNA(INDEX('Partie 6'!$J$5:$J$28,MATCH($A5,'Partie 6'!$F$5:$F$28,0),1),0), _xlfn.IFNA(INDEX('Partie 6'!$J$5:$J$28,MATCH($A5,'Partie 6'!$G$5:$G$28,0),1),0)) -> 0 | AG5: =SUM(_xlfn.IFNA(INDEX('Partie 7'!$C$5:$C$28,MATCH($A5,'Partie 7'!$B$5:$B$28,0),1),0) , _xlfn.IFNA(INDEX('Partie 7'!$B$5:$B$28,MATCH($A5,'Partie 7'!$C$5:$C$28,0),1),0),_xlfn.IFNA(INDEX('Partie 7'!$F$5:$F$28,MATCH($A5,'Partie 7'!$G$5:$G$28,0),1),0),_xlfn.IFNA(INDEX('Partie 7'!$G$5:$G$28,MATCH($A5,'Partie 7'!$F$5:$F$28,0),1),0)) -> 0 | AH5: =SUM(_xlfn.IFNA(INDEX('Partie 7'!$F$5:$F$28,MATCH($A5,'Partie 7'!$B$5:$B$28,0),1),0) ,_xlfn.IFNA(INDEX('Partie 7'!$F$5:$F$28,MATCH($A5,'Partie 7'!$C$5:$C$28,0),1),0) , _xlfn.IFNA(INDEX('Partie 7'!$B$5:$B$28,MATCH($A5,'Partie 7'!$F$5:$F$28,0),1),0),_xlfn.IFNA(INDEX('Partie 7'!$B$5:$B$28,MATCH($A5,'Partie 7'!$G$5:$G$28,0),1),0)) -> 0 | AI5: =SUM(_xlfn.IFNA(INDEX('Partie 7'!$G$5:$G$28,MATCH($A5,'Partie 7'!$B$5:$B$28,0),1),0) ,_xlfn.IFNA(INDEX('Partie 7'!$G$5:$G$28,MATCH($A5,'Partie 7'!$C$5:$C$28,0),1),0) , _xlfn.IFNA(INDEX('Partie 7'!$C$5:$C$28,MATCH($A5,'Partie 7'!$F$5:$F$28,0),1),0),_xlfn.IFNA(INDEX('Partie 7'!$C$5:$C$28,MATCH($A5,'Partie 7'!$G$5:$G$28,0),1),0)) -> 0 | AJ5: =SUM(_xlfn.IFNA(INDEX('Partie 7'!$J$5:$J$28,MATCH($A5,'Partie 7'!$B$5:$B$28,0),1),0) ,_xlfn.IFNA(INDEX('Partie 7'!$J$5:$J$28,MATCH($A5,'Partie 7'!$C$5:$C$28,0),1),0) , _xlfn.IFNA(INDEX('Partie 7'!$K$5:$K$28,MATCH($A5,'Partie 7'!$F$5:$F$28,0),1),0), _xlfn.IFNA(INDEX('Partie 7'!$K$5:$K$28,MATCH($A5,'Partie 7'!$G$5:$G$28,0),1),0)) -> 0 | AK5: =SUM(_xlfn.IFNA(INDEX('Partie 7'!$K$5:$K$28,MATCH($A5,'Partie 7'!$B$5:$B$28,0),1),0) ,_xlfn.IFNA(INDEX('Partie 7'!$K$5:$K$28,MATCH($A5,'Partie 7'!$C$5:$C$28,0),1),0) , _xlfn.IFNA(INDEX('Partie 7'!$J$5:$J$28,MATCH($A5,'Partie 7'!$F$5:$F$28,0),1),0), _xlfn.IFNA(INDEX('Partie 7'!$J$5:$J$28,MATCH($A5,'Partie 7'!$G$5:$G$28,0),1),0)) -> 0
A6: 4 | C6: =SUM(_xlfn.IFNA(INDEX('Partie 1'!$C$5:$C$28,MATCH($A6,'Partie 1'!$B$5:$B$28,0),1),0) , _xlfn.IFNA(INDEX('Partie 1'!$B$5:$B$28,MATCH($A6,'Partie 1'!$C$5:$C$28,0),1),0),_xlfn.IFNA(INDEX('Partie 1'!$F$5:$F$28,MATCH($A6,'Partie 1'!$G$5:$G$28,0),1),0),_xlfn.IFNA(INDEX('Partie 1'!$G$5:$G$28,MATCH($A6,'Partie 1'!$F$5:$F$28,0),1),0)) -> 0 | D6: =SUM(_xlfn.IFNA(INDEX('Partie 1'!$F$5:$F$28,MATCH($A6,'Partie 1'!$B$5:$B$28,0),1),0) ,_xlfn.IFNA(INDEX('Partie 1'!$F$5:$F$28,MATCH($A6,'Partie 1'!$C$5:$C$28,0),1),0) , _xlfn.IFNA(INDEX('Partie 1'!$B$5:$B$28,MATCH($A6,'Partie 1'!$F$5:$F$28,0),1),0),_xlfn.IFNA(INDEX('Partie 1'!$B$5:$B$28,MATCH($A6,'Partie 1'!$G$5:$G$28,0),1),0)) -> 0 | E6: =SUM(_xlfn.IFNA(INDEX('Partie 1'!$G$5:$G$28,MATCH($A6,'Partie 1'!$B$5:$B$28,0),1),0) ,_xlfn.IFNA(INDEX('Partie 1'!$G$5:$G$28,MATCH($A6,'Partie 1'!$C$5:$C$28,0),1),0) , _xlfn.IFNA(INDEX('Partie 1'!$C$5:$C$28,MATCH($A6,'Partie 1'!$F$5:$F$28,0),1),0),_xlfn.IFNA(INDEX('Partie 1'!$C$5:$C$28,MATCH($A6,'Partie 1'!$G$5:$G$28,0),1),0)) -> 0 | F6: =SUM(_xlfn.IFNA(INDEX('Partie 1'!$J$5:$J$28,MATCH($A6,'Partie 1'!$B$5:$B$28,0),1),0) ,_xlfn.IFNA(INDEX('Partie 1'!$J$5:$J$28,MATCH($A6,'Partie 1'!$C$5:$C$28,0),1),0) , _xlfn.IFNA(INDEX('Partie 1'!$K$5:$K$28,MATCH($A6,'Partie 1'!$F$5:$F$28,0),1),0), _xlfn.IFNA(INDEX('Partie 1'!$K$5:$K$28,MATCH($A6,'Partie 1'!$G$5:$G$28,0),1),0)) -> 0 | G6: =SUM(_xlfn.IFNA(INDEX('Partie 1'!$K$5:$K$28,MATCH($A6,'Partie 1'!$B$5:$B$28,0),1),0) ,_xlfn.IFNA(INDEX('Partie 1'!$K$5:$K$28,MATCH($A6,'Partie 1'!$C$5:$C$28,0),1),0) , _xlfn.IFNA(INDEX('Partie 1'!$J$5:$J$28,MATCH($A6,'Partie 1'!$F$5:$F$28,0),1),0), _xlfn.IFNA(INDEX('Partie 1'!$J$5:$J$28,MATCH($A6,'Partie 1'!$G$5:$G$28,0),1),0)) -> 0 | H6: =SUM(_xlfn.IFNA(INDEX('Partie 2'!$C$5:$C$28,MATCH($A6,'Partie 2'!$B$5:$B$28,0),1),0) , _xlfn.IFNA(INDEX('Partie 2'!$B$5:$B$28,MATCH($A6,'Partie 2'!$C$5:$C$28,0),1),0),_xlfn.IFNA(INDEX('Partie 2'!$F$5:$F$28,MATCH($A6,'Partie 2'!$G$5:$G$28,0),1),0),_xlfn.IFNA(INDEX('Partie 2'!$G$5:$G$28,MATCH($A6,'Partie 2'!$F$5:$F$28,0),1),0)) -> 0 | I6: =SUM(_xlfn.IFNA(INDEX('Partie 2'!$F$5:$F$28,MATCH($A6,'Partie 2'!$B$5:$B$28,0),1),0) ,_xlfn.IFNA(INDEX('Partie 2'!$F$5:$F$28,MATCH($A6,'Partie 2'!$C$5:$C$28,0),1),0) , _xlfn.IFNA(INDEX('Partie 2'!$B$5:$B$28,MATCH($A6,'Partie 2'!$F$5:$F$28,0),1),0),_xlfn.IFNA(INDEX('Partie 2'!$B$5:$B$28,MATCH($A6,'Partie 2'!$G$5:$G$28,0),1),0)) -> 0 | J6: =SUM(_xlfn.IFNA(INDEX('Partie 2'!$G$5:$G$28,MATCH($A6,'Partie 2'!$B$5:$B$28,0),1),0) ,_xlfn.IFNA(INDEX('Partie 2'!$G$5:$G$28,MATCH($A6,'Partie 2'!$C$5:$C$28,0),1),0) , _xlfn.IFNA(INDEX('Partie 2'!$C$5:$C$28,MATCH($A6,'Partie 2'!$F$5:$F$28,0),1),0),_xlfn.IFNA(INDEX('Partie 2'!$C$5:$C$28,MATCH($A6,'Partie 2'!$G$5:$G$28,0),1),0)) -> 0 | K6: =SUM(_xlfn.IFNA(INDEX('Partie 2'!$J$5:$J$28,MATCH($A6,'Partie 2'!$B$5:$B$28,0),1),0) ,_xlfn.IFNA(INDEX('Partie 2'!$J$5:$J$28,MATCH($A6,'Partie 2'!$C$5:$C$28,0),1),0) , _xlfn.IFNA(INDEX('Partie 2'!$K$5:$K$28,MATCH($A6,'Partie 2'!$F$5:$F$28,0),1),0), _xlfn.IFNA(INDEX('Partie 2'!$K$5:$K$28,MATCH($A6,'Partie 2'!$G$5:$G$28,0),1),0)) -> 0 | L6: =SUM(_xlfn.IFNA(INDEX('Partie 2'!$K$5:$K$28,MATCH($A6,'Partie 2'!$B$5:$B$28,0),1),0) ,_xlfn.IFNA(INDEX('Partie 2'!$K$5:$K$28,MATCH($A6,'Partie 2'!$C$5:$C$28,0),1),0) , _xlfn.IFNA(INDEX('Partie 2'!$J$5:$J$28,MATCH($A6,'Partie 2'!$F$5:$F$28,0),1),0), _xlfn.IFNA(INDEX('Partie 2'!$J$5:$J$28,MATCH($A6,'Partie 2'!$G$5:$G$28,0),1),0)) -> 0 | M6: =SUM(_xlfn.IFNA(INDEX('Partie 3'!$C$5:$C$28,MATCH($A6,'Partie 3'!$B$5:$B$28,0),1),0) , _xlfn.IFNA(INDEX('Partie 3'!$B$5:$B$28,MATCH($A6,'Partie 3'!$C$5:$C$28,0),1),0),_xlfn.IFNA(INDEX('Partie 3'!$F$5:$F$28,MATCH($A6,'Partie 3'!$G$5:$G$28,0),1),0),_xlfn.IFNA(INDEX('Partie 3'!$G$5:$G$28,MATCH($A6,'Partie 3'!$F$5:$F$28,0),1),0)) -> 0 | N6: =SUM(_xlfn.IFNA(INDEX('Partie 3'!$F$5:$F$28,MATCH($A6,'Partie 3'!$B$5:$B$28,0),1),0) ,_xlfn.IFNA(INDEX('Partie 3'!$F$5:$F$28,MATCH($A6,'Partie 3'!$C$5:$C$28,0),1),0) , _xlfn.IFNA(INDEX('Partie 3'!$B$5:$B$28,MATCH($A6,'Partie 3'!$F$5:$F$28,0),1),0),_xlfn.IFNA(INDEX('Partie 3'!$B$5:$B$28,MATCH($A6,'Partie 3'!$G$5:$G$28,0),1),0)) -> 0 | O6: =SUM(_xlfn.IFNA(INDEX('Partie 3'!$G$5:$G$28,MATCH($A6,'Partie 3'!$B$5:$B$28,0),1),0) ,_xlfn.IFNA(INDEX('Partie 3'!$G$5:$G$28,MATCH($A6,'Partie 3'!$C$5:$C$28,0),1),0) , _xlfn.IFNA(INDEX('Partie 3'!$C$5:$C$28,MATCH($A6,'Partie 3'!$F$5:$F$28,0),1),0),_xlfn.IFNA(INDEX('Partie 3'!$C$5:$C$28,MATCH($A6,'Partie 3'!$G$5:$G$28,0),1),0)) -> 0 | P6: =SUM(_xlfn.IFNA(INDEX('Partie 3'!$J$5:$J$28,MATCH($A6,'Partie 3'!$B$5:$B$28,0),1),0) ,_xlfn.IFNA(INDEX('Partie 3'!$J$5:$J$28,MATCH($A6,'Partie 3'!$C$5:$C$28,0),1),0) , _xlfn.IFNA(INDEX('Partie 3'!$K$5:$K$28,MATCH($A6,'Partie 3'!$F$5:$F$28,0),1),0), _xlfn.IFNA(INDEX('Partie 3'!$K$5:$K$28,MATCH($A6,'Partie 3'!$G$5:$G$28,0),1),0)) -> 0 | Q6: =SUM(_xlfn.IFNA(INDEX('Partie 3'!$K$5:$K$28,MATCH($A6,'Partie 3'!$B$5:$B$28,0),1),0) ,_xlfn.IFNA(INDEX('Partie 3'!$K$5:$K$28,MATCH($A6,'Partie 3'!$C$5:$C$28,0),1),0) , _xlfn.IFNA(INDEX('Partie 3'!$J$5:$J$28,MATCH($A6,'Partie 3'!$F$5:$F$28,0),1),0), _xlfn.IFNA(INDEX('Partie 3'!$J$5:$J$28,MATCH($A6,'Partie 3'!$G$5:$G$28,0),1),0)) -> 0 | R6: =SUM(_xlfn.IFNA(INDEX('Partie 4'!$C$5:$C$28,MATCH($A6,'Partie 4'!$B$5:$B$28,0),1),0) , _xlfn.IFNA(INDEX('Partie 4'!$B$5:$B$28,MATCH($A6,'Partie 4'!$C$5:$C$28,0),1),0),_xlfn.IFNA(INDEX('Partie 4'!$F$5:$F$28,MATCH($A6,'Partie 4'!$G$5:$G$28,0),1),0),_xlfn.IFNA(INDEX('Partie 4'!$G$5:$G$28,MATCH($A6,'Partie 4'!$F$5:$F$28,0),1),0)) -> 0 | S6: =SUM(_xlfn.IFNA(INDEX('Partie 4'!$F$5:$F$28,MATCH($A6,'Partie 4'!$B$5:$B$28,0),1),0) ,_xlfn.IFNA(INDEX('Partie 4'!$F$5:$F$28,MATCH($A6,'Partie 4'!$C$5:$C$28,0),1),0) , _xlfn.IFNA(INDEX('Partie 4'!$B$5:$B$28,MATCH($A6,'Partie 4'!$F$5:$F$28,0),1),0),_xlfn.IFNA(INDEX('Partie 4'!$B$5:$B$28,MATCH($A6,'Partie 4'!$G$5:$G$28,0),1),0)) -> 0 | T6: =SUM(_xlfn.IFNA(INDEX('Partie 4'!$G$5:$G$28,MATCH($A6,'Partie 4'!$B$5:$B$28,0),1),0) ,_xlfn.IFNA(INDEX('Partie 4'!$G$5:$G$28,MATCH($A6,'Partie 4'!$C$5:$C$28,0),1),0) , _xlfn.IFNA(INDEX('Partie 4'!$C$5:$C$28,MATCH($A6,'Partie 4'!$F$5:$F$28,0),1),0),_xlfn.IFNA(INDEX('Partie 4'!$C$5:$C$28,MATCH($A6,'Partie 4'!$G$5:$G$28,0),1),0)) -> 0 | U6: =SUM(_xlfn.IFNA(INDEX('Partie 4'!$J$5:$J$28,MATCH($A6,'Partie 4'!$B$5:$B$28,0),1),0) ,_xlfn.IFNA(INDEX('Partie 4'!$J$5:$J$28,MATCH($A6,'Partie 4'!$C$5:$C$28,0),1),0) , _xlfn.IFNA(INDEX('Partie 4'!$K$5:$K$28,MATCH($A6,'Partie 4'!$F$5:$F$28,0),1),0), _xlfn.IFNA(INDEX('Partie 4'!$K$5:$K$28,MATCH($A6,'Partie 4'!$G$5:$G$28,0),1),0)) -> 0 | V6: =SUM(_xlfn.IFNA(INDEX('Partie 4'!$K$5:$K$28,MATCH($A6,'Partie 4'!$B$5:$B$28,0),1),0) ,_xlfn.IFNA(INDEX('Partie 4'!$K$5:$K$28,MATCH($A6,'Partie 4'!$C$5:$C$28,0),1),0) , _xlfn.IFNA(INDEX('Partie 4'!$J$5:$J$28,MATCH($A6,'Partie 4'!$F$5:$F$28,0),1),0), _xlfn.IFNA(INDEX('Partie 4'!$J$5:$J$28,MATCH($A6,'Partie 4'!$G$5:$G$28,0),1),0)) -> 0 | W6: =SUM(_xlfn.IFNA(INDEX('Partie 5'!$C$5:$C$28,MATCH($A6,'Partie 5'!$B$5:$B$28,0),1),0) , _xlfn.IFNA(INDEX('Partie 5'!$B$5:$B$28,MATCH($A6,'Partie 5'!$C$5:$C$28,0),1),0),_xlfn.IFNA(INDEX('Partie 5'!$F$5:$F$28,MATCH($A6,'Partie 5'!$G$5:$G$28,0),1),0),_xlfn.IFNA(INDEX('Partie 5'!$G$5:$G$28,MATCH($A6,'Partie 5'!$F$5:$F$28,0),1),0)) -> 0 | X6: =SUM(_xlfn.IFNA(INDEX('Partie 5'!$F$5:$F$28,MATCH($A6,'Partie 5'!$B$5:$B$28,0),1),0) ,_xlfn.IFNA(INDEX('Partie 5'!$F$5:$F$28,MATCH($A6,'Partie 5'!$C$5:$C$28,0),1),0) , _xlfn.IFNA(INDEX('Partie 5'!$B$5:$B$28,MATCH($A6,'Partie 5'!$F$5:$F$28,0),1),0),_xlfn.IFNA(INDEX('Partie 5'!$B$5:$B$28,MATCH($A6,'Partie 5'!$G$5:$G$28,0),1),0)) -> 0 | Y6: =SUM(_xlfn.IFNA(INDEX('Partie 5'!$G$5:$G$28,MATCH($A6,'Partie 5'!$B$5:$B$28,0),1),0) ,_xlfn.IFNA(INDEX('Partie 5'!$G$5:$G$28,MATCH($A6,'Partie 5'!$C$5:$C$28,0),1),0) , _xlfn.IFNA(INDEX('Partie 5'!$C$5:$C$28,MATCH($A6,'Partie 5'!$F$5:$F$28,0),1),0),_xlfn.IFNA(INDEX('Partie 5'!$C$5:$C$28,MATCH($A6,'Partie 5'!$G$5:$G$28,0),1),0)) -> 0 | Z6: =SUM(_xlfn.IFNA(INDEX('Partie 5'!$J$5:$J$28,MATCH($A6,'Partie 5'!$B$5:$B$28,0),1),0) ,_xlfn.IFNA(INDEX('Partie 5'!$J$5:$J$28,MATCH($A6,'Partie 5'!$C$5:$C$28,0),1),0) , _xlfn.IFNA(INDEX('Partie 5'!$K$5:$K$28,MATCH($A6,'Partie 5'!$F$5:$F$28,0),1),0), _xlfn.IFNA(INDEX('Partie 5'!$K$5:$K$28,MATCH($A6,'Partie 5'!$G$5:$G$28,0),1),0)) -> 0 | AA6: =SUM(_xlfn.IFNA(INDEX('Partie 5'!$K$5:$K$28,MATCH($A6,'Partie 5'!$B$5:$B$28,0),1),0) ,_xlfn.IFNA(INDEX('Partie 5'!$K$5:$K$28,MATCH($A6,'Partie 5'!$C$5:$C$28,0),1),0) , _xlfn.IFNA(INDEX('Partie 5'!$J$5:$J$28,MATCH($A6,'Partie 5'!$F$5:$F$28,0),1),0), _xlfn.IFNA(INDEX('Partie 5'!$J$5:$J$28,MATCH($A6,'Partie 5'!$G$5:$G$28,0),1),0)) -> 0 | AB6: =SUM(_xlfn.IFNA(INDEX('Partie 6'!$C$5:$C$28,MATCH($A6,'Partie 6'!$B$5:$B$28,0),1),0) , _xlfn.IFNA(INDEX('Partie 6'!$B$5:$B$28,MATCH($A6,'Partie 6'!$C$5:$C$28,0),1),0),_xlfn.IFNA(INDEX('Partie 6'!$F$5:$F$28,MATCH($A6,'Partie 6'!$G$5:$G$28,0),1),0),_xlfn.IFNA(INDEX('Partie 6'!$G$5:$G$28,MATCH($A6,'Partie 6'!$F$5:$F$28,0),1),0)) -> 0 | AC6: =SUM(_xlfn.IFNA(INDEX('Partie 6'!$F$5:$F$28,MATCH($A6,'Partie 6'!$B$5:$B$28,0),1),0) ,_xlfn.IFNA(INDEX('Partie 6'!$F$5:$F$28,MATCH($A6,'Partie 6'!$C$5:$C$28,0),1),0) , _xlfn.IFNA(INDEX('Partie 6'!$B$5:$B$28,MATCH($A6,'Partie 6'!$F$5:$F$28,0),1),0),_xlfn.IFNA(INDEX('Partie 6'!$B$5:$B$28,MATCH($A6,'Partie 6'!$G$5:$G$28,0),1),0)) -> 0 | AD6: =SUM(_xlfn.IFNA(INDEX('Partie 6'!$G$5:$G$28,MATCH($A6,'Partie 6'!$B$5:$B$28,0),1),0) ,_xlfn.IFNA(INDEX('Partie 6'!$G$5:$G$28,MATCH($A6,'Partie 6'!$C$5:$C$28,0),1),0) , _xlfn.IFNA(INDEX('Partie 6'!$C$5:$C$28,MATCH($A6,'Partie 6'!$F$5:$F$28,0),1),0),_xlfn.IFNA(INDEX('Partie 6'!$C$5:$C$28,MATCH($A6,'Partie 6'!$G$5:$G$28,0),1),0)) -> 0 | AE6: =SUM(_xlfn.IFNA(INDEX('Partie 6'!$J$5:$J$28,MATCH($A6,'Partie 6'!$B$5:$B$28,0),1),0) ,_xlfn.IFNA(INDEX('Partie 6'!$J$5:$J$28,MATCH($A6,'Partie 6'!$C$5:$C$28,0),1),0) , _xlfn.IFNA(INDEX('Partie 6'!$K$5:$K$28,MATCH($A6,'Partie 6'!$F$5:$F$28,0),1),0), _xlfn.IFNA(INDEX('Partie 6'!$K$5:$K$28,MATCH($A6,'Partie 6'!$G$5:$G$28,0),1),0)) -> 0 | AF6: =SUM(_xlfn.IFNA(INDEX('Partie 6'!$K$5:$K$28,MATCH($A6,'Partie 6'!$B$5:$B$28,0),1),0) ,_xlfn.IFNA(INDEX('Partie 6'!$K$5:$K$28,MATCH($A6,'Partie 6'!$C$5:$C$28,0),1),0) , _xlfn.IFNA(INDEX('Partie 6'!$J$5:$J$28,MATCH($A6,'Partie 6'!$F$5:$F$28,0),1),0), _xlfn.IFNA(INDEX('Partie 6'!$J$5:$J$28,MATCH($A6,'Partie 6'!$G$5:$G$28,0),1),0)) -> 0 | AG6: =SUM(_xlfn.IFNA(INDEX('Partie 7'!$C$5:$C$28,MATCH($A6,'Partie 7'!$B$5:$B$28,0),1),0) , _xlfn.IFNA(INDEX('Partie 7'!$B$5:$B$28,MATCH($A6,'Partie 7'!$C$5:$C$28,0),1),0),_xlfn.IFNA(INDEX('Partie 7'!$F$5:$F$28,MATCH($A6,'Partie 7'!$G$5:$G$28,0),1),0),_xlfn.IFNA(INDEX('Partie 7'!$G$5:$G$28,MATCH($A6,'Partie 7'!$F$5:$F$28,0),1),0)) -> 0 | AH6: =SUM(_xlfn.IFNA(INDEX('Partie 7'!$F$5:$F$28,MATCH($A6,'Partie 7'!$B$5:$B$28,0),1),0) ,_xlfn.IFNA(INDEX('Partie 7'!$F$5:$F$28,MATCH($A6,'Partie 7'!$C$5:$C$28,0),1),0) , _xlfn.IFNA(INDEX('Partie 7'!$B$5:$B$28,MATCH($A6,'Partie 7'!$F$5:$F$28,0),1),0),_xlfn.IFNA(INDEX('Partie 7'!$B$5:$B$28,MATCH($A6,'Partie 7'!$G$5:$G$28,0),1),0)) -> 0 | AI6: =SUM(_xlfn.IFNA(INDEX('Partie 7'!$G$5:$G$28,MATCH($A6,'Partie 7'!$B$5:$B$28,0),1),0) ,_xlfn.IFNA(INDEX('Partie 7'!$G$5:$G$28,MATCH($A6,'Partie 7'!$C$5:$C$28,0),1),0) , _xlfn.IFNA(INDEX('Partie 7'!$C$5:$C$28,MATCH($A6,'Partie 7'!$F$5:$F$28,0),1),0),_xlfn.IFNA(INDEX('Partie 7'!$C$5:$C$28,MATCH($A6,'Partie 7'!$G$5:$G$28,0),1),0)) -> 0 | AJ6: =SUM(_xlfn.IFNA(INDEX('Partie 7'!$J$5:$J$28,MATCH($A6,'Partie 7'!$B$5:$B$28,0),1),0) ,_xlfn.IFNA(INDEX('Partie 7'!$J$5:$J$28,MATCH($A6,'Partie 7'!$C$5:$C$28,0),1),0) , _xlfn.IFNA(INDEX('Partie 7'!$K$5:$K$28,MATCH($A6,'Partie 7'!$F$5:$F$28,0),1),0), _xlfn.IFNA(INDEX('Partie 7'!$K$5:$K$28,MATCH($A6,'Partie 7'!$G$5:$G$28,0),1),0)) -> 0 | AK6: =SUM(_xlfn.IFNA(INDEX('Partie 7'!$K$5:$K$28,MATCH($A6,'Partie 7'!$B$5:$B$28,0),1),0) ,_xlfn.IFNA(INDEX('Partie 7'!$K$5:$K$28,MATCH($A6,'Partie 7'!$C$5:$C$28,0),1),0) , _xlfn.IFNA(INDEX('Partie 7'!$J$5:$J$28,MATCH($A6,'Partie 7'!$F$5:$F$28,0),1),0), _xlfn.IFNA(INDEX('Partie 7'!$J$5:$J$28,MATCH($A6,'Partie 7'!$G$5:$G$28,0),1),0)) -> 0
